BEGIN:VCALENDAR
VERSION:2.0
PRODID:-//Scarborough Centre for Healthy Communities - ECPv6.15.20//NONSGML v1.0//EN
CALSCALE:GREGORIAN
METHOD:PUBLISH
X-ORIGINAL-URL:https://schcontario.ca
X-WR-CALDESC:Events for Scarborough Centre for Healthy Communities
REFRESH-INTERVAL;VALUE=DURATION:PT1H
X-Robots-Tag:noindex
X-PUBLISHED-TTL:PT1H
BEGIN:VTIMEZONE
TZID:America/Toronto
BEGIN:DAYLIGHT
TZOFFSETFROM:-0500
TZOFFSETTO:-0400
TZNAME:EDT
DTSTART:20250309T070000
END:DAYLIGHT
BEGIN:STANDARD
TZOFFSETFROM:-0400
TZOFFSETTO:-0500
TZNAME:EST
DTSTART:20251102T060000
END:STANDARD
BEGIN:DAYLIGHT
TZOFFSETFROM:-0500
TZOFFSETTO:-0400
TZNAME:EDT
DTSTART:20260308T070000
END:DAYLIGHT
BEGIN:STANDARD
TZOFFSETFROM:-0400
TZOFFSETTO:-0500
TZNAME:EST
DTSTART:20261101T060000
END:STANDARD
BEGIN:DAYLIGHT
TZOFFSETFROM:-0500
TZOFFSETTO:-0400
TZNAME:EDT
DTSTART:20270314T070000
END:DAYLIGHT
BEGIN:STANDARD
TZOFFSETFROM:-0400
TZOFFSETTO:-0500
TZNAME:EST
DTSTART:20271107T060000
END:STANDARD
END:VTIMEZONE
BEGIN:VTIMEZONE
TZID:UTC
BEGIN:STANDARD
TZOFFSETFROM:+0000
TZOFFSETTO:+0000
TZNAME:UTC
DTSTART:20250101T000000
END:STANDARD
END:VTIMEZONE
BEGIN:VEVENT
DTSTART;TZID=America/Toronto:20261119T180000
DTEND;TZID=America/Toronto:20261119T190000
DTSTAMP:20260420T005207
CREATED:20250806T135120Z
LAST-MODIFIED:20250915T012240Z
UID:10054269-1795111200-1795114800@schcontario.ca
SUMMARY:Social Sewing Drop-In
DESCRIPTION:Registration required: No \n\n\n\nDescription:  To gain experience and learn to sew for the first time \n\n\n\nEligibility: 16+ \n\n\n\nFrequency:  Every 3rd & 4th Thursday \n\n\n\nContact Info: 416-642-9445 Ext 7555 \n\n\n\nRegistration Email: scarbenvasc@gmail.com
URL:https://schcontario.ca/event/social-sewing-drop-in/2026-11-19/
LOCATION:The Hub – Mid Scarborough\, 2660 Eglinton Ave East\, Scarborough\, Ontario\, M1K 2S3\, Canada
CATEGORIES:Hub Mid Scarborough
ORGANIZER;CN="The Hub Mid-Scarborough":MAILTO:hubadmin@schcontario.ca 
END:VEVENT
BEGIN:VEVENT
DTSTART;TZID=UTC:20261123T130000
DTEND;TZID=UTC:20261123T160000
DTSTAMP:20260420T005207
CREATED:20250506T170019Z
LAST-MODIFIED:20250506T170028Z
UID:10023175-1795438800-1795449600@schcontario.ca
SUMMARY:Afghan Seniors Program
DESCRIPTION:Registration is not required.  This is a drop-in program. \n\n\n\nDescription:  \n\n\n\nThis program aims to assist Afghan seniors with peer support and social engagement\, and provide innovative ways for seniors to continue to play an important role in their community.   \n\n\n\nEligibility: \n\n\n\nAdults/seniors \n\n\n\nContact Info: \n\n\n\nEmail hubadmin@schcontario.ca  or call 416-642-9445 ext. 7555
URL:https://schcontario.ca/event/afghan-seniors-program-2/2026-11-23/
LOCATION:The Hub – Mid Scarborough\, 2660 Eglinton Ave East\, Scarborough\, Ontario\, M1K 2S3\, Canada
CATEGORIES:Hub Mid Scarborough
ORGANIZER;CN="The Hub Mid-Scarborough":MAILTO:hubadmin@schcontario.ca 
END:VEVENT
BEGIN:VEVENT
DTSTART;TZID=UTC:20261124T180000
DTEND;TZID=UTC:20261124T193000
DTSTAMP:20260420T005207
CREATED:20250915T005153Z
LAST-MODIFIED:20250915T012113Z
UID:10054577-1795543200-1795548600@schcontario.ca
SUMMARY:Yoga
DESCRIPTION:Registration is optional\, drop-ins are welcome.  \n\n\n\nDescription:  \n\n\n\nWeekly yoga class \n\n\n\nEligibility: \n\n\n\n16 years or older\, dress code of white top and black pants\, bring your own yoga mat. \n\n\n\nContact Info:  \n\n\n\nEmail info@vasantham.ca or call 416-847-4172 for more information or to register.
URL:https://schcontario.ca/event/yoga/2026-11-24/
LOCATION:The Hub – Mid Scarborough\, 2660 Eglinton Ave East\, Scarborough\, Ontario\, M1K 2S3\, Canada
CATEGORIES:Hub Mid Scarborough
END:VEVENT
BEGIN:VEVENT
DTSTART;TZID=America/Toronto:20261126T180000
DTEND;TZID=America/Toronto:20261126T190000
DTSTAMP:20260420T005207
CREATED:20250915T005414Z
LAST-MODIFIED:20250915T005418Z
UID:10054286-1795716000-1795719600@schcontario.ca
SUMMARY:Social Sewing Drop-in
DESCRIPTION:Registration required: No \n\n\n\nDescription:  To gain experience and learn to sew for the first time \n\n\n\nEligibility: 16+ \n\n\n\nFrequency:  Every 3rd & 4th Thursday \n\n\n\nContact Info: 416-642-9445 Ext 7555 \n\n\n\nRegistration Email: scarbenvasc@gmail.com
URL:https://schcontario.ca/event/social-sewing-drop-in-3/2026-11-26/
LOCATION:The Hub – Mid Scarborough\, 2660 Eglinton Ave East\, Scarborough\, Ontario\, M1K 2S3\, Canada
CATEGORIES:Hub Mid Scarborough
ORGANIZER;CN="The Hub Mid-Scarborough":MAILTO:hubadmin@schcontario.ca 
END:VEVENT
BEGIN:VEVENT
DTSTART;TZID=UTC:20261130T130000
DTEND;TZID=UTC:20261130T160000
DTSTAMP:20260420T005207
CREATED:20250506T170019Z
LAST-MODIFIED:20250506T170028Z
UID:10023176-1796043600-1796054400@schcontario.ca
SUMMARY:Afghan Seniors Program
DESCRIPTION:Registration is not required.  This is a drop-in program. \n\n\n\nDescription:  \n\n\n\nThis program aims to assist Afghan seniors with peer support and social engagement\, and provide innovative ways for seniors to continue to play an important role in their community.   \n\n\n\nEligibility: \n\n\n\nAdults/seniors \n\n\n\nContact Info: \n\n\n\nEmail hubadmin@schcontario.ca  or call 416-642-9445 ext. 7555
URL:https://schcontario.ca/event/afghan-seniors-program-2/2026-11-30/
LOCATION:The Hub – Mid Scarborough\, 2660 Eglinton Ave East\, Scarborough\, Ontario\, M1K 2S3\, Canada
CATEGORIES:Hub Mid Scarborough
ORGANIZER;CN="The Hub Mid-Scarborough":MAILTO:hubadmin@schcontario.ca 
END:VEVENT
BEGIN:VEVENT
DTSTART;TZID=UTC:20261201T180000
DTEND;TZID=UTC:20261201T193000
DTSTAMP:20260420T005207
CREATED:20250915T005153Z
LAST-MODIFIED:20250915T012113Z
UID:10054578-1796148000-1796153400@schcontario.ca
SUMMARY:Yoga
DESCRIPTION:Registration is optional\, drop-ins are welcome.  \n\n\n\nDescription:  \n\n\n\nWeekly yoga class \n\n\n\nEligibility: \n\n\n\n16 years or older\, dress code of white top and black pants\, bring your own yoga mat. \n\n\n\nContact Info:  \n\n\n\nEmail info@vasantham.ca or call 416-847-4172 for more information or to register.
URL:https://schcontario.ca/event/yoga/2026-12-01/
LOCATION:The Hub – Mid Scarborough\, 2660 Eglinton Ave East\, Scarborough\, Ontario\, M1K 2S3\, Canada
CATEGORIES:Hub Mid Scarborough
END:VEVENT
BEGIN:VEVENT
DTSTART;TZID=America/Toronto:20261203T180000
DTEND;TZID=America/Toronto:20261203T190000
DTSTAMP:20260420T005207
CREATED:20250806T134055Z
LAST-MODIFIED:20250806T135907Z
UID:10054336-1796320800-1796324400@schcontario.ca
SUMMARY:Learn to Sew
DESCRIPTION:Registration required:  Yes/ we do welcome drop-in if numbers are low on the day of. \n\n\n\nDescription:  Ask questions\, share knowledge\, collaborate with others and learn how to use the sewing machine \n\n\n\nEligibility: 16+ \n\n\n\nFrequency:  Every  1st & 2nd Thursday \n\n\n\nStart date: ongoing \n\n\n\nContact Info: 416-642-9445 Ext 7555 \n\n\n\nRegistration Email: scarbenvasc@gmail.com
URL:https://schcontario.ca/event/learn-to-sew/2026-12-03/
LOCATION:The Hub – Mid Scarborough\, 2660 Eglinton Ave East\, Scarborough\, Ontario\, M1K 2S3\, Canada
CATEGORIES:Hub Mid Scarborough
ORGANIZER;CN="The Hub Mid-Scarborough":MAILTO:hubadmin@schcontario.ca 
END:VEVENT
BEGIN:VEVENT
DTSTART;TZID=America/Toronto:20261203T180000
DTEND;TZID=America/Toronto:20261203T190000
DTSTAMP:20260420T005207
CREATED:20250806T135716Z
LAST-MODIFIED:20250806T135720Z
UID:10054319-1796320800-1796324400@schcontario.ca
SUMMARY:Learn to Sew
DESCRIPTION:Registration required:  Yes/ we do welcome drop-in if numbers are low on the day of. \n\n\n\nDescription:  Ask questions\, share knowledge\, collaborate with others and learn how to use the sewing machine \n\n\n\nEligibility: 16+ \n\n\n\nFrequency:  Every  1st & 2nd Thursday \n\n\n\nStart date: ongoing \n\n\n\nContact Info: 416-642-9445 Ext 7555 \n\n\n\nRegistration Email: scarbenvasc@gmail.com
URL:https://schcontario.ca/event/learn-to-sew-3/2026-12-03/
LOCATION:The Hub – Mid Scarborough\, 2660 Eglinton Ave East\, Scarborough\, Ontario\, M1K 2S3\, Canada
CATEGORIES:Hub Mid Scarborough
ORGANIZER;CN="The Hub Mid-Scarborough":MAILTO:hubadmin@schcontario.ca 
END:VEVENT
BEGIN:VEVENT
DTSTART;TZID=UTC:20261207T130000
DTEND;TZID=UTC:20261207T160000
DTSTAMP:20260420T005207
CREATED:20250506T170019Z
LAST-MODIFIED:20250506T170028Z
UID:10023177-1796648400-1796659200@schcontario.ca
SUMMARY:Afghan Seniors Program
DESCRIPTION:Registration is not required.  This is a drop-in program. \n\n\n\nDescription:  \n\n\n\nThis program aims to assist Afghan seniors with peer support and social engagement\, and provide innovative ways for seniors to continue to play an important role in their community.   \n\n\n\nEligibility: \n\n\n\nAdults/seniors \n\n\n\nContact Info: \n\n\n\nEmail hubadmin@schcontario.ca  or call 416-642-9445 ext. 7555
URL:https://schcontario.ca/event/afghan-seniors-program-2/2026-12-07/
LOCATION:The Hub – Mid Scarborough\, 2660 Eglinton Ave East\, Scarborough\, Ontario\, M1K 2S3\, Canada
CATEGORIES:Hub Mid Scarborough
ORGANIZER;CN="The Hub Mid-Scarborough":MAILTO:hubadmin@schcontario.ca 
END:VEVENT
BEGIN:VEVENT
DTSTART;TZID=UTC:20261208T180000
DTEND;TZID=UTC:20261208T193000
DTSTAMP:20260420T005207
CREATED:20250915T005153Z
LAST-MODIFIED:20250915T012113Z
UID:10054579-1796752800-1796758200@schcontario.ca
SUMMARY:Yoga
DESCRIPTION:Registration is optional\, drop-ins are welcome.  \n\n\n\nDescription:  \n\n\n\nWeekly yoga class \n\n\n\nEligibility: \n\n\n\n16 years or older\, dress code of white top and black pants\, bring your own yoga mat. \n\n\n\nContact Info:  \n\n\n\nEmail info@vasantham.ca or call 416-847-4172 for more information or to register.
URL:https://schcontario.ca/event/yoga/2026-12-08/
LOCATION:The Hub – Mid Scarborough\, 2660 Eglinton Ave East\, Scarborough\, Ontario\, M1K 2S3\, Canada
CATEGORIES:Hub Mid Scarborough
END:VEVENT
BEGIN:VEVENT
DTSTART;TZID=America/Toronto:20261210T180000
DTEND;TZID=America/Toronto:20261210T190000
DTSTAMP:20260420T005207
CREATED:20250806T134415Z
LAST-MODIFIED:20250806T135459Z
UID:10054303-1796925600-1796929200@schcontario.ca
SUMMARY:Learn to Sew
DESCRIPTION:Registration required:  Yes/ we do welcome drop-in if numbers are low on the day of. \n\n\n\nDescription:  Ask questions\, share knowledge\, collaborate with others and learn how to use the sewing machine \n\n\n\nEligibility: 16+ \n\n\n\nFrequency:  Every  1st & 2nd Thursday \n\n\n\nContact Info: 416-642-9445 Ext 7555 \n\n\n\nRegistration Email: scarbenvasc@gmail.com
URL:https://schcontario.ca/event/learn-to-sew-2/2026-12-10/
LOCATION:The Hub – Mid Scarborough\, 2660 Eglinton Ave East\, Scarborough\, Ontario\, M1K 2S3\, Canada
CATEGORIES:Hub Mid Scarborough
ORGANIZER;CN="The Hub Mid-Scarborough":MAILTO:hubadmin@schcontario.ca 
END:VEVENT
BEGIN:VEVENT
DTSTART;TZID=UTC:20261214T130000
DTEND;TZID=UTC:20261214T160000
DTSTAMP:20260420T005207
CREATED:20250506T170019Z
LAST-MODIFIED:20250506T170028Z
UID:10023178-1797253200-1797264000@schcontario.ca
SUMMARY:Afghan Seniors Program
DESCRIPTION:Registration is not required.  This is a drop-in program. \n\n\n\nDescription:  \n\n\n\nThis program aims to assist Afghan seniors with peer support and social engagement\, and provide innovative ways for seniors to continue to play an important role in their community.   \n\n\n\nEligibility: \n\n\n\nAdults/seniors \n\n\n\nContact Info: \n\n\n\nEmail hubadmin@schcontario.ca  or call 416-642-9445 ext. 7555
URL:https://schcontario.ca/event/afghan-seniors-program-2/2026-12-14/
LOCATION:The Hub – Mid Scarborough\, 2660 Eglinton Ave East\, Scarborough\, Ontario\, M1K 2S3\, Canada
CATEGORIES:Hub Mid Scarborough
ORGANIZER;CN="The Hub Mid-Scarborough":MAILTO:hubadmin@schcontario.ca 
END:VEVENT
BEGIN:VEVENT
DTSTART;TZID=UTC:20261215T180000
DTEND;TZID=UTC:20261215T193000
DTSTAMP:20260420T005207
CREATED:20250915T005153Z
LAST-MODIFIED:20250915T012113Z
UID:10054580-1797357600-1797363000@schcontario.ca
SUMMARY:Yoga
DESCRIPTION:Registration is optional\, drop-ins are welcome.  \n\n\n\nDescription:  \n\n\n\nWeekly yoga class \n\n\n\nEligibility: \n\n\n\n16 years or older\, dress code of white top and black pants\, bring your own yoga mat. \n\n\n\nContact Info:  \n\n\n\nEmail info@vasantham.ca or call 416-847-4172 for more information or to register.
URL:https://schcontario.ca/event/yoga/2026-12-15/
LOCATION:The Hub – Mid Scarborough\, 2660 Eglinton Ave East\, Scarborough\, Ontario\, M1K 2S3\, Canada
CATEGORIES:Hub Mid Scarborough
END:VEVENT
BEGIN:VEVENT
DTSTART;TZID=America/Toronto:20261217T180000
DTEND;TZID=America/Toronto:20261217T190000
DTSTAMP:20260420T005207
CREATED:20250806T135120Z
LAST-MODIFIED:20250915T012240Z
UID:10054270-1797530400-1797534000@schcontario.ca
SUMMARY:Social Sewing Drop-In
DESCRIPTION:Registration required: No \n\n\n\nDescription:  To gain experience and learn to sew for the first time \n\n\n\nEligibility: 16+ \n\n\n\nFrequency:  Every 3rd & 4th Thursday \n\n\n\nContact Info: 416-642-9445 Ext 7555 \n\n\n\nRegistration Email: scarbenvasc@gmail.com
URL:https://schcontario.ca/event/social-sewing-drop-in/2026-12-17/
LOCATION:The Hub – Mid Scarborough\, 2660 Eglinton Ave East\, Scarborough\, Ontario\, M1K 2S3\, Canada
CATEGORIES:Hub Mid Scarborough
ORGANIZER;CN="The Hub Mid-Scarborough":MAILTO:hubadmin@schcontario.ca 
END:VEVENT
BEGIN:VEVENT
DTSTART;TZID=UTC:20261221T130000
DTEND;TZID=UTC:20261221T160000
DTSTAMP:20260420T005207
CREATED:20250506T170019Z
LAST-MODIFIED:20250506T170028Z
UID:10023179-1797858000-1797868800@schcontario.ca
SUMMARY:Afghan Seniors Program
DESCRIPTION:Registration is not required.  This is a drop-in program. \n\n\n\nDescription:  \n\n\n\nThis program aims to assist Afghan seniors with peer support and social engagement\, and provide innovative ways for seniors to continue to play an important role in their community.   \n\n\n\nEligibility: \n\n\n\nAdults/seniors \n\n\n\nContact Info: \n\n\n\nEmail hubadmin@schcontario.ca  or call 416-642-9445 ext. 7555
URL:https://schcontario.ca/event/afghan-seniors-program-2/2026-12-21/
LOCATION:The Hub – Mid Scarborough\, 2660 Eglinton Ave East\, Scarborough\, Ontario\, M1K 2S3\, Canada
CATEGORIES:Hub Mid Scarborough
ORGANIZER;CN="The Hub Mid-Scarborough":MAILTO:hubadmin@schcontario.ca 
END:VEVENT
BEGIN:VEVENT
DTSTART;TZID=UTC:20261222T180000
DTEND;TZID=UTC:20261222T193000
DTSTAMP:20260420T005207
CREATED:20250915T005153Z
LAST-MODIFIED:20250915T012113Z
UID:10054581-1797962400-1797967800@schcontario.ca
SUMMARY:Yoga
DESCRIPTION:Registration is optional\, drop-ins are welcome.  \n\n\n\nDescription:  \n\n\n\nWeekly yoga class \n\n\n\nEligibility: \n\n\n\n16 years or older\, dress code of white top and black pants\, bring your own yoga mat. \n\n\n\nContact Info:  \n\n\n\nEmail info@vasantham.ca or call 416-847-4172 for more information or to register.
URL:https://schcontario.ca/event/yoga/2026-12-22/
LOCATION:The Hub – Mid Scarborough\, 2660 Eglinton Ave East\, Scarborough\, Ontario\, M1K 2S3\, Canada
CATEGORIES:Hub Mid Scarborough
END:VEVENT
BEGIN:VEVENT
DTSTART;TZID=UTC:20261228T130000
DTEND;TZID=UTC:20261228T160000
DTSTAMP:20260420T005207
CREATED:20250506T170019Z
LAST-MODIFIED:20250506T170028Z
UID:10023180-1798462800-1798473600@schcontario.ca
SUMMARY:Afghan Seniors Program
DESCRIPTION:Registration is not required.  This is a drop-in program. \n\n\n\nDescription:  \n\n\n\nThis program aims to assist Afghan seniors with peer support and social engagement\, and provide innovative ways for seniors to continue to play an important role in their community.   \n\n\n\nEligibility: \n\n\n\nAdults/seniors \n\n\n\nContact Info: \n\n\n\nEmail hubadmin@schcontario.ca  or call 416-642-9445 ext. 7555
URL:https://schcontario.ca/event/afghan-seniors-program-2/2026-12-28/
LOCATION:The Hub – Mid Scarborough\, 2660 Eglinton Ave East\, Scarborough\, Ontario\, M1K 2S3\, Canada
CATEGORIES:Hub Mid Scarborough
ORGANIZER;CN="The Hub Mid-Scarborough":MAILTO:hubadmin@schcontario.ca 
END:VEVENT
BEGIN:VEVENT
DTSTART;TZID=UTC:20261229T180000
DTEND;TZID=UTC:20261229T193000
DTSTAMP:20260420T005207
CREATED:20250915T005153Z
LAST-MODIFIED:20250915T012113Z
UID:10054582-1798567200-1798572600@schcontario.ca
SUMMARY:Yoga
DESCRIPTION:Registration is optional\, drop-ins are welcome.  \n\n\n\nDescription:  \n\n\n\nWeekly yoga class \n\n\n\nEligibility: \n\n\n\n16 years or older\, dress code of white top and black pants\, bring your own yoga mat. \n\n\n\nContact Info:  \n\n\n\nEmail info@vasantham.ca or call 416-847-4172 for more information or to register.
URL:https://schcontario.ca/event/yoga/2026-12-29/
LOCATION:The Hub – Mid Scarborough\, 2660 Eglinton Ave East\, Scarborough\, Ontario\, M1K 2S3\, Canada
CATEGORIES:Hub Mid Scarborough
END:VEVENT
BEGIN:VEVENT
DTSTART;TZID=UTC:20270104T130000
DTEND;TZID=UTC:20270104T160000
DTSTAMP:20260420T005207
CREATED:20250506T170019Z
LAST-MODIFIED:20250506T170028Z
UID:10023181-1799067600-1799078400@schcontario.ca
SUMMARY:Afghan Seniors Program
DESCRIPTION:Registration is not required.  This is a drop-in program. \n\n\n\nDescription:  \n\n\n\nThis program aims to assist Afghan seniors with peer support and social engagement\, and provide innovative ways for seniors to continue to play an important role in their community.   \n\n\n\nEligibility: \n\n\n\nAdults/seniors \n\n\n\nContact Info: \n\n\n\nEmail hubadmin@schcontario.ca  or call 416-642-9445 ext. 7555
URL:https://schcontario.ca/event/afghan-seniors-program-2/2027-01-04/
LOCATION:The Hub – Mid Scarborough\, 2660 Eglinton Ave East\, Scarborough\, Ontario\, M1K 2S3\, Canada
CATEGORIES:Hub Mid Scarborough
ORGANIZER;CN="The Hub Mid-Scarborough":MAILTO:hubadmin@schcontario.ca 
END:VEVENT
BEGIN:VEVENT
DTSTART;TZID=UTC:20270105T180000
DTEND;TZID=UTC:20270105T193000
DTSTAMP:20260420T005207
CREATED:20250915T005153Z
LAST-MODIFIED:20250915T012113Z
UID:10054583-1799172000-1799177400@schcontario.ca
SUMMARY:Yoga
DESCRIPTION:Registration is optional\, drop-ins are welcome.  \n\n\n\nDescription:  \n\n\n\nWeekly yoga class \n\n\n\nEligibility: \n\n\n\n16 years or older\, dress code of white top and black pants\, bring your own yoga mat. \n\n\n\nContact Info:  \n\n\n\nEmail info@vasantham.ca or call 416-847-4172 for more information or to register.
URL:https://schcontario.ca/event/yoga/2027-01-05/
LOCATION:The Hub – Mid Scarborough\, 2660 Eglinton Ave East\, Scarborough\, Ontario\, M1K 2S3\, Canada
CATEGORIES:Hub Mid Scarborough
END:VEVENT
BEGIN:VEVENT
DTSTART;TZID=UTC:20270111T130000
DTEND;TZID=UTC:20270111T160000
DTSTAMP:20260420T005207
CREATED:20250506T170019Z
LAST-MODIFIED:20250506T170028Z
UID:10023182-1799672400-1799683200@schcontario.ca
SUMMARY:Afghan Seniors Program
DESCRIPTION:Registration is not required.  This is a drop-in program. \n\n\n\nDescription:  \n\n\n\nThis program aims to assist Afghan seniors with peer support and social engagement\, and provide innovative ways for seniors to continue to play an important role in their community.   \n\n\n\nEligibility: \n\n\n\nAdults/seniors \n\n\n\nContact Info: \n\n\n\nEmail hubadmin@schcontario.ca  or call 416-642-9445 ext. 7555
URL:https://schcontario.ca/event/afghan-seniors-program-2/2027-01-11/
LOCATION:The Hub – Mid Scarborough\, 2660 Eglinton Ave East\, Scarborough\, Ontario\, M1K 2S3\, Canada
CATEGORIES:Hub Mid Scarborough
ORGANIZER;CN="The Hub Mid-Scarborough":MAILTO:hubadmin@schcontario.ca 
END:VEVENT
BEGIN:VEVENT
DTSTART;TZID=UTC:20270112T180000
DTEND;TZID=UTC:20270112T193000
DTSTAMP:20260420T005207
CREATED:20250915T005153Z
LAST-MODIFIED:20250915T012113Z
UID:10054584-1799776800-1799782200@schcontario.ca
SUMMARY:Yoga
DESCRIPTION:Registration is optional\, drop-ins are welcome.  \n\n\n\nDescription:  \n\n\n\nWeekly yoga class \n\n\n\nEligibility: \n\n\n\n16 years or older\, dress code of white top and black pants\, bring your own yoga mat. \n\n\n\nContact Info:  \n\n\n\nEmail info@vasantham.ca or call 416-847-4172 for more information or to register.
URL:https://schcontario.ca/event/yoga/2027-01-12/
LOCATION:The Hub – Mid Scarborough\, 2660 Eglinton Ave East\, Scarborough\, Ontario\, M1K 2S3\, Canada
CATEGORIES:Hub Mid Scarborough
END:VEVENT
BEGIN:VEVENT
DTSTART;TZID=UTC:20270118T130000
DTEND;TZID=UTC:20270118T160000
DTSTAMP:20260420T005207
CREATED:20250506T170019Z
LAST-MODIFIED:20250506T170028Z
UID:10023183-1800277200-1800288000@schcontario.ca
SUMMARY:Afghan Seniors Program
DESCRIPTION:Registration is not required.  This is a drop-in program. \n\n\n\nDescription:  \n\n\n\nThis program aims to assist Afghan seniors with peer support and social engagement\, and provide innovative ways for seniors to continue to play an important role in their community.   \n\n\n\nEligibility: \n\n\n\nAdults/seniors \n\n\n\nContact Info: \n\n\n\nEmail hubadmin@schcontario.ca  or call 416-642-9445 ext. 7555
URL:https://schcontario.ca/event/afghan-seniors-program-2/2027-01-18/
LOCATION:The Hub – Mid Scarborough\, 2660 Eglinton Ave East\, Scarborough\, Ontario\, M1K 2S3\, Canada
CATEGORIES:Hub Mid Scarborough
ORGANIZER;CN="The Hub Mid-Scarborough":MAILTO:hubadmin@schcontario.ca 
END:VEVENT
BEGIN:VEVENT
DTSTART;TZID=UTC:20270119T180000
DTEND;TZID=UTC:20270119T193000
DTSTAMP:20260420T005207
CREATED:20250915T005153Z
LAST-MODIFIED:20250915T012113Z
UID:10054585-1800381600-1800387000@schcontario.ca
SUMMARY:Yoga
DESCRIPTION:Registration is optional\, drop-ins are welcome.  \n\n\n\nDescription:  \n\n\n\nWeekly yoga class \n\n\n\nEligibility: \n\n\n\n16 years or older\, dress code of white top and black pants\, bring your own yoga mat. \n\n\n\nContact Info:  \n\n\n\nEmail info@vasantham.ca or call 416-847-4172 for more information or to register.
URL:https://schcontario.ca/event/yoga/2027-01-19/
LOCATION:The Hub – Mid Scarborough\, 2660 Eglinton Ave East\, Scarborough\, Ontario\, M1K 2S3\, Canada
CATEGORIES:Hub Mid Scarborough
END:VEVENT
BEGIN:VEVENT
DTSTART;TZID=UTC:20270125T130000
DTEND;TZID=UTC:20270125T160000
DTSTAMP:20260420T005207
CREATED:20250506T170019Z
LAST-MODIFIED:20250506T170028Z
UID:10023184-1800882000-1800892800@schcontario.ca
SUMMARY:Afghan Seniors Program
DESCRIPTION:Registration is not required.  This is a drop-in program. \n\n\n\nDescription:  \n\n\n\nThis program aims to assist Afghan seniors with peer support and social engagement\, and provide innovative ways for seniors to continue to play an important role in their community.   \n\n\n\nEligibility: \n\n\n\nAdults/seniors \n\n\n\nContact Info: \n\n\n\nEmail hubadmin@schcontario.ca  or call 416-642-9445 ext. 7555
URL:https://schcontario.ca/event/afghan-seniors-program-2/2027-01-25/
LOCATION:The Hub – Mid Scarborough\, 2660 Eglinton Ave East\, Scarborough\, Ontario\, M1K 2S3\, Canada
CATEGORIES:Hub Mid Scarborough
ORGANIZER;CN="The Hub Mid-Scarborough":MAILTO:hubadmin@schcontario.ca 
END:VEVENT
BEGIN:VEVENT
DTSTART;TZID=UTC:20270126T180000
DTEND;TZID=UTC:20270126T193000
DTSTAMP:20260420T005207
CREATED:20250915T005153Z
LAST-MODIFIED:20250915T012113Z
UID:10054586-1800986400-1800991800@schcontario.ca
SUMMARY:Yoga
DESCRIPTION:Registration is optional\, drop-ins are welcome.  \n\n\n\nDescription:  \n\n\n\nWeekly yoga class \n\n\n\nEligibility: \n\n\n\n16 years or older\, dress code of white top and black pants\, bring your own yoga mat. \n\n\n\nContact Info:  \n\n\n\nEmail info@vasantham.ca or call 416-847-4172 for more information or to register.
URL:https://schcontario.ca/event/yoga/2027-01-26/
LOCATION:The Hub – Mid Scarborough\, 2660 Eglinton Ave East\, Scarborough\, Ontario\, M1K 2S3\, Canada
CATEGORIES:Hub Mid Scarborough
END:VEVENT
BEGIN:VEVENT
DTSTART;TZID=UTC:20270201T130000
DTEND;TZID=UTC:20270201T160000
DTSTAMP:20260420T005207
CREATED:20250506T170019Z
LAST-MODIFIED:20250506T170028Z
UID:10023185-1801486800-1801497600@schcontario.ca
SUMMARY:Afghan Seniors Program
DESCRIPTION:Registration is not required.  This is a drop-in program. \n\n\n\nDescription:  \n\n\n\nThis program aims to assist Afghan seniors with peer support and social engagement\, and provide innovative ways for seniors to continue to play an important role in their community.   \n\n\n\nEligibility: \n\n\n\nAdults/seniors \n\n\n\nContact Info: \n\n\n\nEmail hubadmin@schcontario.ca  or call 416-642-9445 ext. 7555
URL:https://schcontario.ca/event/afghan-seniors-program-2/2027-02-01/
LOCATION:The Hub – Mid Scarborough\, 2660 Eglinton Ave East\, Scarborough\, Ontario\, M1K 2S3\, Canada
CATEGORIES:Hub Mid Scarborough
ORGANIZER;CN="The Hub Mid-Scarborough":MAILTO:hubadmin@schcontario.ca 
END:VEVENT
BEGIN:VEVENT
DTSTART;TZID=UTC:20270202T180000
DTEND;TZID=UTC:20270202T193000
DTSTAMP:20260420T005207
CREATED:20250915T005153Z
LAST-MODIFIED:20250915T012113Z
UID:10054587-1801591200-1801596600@schcontario.ca
SUMMARY:Yoga
DESCRIPTION:Registration is optional\, drop-ins are welcome.  \n\n\n\nDescription:  \n\n\n\nWeekly yoga class \n\n\n\nEligibility: \n\n\n\n16 years or older\, dress code of white top and black pants\, bring your own yoga mat. \n\n\n\nContact Info:  \n\n\n\nEmail info@vasantham.ca or call 416-847-4172 for more information or to register.
URL:https://schcontario.ca/event/yoga/2027-02-02/
LOCATION:The Hub – Mid Scarborough\, 2660 Eglinton Ave East\, Scarborough\, Ontario\, M1K 2S3\, Canada
CATEGORIES:Hub Mid Scarborough
END:VEVENT
BEGIN:VEVENT
DTSTART;TZID=UTC:20270208T130000
DTEND;TZID=UTC:20270208T160000
DTSTAMP:20260420T005207
CREATED:20250506T170019Z
LAST-MODIFIED:20250506T170028Z
UID:10023186-1802091600-1802102400@schcontario.ca
SUMMARY:Afghan Seniors Program
DESCRIPTION:Registration is not required.  This is a drop-in program. \n\n\n\nDescription:  \n\n\n\nThis program aims to assist Afghan seniors with peer support and social engagement\, and provide innovative ways for seniors to continue to play an important role in their community.   \n\n\n\nEligibility: \n\n\n\nAdults/seniors \n\n\n\nContact Info: \n\n\n\nEmail hubadmin@schcontario.ca  or call 416-642-9445 ext. 7555
URL:https://schcontario.ca/event/afghan-seniors-program-2/2027-02-08/
LOCATION:The Hub – Mid Scarborough\, 2660 Eglinton Ave East\, Scarborough\, Ontario\, M1K 2S3\, Canada
CATEGORIES:Hub Mid Scarborough
ORGANIZER;CN="The Hub Mid-Scarborough":MAILTO:hubadmin@schcontario.ca 
END:VEVENT
BEGIN:VEVENT
DTSTART;TZID=UTC:20270209T180000
DTEND;TZID=UTC:20270209T193000
DTSTAMP:20260420T005207
CREATED:20250915T005153Z
LAST-MODIFIED:20250915T012113Z
UID:10054588-1802196000-1802201400@schcontario.ca
SUMMARY:Yoga
DESCRIPTION:Registration is optional\, drop-ins are welcome.  \n\n\n\nDescription:  \n\n\n\nWeekly yoga class \n\n\n\nEligibility: \n\n\n\n16 years or older\, dress code of white top and black pants\, bring your own yoga mat. \n\n\n\nContact Info:  \n\n\n\nEmail info@vasantham.ca or call 416-847-4172 for more information or to register.
URL:https://schcontario.ca/event/yoga/2027-02-09/
LOCATION:The Hub – Mid Scarborough\, 2660 Eglinton Ave East\, Scarborough\, Ontario\, M1K 2S3\, Canada
CATEGORIES:Hub Mid Scarborough
END:VEVENT
END:VCALENDAR