BEGIN:VCALENDAR
VERSION:2.0
PRODID:-//Scarborough Centre for Healthy Communities - ECPv6.15.20//NONSGML v1.0//EN
CALSCALE:GREGORIAN
METHOD:PUBLISH
X-WR-CALNAME:Scarborough Centre for Healthy Communities
X-ORIGINAL-URL:https://schcontario.ca
X-WR-CALDESC:Events for Scarborough Centre for Healthy Communities
REFRESH-INTERVAL;VALUE=DURATION:PT1H
X-Robots-Tag:noindex
X-PUBLISHED-TTL:PT1H
BEGIN:VTIMEZONE
TZID:UTC
BEGIN:STANDARD
TZOFFSETFROM:+0000
TZOFFSETTO:+0000
TZNAME:UTC
DTSTART:20240101T000000
END:STANDARD
END:VTIMEZONE
BEGIN:VTIMEZONE
TZID:America/Toronto
BEGIN:DAYLIGHT
TZOFFSETFROM:-0500
TZOFFSETTO:-0400
TZNAME:EDT
DTSTART:20240310T070000
END:DAYLIGHT
BEGIN:STANDARD
TZOFFSETFROM:-0400
TZOFFSETTO:-0500
TZNAME:EST
DTSTART:20241103T060000
END:STANDARD
BEGIN:DAYLIGHT
TZOFFSETFROM:-0500
TZOFFSETTO:-0400
TZNAME:EDT
DTSTART:20250309T070000
END:DAYLIGHT
BEGIN:STANDARD
TZOFFSETFROM:-0400
TZOFFSETTO:-0500
TZNAME:EST
DTSTART:20251102T060000
END:STANDARD
BEGIN:DAYLIGHT
TZOFFSETFROM:-0500
TZOFFSETTO:-0400
TZNAME:EDT
DTSTART:20260308T070000
END:DAYLIGHT
BEGIN:STANDARD
TZOFFSETFROM:-0400
TZOFFSETTO:-0500
TZNAME:EST
DTSTART:20261101T060000
END:STANDARD
BEGIN:DAYLIGHT
TZOFFSETFROM:-0500
TZOFFSETTO:-0400
TZNAME:EDT
DTSTART:20270314T070000
END:DAYLIGHT
BEGIN:STANDARD
TZOFFSETFROM:-0400
TZOFFSETTO:-0500
TZNAME:EST
DTSTART:20271107T060000
END:STANDARD
END:VTIMEZONE
BEGIN:VEVENT
DTSTART;TZID=UTC:20260127T180000
DTEND;TZID=UTC:20260127T193000
DTSTAMP:20260419T181301
CREATED:20250915T005153Z
LAST-MODIFIED:20250915T012113Z
UID:10054534-1769536800-1769542200@schcontario.ca
SUMMARY:Yoga
DESCRIPTION:Registration is optional\, drop-ins are welcome.  \n\n\n\nDescription:  \n\n\n\nWeekly yoga class \n\n\n\nEligibility: \n\n\n\n16 years or older\, dress code of white top and black pants\, bring your own yoga mat. \n\n\n\nContact Info:  \n\n\n\nEmail info@vasantham.ca or call 416-847-4172 for more information or to register.
URL:https://schcontario.ca/event/yoga/2026-01-27/
LOCATION:The Hub – Mid Scarborough\, 2660 Eglinton Ave East\, Scarborough\, Ontario\, M1K 2S3\, Canada
CATEGORIES:Hub Mid Scarborough
END:VEVENT
BEGIN:VEVENT
DTSTART;TZID=UTC:20260126T130000
DTEND;TZID=UTC:20260126T160000
DTSTAMP:20260419T181301
CREATED:20250506T170019Z
LAST-MODIFIED:20250506T170028Z
UID:10023132-1769432400-1769443200@schcontario.ca
SUMMARY:Afghan Seniors Program
DESCRIPTION:Registration is not required.  This is a drop-in program. \n\n\n\nDescription:  \n\n\n\nThis program aims to assist Afghan seniors with peer support and social engagement\, and provide innovative ways for seniors to continue to play an important role in their community.   \n\n\n\nEligibility: \n\n\n\nAdults/seniors \n\n\n\nContact Info: \n\n\n\nEmail hubadmin@schcontario.ca  or call 416-642-9445 ext. 7555
URL:https://schcontario.ca/event/afghan-seniors-program-2/2026-01-26/
LOCATION:The Hub – Mid Scarborough\, 2660 Eglinton Ave East\, Scarborough\, Ontario\, M1K 2S3\, Canada
CATEGORIES:Hub Mid Scarborough
ORGANIZER;CN="The Hub Mid-Scarborough":MAILTO:hubadmin@schcontario.ca 
END:VEVENT
BEGIN:VEVENT
DTSTART;TZID=America/Toronto:20260122T180000
DTEND;TZID=America/Toronto:20260122T190000
DTSTAMP:20260419T181301
CREATED:20250915T005414Z
LAST-MODIFIED:20250915T005418Z
UID:10054276-1769104800-1769108400@schcontario.ca
SUMMARY:Social Sewing Drop-in
DESCRIPTION:Registration required: No \n\n\n\nDescription:  To gain experience and learn to sew for the first time \n\n\n\nEligibility: 16+ \n\n\n\nFrequency:  Every 3rd & 4th Thursday \n\n\n\nContact Info: 416-642-9445 Ext 7555 \n\n\n\nRegistration Email: scarbenvasc@gmail.com
URL:https://schcontario.ca/event/social-sewing-drop-in-3/2026-01-22/
LOCATION:The Hub – Mid Scarborough\, 2660 Eglinton Ave East\, Scarborough\, Ontario\, M1K 2S3\, Canada
CATEGORIES:Hub Mid Scarborough
ORGANIZER;CN="The Hub Mid-Scarborough":MAILTO:hubadmin@schcontario.ca 
END:VEVENT
BEGIN:VEVENT
DTSTART;TZID=UTC:20260120T180000
DTEND;TZID=UTC:20260120T193000
DTSTAMP:20260419T181301
CREATED:20250915T005153Z
LAST-MODIFIED:20250915T012113Z
UID:10054533-1768932000-1768937400@schcontario.ca
SUMMARY:Yoga
DESCRIPTION:Registration is optional\, drop-ins are welcome.  \n\n\n\nDescription:  \n\n\n\nWeekly yoga class \n\n\n\nEligibility: \n\n\n\n16 years or older\, dress code of white top and black pants\, bring your own yoga mat. \n\n\n\nContact Info:  \n\n\n\nEmail info@vasantham.ca or call 416-847-4172 for more information or to register.
URL:https://schcontario.ca/event/yoga/2026-01-20/
LOCATION:The Hub – Mid Scarborough\, 2660 Eglinton Ave East\, Scarborough\, Ontario\, M1K 2S3\, Canada
CATEGORIES:Hub Mid Scarborough
END:VEVENT
BEGIN:VEVENT
DTSTART;TZID=UTC:20260119T130000
DTEND;TZID=UTC:20260119T160000
DTSTAMP:20260419T181301
CREATED:20250506T170019Z
LAST-MODIFIED:20250506T170028Z
UID:10023131-1768827600-1768838400@schcontario.ca
SUMMARY:Afghan Seniors Program
DESCRIPTION:Registration is not required.  This is a drop-in program. \n\n\n\nDescription:  \n\n\n\nThis program aims to assist Afghan seniors with peer support and social engagement\, and provide innovative ways for seniors to continue to play an important role in their community.   \n\n\n\nEligibility: \n\n\n\nAdults/seniors \n\n\n\nContact Info: \n\n\n\nEmail hubadmin@schcontario.ca  or call 416-642-9445 ext. 7555
URL:https://schcontario.ca/event/afghan-seniors-program-2/2026-01-19/
LOCATION:The Hub – Mid Scarborough\, 2660 Eglinton Ave East\, Scarborough\, Ontario\, M1K 2S3\, Canada
CATEGORIES:Hub Mid Scarborough
ORGANIZER;CN="The Hub Mid-Scarborough":MAILTO:hubadmin@schcontario.ca 
END:VEVENT
BEGIN:VEVENT
DTSTART;TZID=America/Toronto:20260115T180000
DTEND;TZID=America/Toronto:20260115T190000
DTSTAMP:20260419T181301
CREATED:20250806T135120Z
LAST-MODIFIED:20250915T012240Z
UID:10054259-1768500000-1768503600@schcontario.ca
SUMMARY:Social Sewing Drop-In
DESCRIPTION:Registration required: No \n\n\n\nDescription:  To gain experience and learn to sew for the first time \n\n\n\nEligibility: 16+ \n\n\n\nFrequency:  Every 3rd & 4th Thursday \n\n\n\nContact Info: 416-642-9445 Ext 7555 \n\n\n\nRegistration Email: scarbenvasc@gmail.com
URL:https://schcontario.ca/event/social-sewing-drop-in/2026-01-15/
LOCATION:The Hub – Mid Scarborough\, 2660 Eglinton Ave East\, Scarborough\, Ontario\, M1K 2S3\, Canada
CATEGORIES:Hub Mid Scarborough
ORGANIZER;CN="The Hub Mid-Scarborough":MAILTO:hubadmin@schcontario.ca 
END:VEVENT
BEGIN:VEVENT
DTSTART;TZID=UTC:20260113T180000
DTEND;TZID=UTC:20260113T193000
DTSTAMP:20260419T181301
CREATED:20250915T005153Z
LAST-MODIFIED:20250915T012113Z
UID:10054532-1768327200-1768332600@schcontario.ca
SUMMARY:Yoga
DESCRIPTION:Registration is optional\, drop-ins are welcome.  \n\n\n\nDescription:  \n\n\n\nWeekly yoga class \n\n\n\nEligibility: \n\n\n\n16 years or older\, dress code of white top and black pants\, bring your own yoga mat. \n\n\n\nContact Info:  \n\n\n\nEmail info@vasantham.ca or call 416-847-4172 for more information or to register.
URL:https://schcontario.ca/event/yoga/2026-01-13/
LOCATION:The Hub – Mid Scarborough\, 2660 Eglinton Ave East\, Scarborough\, Ontario\, M1K 2S3\, Canada
CATEGORIES:Hub Mid Scarborough
END:VEVENT
BEGIN:VEVENT
DTSTART;TZID=UTC:20260112T130000
DTEND;TZID=UTC:20260112T160000
DTSTAMP:20260419T181301
CREATED:20250506T170019Z
LAST-MODIFIED:20250506T170028Z
UID:10023130-1768222800-1768233600@schcontario.ca
SUMMARY:Afghan Seniors Program
DESCRIPTION:Registration is not required.  This is a drop-in program. \n\n\n\nDescription:  \n\n\n\nThis program aims to assist Afghan seniors with peer support and social engagement\, and provide innovative ways for seniors to continue to play an important role in their community.   \n\n\n\nEligibility: \n\n\n\nAdults/seniors \n\n\n\nContact Info: \n\n\n\nEmail hubadmin@schcontario.ca  or call 416-642-9445 ext. 7555
URL:https://schcontario.ca/event/afghan-seniors-program-2/2026-01-12/
LOCATION:The Hub – Mid Scarborough\, 2660 Eglinton Ave East\, Scarborough\, Ontario\, M1K 2S3\, Canada
CATEGORIES:Hub Mid Scarborough
ORGANIZER;CN="The Hub Mid-Scarborough":MAILTO:hubadmin@schcontario.ca 
END:VEVENT
BEGIN:VEVENT
DTSTART;TZID=America/Toronto:20260108T180000
DTEND;TZID=America/Toronto:20260108T190000
DTSTAMP:20260419T181301
CREATED:20250806T134415Z
LAST-MODIFIED:20250806T135459Z
UID:10054292-1767895200-1767898800@schcontario.ca
SUMMARY:Learn to Sew
DESCRIPTION:Registration required:  Yes/ we do welcome drop-in if numbers are low on the day of. \n\n\n\nDescription:  Ask questions\, share knowledge\, collaborate with others and learn how to use the sewing machine \n\n\n\nEligibility: 16+ \n\n\n\nFrequency:  Every  1st & 2nd Thursday \n\n\n\nContact Info: 416-642-9445 Ext 7555 \n\n\n\nRegistration Email: scarbenvasc@gmail.com
URL:https://schcontario.ca/event/learn-to-sew-2/2026-01-08/
LOCATION:The Hub – Mid Scarborough\, 2660 Eglinton Ave East\, Scarborough\, Ontario\, M1K 2S3\, Canada
CATEGORIES:Hub Mid Scarborough
ORGANIZER;CN="The Hub Mid-Scarborough":MAILTO:hubadmin@schcontario.ca 
END:VEVENT
BEGIN:VEVENT
DTSTART;TZID=UTC:20260106T180000
DTEND;TZID=UTC:20260106T193000
DTSTAMP:20260419T181301
CREATED:20250915T005153Z
LAST-MODIFIED:20250915T012113Z
UID:10054531-1767722400-1767727800@schcontario.ca
SUMMARY:Yoga
DESCRIPTION:Registration is optional\, drop-ins are welcome.  \n\n\n\nDescription:  \n\n\n\nWeekly yoga class \n\n\n\nEligibility: \n\n\n\n16 years or older\, dress code of white top and black pants\, bring your own yoga mat. \n\n\n\nContact Info:  \n\n\n\nEmail info@vasantham.ca or call 416-847-4172 for more information or to register.
URL:https://schcontario.ca/event/yoga/2026-01-06/
LOCATION:The Hub – Mid Scarborough\, 2660 Eglinton Ave East\, Scarborough\, Ontario\, M1K 2S3\, Canada
CATEGORIES:Hub Mid Scarborough
END:VEVENT
BEGIN:VEVENT
DTSTART;TZID=UTC:20260105T130000
DTEND;TZID=UTC:20260105T160000
DTSTAMP:20260419T181301
CREATED:20250506T170019Z
LAST-MODIFIED:20250506T170028Z
UID:10023129-1767618000-1767628800@schcontario.ca
SUMMARY:Afghan Seniors Program
DESCRIPTION:Registration is not required.  This is a drop-in program. \n\n\n\nDescription:  \n\n\n\nThis program aims to assist Afghan seniors with peer support and social engagement\, and provide innovative ways for seniors to continue to play an important role in their community.   \n\n\n\nEligibility: \n\n\n\nAdults/seniors \n\n\n\nContact Info: \n\n\n\nEmail hubadmin@schcontario.ca  or call 416-642-9445 ext. 7555
URL:https://schcontario.ca/event/afghan-seniors-program-2/2026-01-05/
LOCATION:The Hub – Mid Scarborough\, 2660 Eglinton Ave East\, Scarborough\, Ontario\, M1K 2S3\, Canada
CATEGORIES:Hub Mid Scarborough
ORGANIZER;CN="The Hub Mid-Scarborough":MAILTO:hubadmin@schcontario.ca 
END:VEVENT
BEGIN:VEVENT
DTSTART;TZID=America/Toronto:20260101T180000
DTEND;TZID=America/Toronto:20260101T190000
DTSTAMP:20260419T181301
CREATED:20250806T135716Z
LAST-MODIFIED:20250806T135720Z
UID:10054308-1767290400-1767294000@schcontario.ca
SUMMARY:Learn to Sew
DESCRIPTION:Registration required:  Yes/ we do welcome drop-in if numbers are low on the day of. \n\n\n\nDescription:  Ask questions\, share knowledge\, collaborate with others and learn how to use the sewing machine \n\n\n\nEligibility: 16+ \n\n\n\nFrequency:  Every  1st & 2nd Thursday \n\n\n\nStart date: ongoing \n\n\n\nContact Info: 416-642-9445 Ext 7555 \n\n\n\nRegistration Email: scarbenvasc@gmail.com
URL:https://schcontario.ca/event/learn-to-sew-3/2026-01-01/
LOCATION:The Hub – Mid Scarborough\, 2660 Eglinton Ave East\, Scarborough\, Ontario\, M1K 2S3\, Canada
CATEGORIES:Hub Mid Scarborough
ORGANIZER;CN="The Hub Mid-Scarborough":MAILTO:hubadmin@schcontario.ca 
END:VEVENT
BEGIN:VEVENT
DTSTART;TZID=America/Toronto:20260101T180000
DTEND;TZID=America/Toronto:20260101T190000
DTSTAMP:20260419T181301
CREATED:20250806T134055Z
LAST-MODIFIED:20250806T135907Z
UID:10054325-1767290400-1767294000@schcontario.ca
SUMMARY:Learn to Sew
DESCRIPTION:Registration required:  Yes/ we do welcome drop-in if numbers are low on the day of. \n\n\n\nDescription:  Ask questions\, share knowledge\, collaborate with others and learn how to use the sewing machine \n\n\n\nEligibility: 16+ \n\n\n\nFrequency:  Every  1st & 2nd Thursday \n\n\n\nStart date: ongoing \n\n\n\nContact Info: 416-642-9445 Ext 7555 \n\n\n\nRegistration Email: scarbenvasc@gmail.com
URL:https://schcontario.ca/event/learn-to-sew/2026-01-01/
LOCATION:The Hub – Mid Scarborough\, 2660 Eglinton Ave East\, Scarborough\, Ontario\, M1K 2S3\, Canada
CATEGORIES:Hub Mid Scarborough
ORGANIZER;CN="The Hub Mid-Scarborough":MAILTO:hubadmin@schcontario.ca 
END:VEVENT
BEGIN:VEVENT
DTSTART;TZID=UTC:20251230T180000
DTEND;TZID=UTC:20251230T193000
DTSTAMP:20260419T181301
CREATED:20250915T005153Z
LAST-MODIFIED:20250915T012113Z
UID:10054530-1767117600-1767123000@schcontario.ca
SUMMARY:Yoga
DESCRIPTION:Registration is optional\, drop-ins are welcome.  \n\n\n\nDescription:  \n\n\n\nWeekly yoga class \n\n\n\nEligibility: \n\n\n\n16 years or older\, dress code of white top and black pants\, bring your own yoga mat. \n\n\n\nContact Info:  \n\n\n\nEmail info@vasantham.ca or call 416-847-4172 for more information or to register.
URL:https://schcontario.ca/event/yoga/2025-12-30/
LOCATION:The Hub – Mid Scarborough\, 2660 Eglinton Ave East\, Scarborough\, Ontario\, M1K 2S3\, Canada
CATEGORIES:Hub Mid Scarborough
END:VEVENT
BEGIN:VEVENT
DTSTART;TZID=America/Toronto:20251230T163000
DTEND;TZID=America/Toronto:20251230T173000
DTSTAMP:20260419T181301
CREATED:20240827T133822Z
LAST-MODIFIED:20240827T134055Z
UID:10020802-1767112200-1767115800@schcontario.ca
SUMMARY:HUB Meals Program
DESCRIPTION:Free Halal takeaway meal to anyone in the community. First come\, first served.  \n\n\n\nAll are welcome (Limit 2 meals per person) \n\n\n\nLocation: Kitchen window
URL:https://schcontario.ca/event/hub-meals-program/2025-12-30/
LOCATION:The Hub – Mid Scarborough\, 2660 Eglinton Ave East\, Scarborough\, Ontario\, M1K 2S3\, Canada
CATEGORIES:Hub Mid Scarborough
ORGANIZER;CN="The Hub Mid-Scarborough":MAILTO:hubadmin@schcontario.ca 
END:VEVENT
BEGIN:VEVENT
DTSTART;TZID=America/Toronto:20251229T163000
DTEND;TZID=America/Toronto:20251229T180000
DTSTAMP:20260419T181301
CREATED:20250506T203257Z
LAST-MODIFIED:20250506T203304Z
UID:10023424-1767025800-1767031200@schcontario.ca
SUMMARY:Girls Leadership Through Resilience (GLTR)
DESCRIPTION:GLTR is a free program to empower and inspire girls\, build resiliency\, become leaders\, and practice self-love for female-identifying youth ages 13-18. Receive volunteer hours and food will be provided! \n\n\n\nRegistration is Required!
URL:https://schcontario.ca/event/girls-leadership-through-resilience-gltr-2/2025-12-29/
LOCATION:The Hub – Mid Scarborough\, 2660 Eglinton Ave East\, Scarborough\, Ontario\, M1K 2S3\, Canada
CATEGORIES:Hub: Child/Youth Programs
ORGANIZER;CN="The Hub Mid-Scarborough":MAILTO:hubadmin@schcontario.ca 
END:VEVENT
BEGIN:VEVENT
DTSTART;TZID=America/Toronto:20251229T140000
DTEND;TZID=America/Toronto:20251229T160000
DTSTAMP:20260419T181301
CREATED:20250915T011518Z
LAST-MODIFIED:20250915T011740Z
UID:10054831-1767016800-1767024000@schcontario.ca
SUMMARY:ESL Tamil-Bible Study Group
DESCRIPTION:
URL:https://schcontario.ca/event/esl-tamil-bible-study-group/2025-12-29/
LOCATION:The Hub – Mid Scarborough\, 2660 Eglinton Ave East\, Scarborough\, Ontario\, M1K 2S3\, Canada
CATEGORIES:Hub Mid Scarborough
ORGANIZER;CN="The Hub Mid-Scarborough":MAILTO:hubadmin@schcontario.ca 
END:VEVENT
BEGIN:VEVENT
DTSTART;TZID=UTC:20251229T130000
DTEND;TZID=UTC:20251229T160000
DTSTAMP:20260419T181301
CREATED:20250506T170019Z
LAST-MODIFIED:20250506T170028Z
UID:10023128-1767013200-1767024000@schcontario.ca
SUMMARY:Afghan Seniors Program
DESCRIPTION:Registration is not required.  This is a drop-in program. \n\n\n\nDescription:  \n\n\n\nThis program aims to assist Afghan seniors with peer support and social engagement\, and provide innovative ways for seniors to continue to play an important role in their community.   \n\n\n\nEligibility: \n\n\n\nAdults/seniors \n\n\n\nContact Info: \n\n\n\nEmail hubadmin@schcontario.ca  or call 416-642-9445 ext. 7555
URL:https://schcontario.ca/event/afghan-seniors-program-2/2025-12-29/
LOCATION:The Hub – Mid Scarborough\, 2660 Eglinton Ave East\, Scarborough\, Ontario\, M1K 2S3\, Canada
CATEGORIES:Hub Mid Scarborough
ORGANIZER;CN="The Hub Mid-Scarborough":MAILTO:hubadmin@schcontario.ca 
END:VEVENT
BEGIN:VEVENT
DTSTART;TZID=America/Toronto:20251227T100000
DTEND;TZID=America/Toronto:20251227T120000
DTSTAMP:20260419T181301
CREATED:20250915T010502Z
LAST-MODIFIED:20250915T012731Z
UID:10054845-1766829600-1766836800@schcontario.ca
SUMMARY:Vasantham Recovery & Addiction Program group 1-2
DESCRIPTION:Registration is required for this event. Please contact the organizer. \n\n\n\nDescription: \n\n\n\nCounseling and support to Tamil men with substance use and gambling problems. \n\n\n\nEligibility: \n\n\n\nTamil-speaking adult males \n\n\n\nContact info: \n\n\n\nemail: info@vasantham.ca or call 416-847-4172
URL:https://schcontario.ca/event/vasantham-recovery-addiction-program-group-1-2-2/2025-12-27/
LOCATION:The Hub – Mid Scarborough\, 2660 Eglinton Ave East\, Scarborough\, Ontario\, M1K 2S3\, Canada
CATEGORIES:Hub Mid Scarborough
ORGANIZER;CN="The Hub Mid-Scarborough":MAILTO:hubadmin@schcontario.ca 
END:VEVENT
BEGIN:VEVENT
DTSTART;TZID=America/Toronto:20251226T080000
DTEND;TZID=America/Toronto:20251226T170000
DTSTAMP:20260419T181301
CREATED:20241206T200328Z
LAST-MODIFIED:20241206T200331Z
UID:10021209-1766736000-1766768400@schcontario.ca
SUMMARY:YMCA Employment & Community Service
DESCRIPTION:Drop-in program\, registration is not required.  \n\n\n\nDescription:  \n\n\n\nCome for free help with resume development\, mock interviews\, job search and cover letter development.  The program runs every week on Tuesday and Wednesday 9:00 am – 5:00 pm\, and Thursday 9:00 am – 4:00 pm. \n\n\n\nEligibility: \n\n\n\nAll are welcome \n\n\n\nContact Info:  \n\n\n\nCall 416-916-1100 for more information
URL:https://schcontario.ca/event/ymca-employment-community-service-4/2025-12-26/
LOCATION:The Hub – Mid Scarborough\, 2660 Eglinton Ave East\, Scarborough\, Ontario\, M1K 2S3\, Canada
CATEGORIES:Hub Mid Scarborough
ORGANIZER;CN="The Hub Mid-Scarborough":MAILTO:hubadmin@schcontario.ca 
END:VEVENT
BEGIN:VEVENT
DTSTART;TZID=America/Toronto:20251225T180000
DTEND;TZID=America/Toronto:20251225T190000
DTSTAMP:20260419T181301
CREATED:20250915T005414Z
LAST-MODIFIED:20250915T005418Z
UID:10054275-1766685600-1766689200@schcontario.ca
SUMMARY:Social Sewing Drop-in
DESCRIPTION:Registration required: No \n\n\n\nDescription:  To gain experience and learn to sew for the first time \n\n\n\nEligibility: 16+ \n\n\n\nFrequency:  Every 3rd & 4th Thursday \n\n\n\nContact Info: 416-642-9445 Ext 7555 \n\n\n\nRegistration Email: scarbenvasc@gmail.com
URL:https://schcontario.ca/event/social-sewing-drop-in-3/2025-12-25/
LOCATION:The Hub – Mid Scarborough\, 2660 Eglinton Ave East\, Scarborough\, Ontario\, M1K 2S3\, Canada
CATEGORIES:Hub Mid Scarborough
ORGANIZER;CN="The Hub Mid-Scarborough":MAILTO:hubadmin@schcontario.ca 
END:VEVENT
BEGIN:VEVENT
DTSTART;TZID=UTC:20251224T090000
DTEND;TZID=UTC:20251224T170000
DTSTAMP:20260419T181301
CREATED:20241002T203125Z
LAST-MODIFIED:20241206T201030Z
UID:10021091-1766566800-1766595600@schcontario.ca
SUMMARY:YMCA Employment & Community Services
DESCRIPTION:Drop-in program\, registration is not required.  \n\n\n\nDescription:  \n\n\n\nCome for free help with resume development\, mock interviews\, job search and cover letter development.  The program runs every week on Tuesday and Wednesday 9:00 am – 5:00 pm\, and Thursday 9:00 am – 4:00 pm. \n\n\n\nEligibility: \n\n\n\nAll are welcome \n\n\n\nContact Info:  \n\n\n\nCall 416-916-1100 for more information
URL:https://schcontario.ca/event/ymca-employment-community-services-3/2025-12-24/
LOCATION:The Hub – Mid Scarborough\, 2660 Eglinton Ave East\, Scarborough\, Ontario\, M1K 2S3\, Canada
CATEGORIES:Hub Mid Scarborough
ORGANIZER;CN="The Hub Mid-Scarborough":MAILTO:hubadmin@schcontario.ca 
END:VEVENT
BEGIN:VEVENT
DTSTART;TZID=UTC:20251223T180000
DTEND;TZID=UTC:20251223T193000
DTSTAMP:20260419T181301
CREATED:20250915T005153Z
LAST-MODIFIED:20250915T012113Z
UID:10054529-1766512800-1766518200@schcontario.ca
SUMMARY:Yoga
DESCRIPTION:Registration is optional\, drop-ins are welcome.  \n\n\n\nDescription:  \n\n\n\nWeekly yoga class \n\n\n\nEligibility: \n\n\n\n16 years or older\, dress code of white top and black pants\, bring your own yoga mat. \n\n\n\nContact Info:  \n\n\n\nEmail info@vasantham.ca or call 416-847-4172 for more information or to register.
URL:https://schcontario.ca/event/yoga/2025-12-23/
LOCATION:The Hub – Mid Scarborough\, 2660 Eglinton Ave East\, Scarborough\, Ontario\, M1K 2S3\, Canada
CATEGORIES:Hub Mid Scarborough
END:VEVENT
BEGIN:VEVENT
DTSTART;TZID=America/Toronto:20251223T163000
DTEND;TZID=America/Toronto:20251223T173000
DTSTAMP:20260419T181301
CREATED:20240827T133822Z
LAST-MODIFIED:20240827T134055Z
UID:10020801-1766507400-1766511000@schcontario.ca
SUMMARY:HUB Meals Program
DESCRIPTION:Free Halal takeaway meal to anyone in the community. First come\, first served.  \n\n\n\nAll are welcome (Limit 2 meals per person) \n\n\n\nLocation: Kitchen window
URL:https://schcontario.ca/event/hub-meals-program/2025-12-23/
LOCATION:The Hub – Mid Scarborough\, 2660 Eglinton Ave East\, Scarborough\, Ontario\, M1K 2S3\, Canada
CATEGORIES:Hub Mid Scarborough
ORGANIZER;CN="The Hub Mid-Scarborough":MAILTO:hubadmin@schcontario.ca 
END:VEVENT
BEGIN:VEVENT
DTSTART;TZID=America/Toronto:20251222T163000
DTEND;TZID=America/Toronto:20251222T180000
DTSTAMP:20260419T181301
CREATED:20250506T203257Z
LAST-MODIFIED:20250506T203304Z
UID:10023423-1766421000-1766426400@schcontario.ca
SUMMARY:Girls Leadership Through Resilience (GLTR)
DESCRIPTION:GLTR is a free program to empower and inspire girls\, build resiliency\, become leaders\, and practice self-love for female-identifying youth ages 13-18. Receive volunteer hours and food will be provided! \n\n\n\nRegistration is Required!
URL:https://schcontario.ca/event/girls-leadership-through-resilience-gltr-2/2025-12-22/
LOCATION:The Hub – Mid Scarborough\, 2660 Eglinton Ave East\, Scarborough\, Ontario\, M1K 2S3\, Canada
CATEGORIES:Hub: Child/Youth Programs
ORGANIZER;CN="The Hub Mid-Scarborough":MAILTO:hubadmin@schcontario.ca 
END:VEVENT
BEGIN:VEVENT
DTSTART;TZID=America/Toronto:20251222T140000
DTEND;TZID=America/Toronto:20251222T160000
DTSTAMP:20260419T181301
CREATED:20250915T011518Z
LAST-MODIFIED:20250915T011740Z
UID:10054830-1766412000-1766419200@schcontario.ca
SUMMARY:ESL Tamil-Bible Study Group
DESCRIPTION:
URL:https://schcontario.ca/event/esl-tamil-bible-study-group/2025-12-22/
LOCATION:The Hub – Mid Scarborough\, 2660 Eglinton Ave East\, Scarborough\, Ontario\, M1K 2S3\, Canada
CATEGORIES:Hub Mid Scarborough
ORGANIZER;CN="The Hub Mid-Scarborough":MAILTO:hubadmin@schcontario.ca 
END:VEVENT
BEGIN:VEVENT
DTSTART;TZID=UTC:20251222T130000
DTEND;TZID=UTC:20251222T160000
DTSTAMP:20260419T181301
CREATED:20250506T170019Z
LAST-MODIFIED:20250506T170028Z
UID:10023127-1766408400-1766419200@schcontario.ca
SUMMARY:Afghan Seniors Program
DESCRIPTION:Registration is not required.  This is a drop-in program. \n\n\n\nDescription:  \n\n\n\nThis program aims to assist Afghan seniors with peer support and social engagement\, and provide innovative ways for seniors to continue to play an important role in their community.   \n\n\n\nEligibility: \n\n\n\nAdults/seniors \n\n\n\nContact Info: \n\n\n\nEmail hubadmin@schcontario.ca  or call 416-642-9445 ext. 7555
URL:https://schcontario.ca/event/afghan-seniors-program-2/2025-12-22/
LOCATION:The Hub – Mid Scarborough\, 2660 Eglinton Ave East\, Scarborough\, Ontario\, M1K 2S3\, Canada
CATEGORIES:Hub Mid Scarborough
ORGANIZER;CN="The Hub Mid-Scarborough":MAILTO:hubadmin@schcontario.ca 
END:VEVENT
BEGIN:VEVENT
DTSTART;TZID=America/Toronto:20251220T100000
DTEND;TZID=America/Toronto:20251220T120000
DTSTAMP:20260419T181301
CREATED:20250915T010502Z
LAST-MODIFIED:20250915T012731Z
UID:10054844-1766224800-1766232000@schcontario.ca
SUMMARY:Vasantham Recovery & Addiction Program group 1-2
DESCRIPTION:Registration is required for this event. Please contact the organizer. \n\n\n\nDescription: \n\n\n\nCounseling and support to Tamil men with substance use and gambling problems. \n\n\n\nEligibility: \n\n\n\nTamil-speaking adult males \n\n\n\nContact info: \n\n\n\nemail: info@vasantham.ca or call 416-847-4172
URL:https://schcontario.ca/event/vasantham-recovery-addiction-program-group-1-2-2/2025-12-20/
LOCATION:The Hub – Mid Scarborough\, 2660 Eglinton Ave East\, Scarborough\, Ontario\, M1K 2S3\, Canada
CATEGORIES:Hub Mid Scarborough
ORGANIZER;CN="The Hub Mid-Scarborough":MAILTO:hubadmin@schcontario.ca 
END:VEVENT
BEGIN:VEVENT
DTSTART;TZID=America/Toronto:20251219T080000
DTEND;TZID=America/Toronto:20251219T170000
DTSTAMP:20260419T181301
CREATED:20241206T200328Z
LAST-MODIFIED:20241206T200331Z
UID:10021208-1766131200-1766163600@schcontario.ca
SUMMARY:YMCA Employment & Community Service
DESCRIPTION:Drop-in program\, registration is not required.  \n\n\n\nDescription:  \n\n\n\nCome for free help with resume development\, mock interviews\, job search and cover letter development.  The program runs every week on Tuesday and Wednesday 9:00 am – 5:00 pm\, and Thursday 9:00 am – 4:00 pm. \n\n\n\nEligibility: \n\n\n\nAll are welcome \n\n\n\nContact Info:  \n\n\n\nCall 416-916-1100 for more information
URL:https://schcontario.ca/event/ymca-employment-community-service-4/2025-12-19/
LOCATION:The Hub – Mid Scarborough\, 2660 Eglinton Ave East\, Scarborough\, Ontario\, M1K 2S3\, Canada
CATEGORIES:Hub Mid Scarborough
ORGANIZER;CN="The Hub Mid-Scarborough":MAILTO:hubadmin@schcontario.ca 
END:VEVENT
BEGIN:VEVENT
DTSTART;TZID=America/Toronto:20251218T180000
DTEND;TZID=America/Toronto:20251218T190000
DTSTAMP:20260419T181301
CREATED:20250806T135120Z
LAST-MODIFIED:20250915T012240Z
UID:10054258-1766080800-1766084400@schcontario.ca
SUMMARY:Social Sewing Drop-In
DESCRIPTION:Registration required: No \n\n\n\nDescription:  To gain experience and learn to sew for the first time \n\n\n\nEligibility: 16+ \n\n\n\nFrequency:  Every 3rd & 4th Thursday \n\n\n\nContact Info: 416-642-9445 Ext 7555 \n\n\n\nRegistration Email: scarbenvasc@gmail.com
URL:https://schcontario.ca/event/social-sewing-drop-in/2025-12-18/
LOCATION:The Hub – Mid Scarborough\, 2660 Eglinton Ave East\, Scarborough\, Ontario\, M1K 2S3\, Canada
CATEGORIES:Hub Mid Scarborough
ORGANIZER;CN="The Hub Mid-Scarborough":MAILTO:hubadmin@schcontario.ca 
END:VEVENT
END:VCALENDAR