BEGIN:VCALENDAR
VERSION:2.0
PRODID:-//Scarborough Centre for Healthy Communities - ECPv6.15.20//NONSGML v1.0//EN
CALSCALE:GREGORIAN
METHOD:PUBLISH
X-ORIGINAL-URL:https://schcontario.ca
X-WR-CALDESC:Events for Scarborough Centre for Healthy Communities
REFRESH-INTERVAL;VALUE=DURATION:PT1H
X-Robots-Tag:noindex
X-PUBLISHED-TTL:PT1H
BEGIN:VTIMEZONE
TZID:UTC
BEGIN:STANDARD
TZOFFSETFROM:+0000
TZOFFSETTO:+0000
TZNAME:UTC
DTSTART:20250101T000000
END:STANDARD
END:VTIMEZONE
BEGIN:VTIMEZONE
TZID:America/Toronto
BEGIN:DAYLIGHT
TZOFFSETFROM:-0500
TZOFFSETTO:-0400
TZNAME:EDT
DTSTART:20250309T070000
END:DAYLIGHT
BEGIN:STANDARD
TZOFFSETFROM:-0400
TZOFFSETTO:-0500
TZNAME:EST
DTSTART:20251102T060000
END:STANDARD
BEGIN:DAYLIGHT
TZOFFSETFROM:-0500
TZOFFSETTO:-0400
TZNAME:EDT
DTSTART:20260308T070000
END:DAYLIGHT
BEGIN:STANDARD
TZOFFSETFROM:-0400
TZOFFSETTO:-0500
TZNAME:EST
DTSTART:20261101T060000
END:STANDARD
BEGIN:DAYLIGHT
TZOFFSETFROM:-0500
TZOFFSETTO:-0400
TZNAME:EDT
DTSTART:20270314T070000
END:DAYLIGHT
BEGIN:STANDARD
TZOFFSETFROM:-0400
TZOFFSETTO:-0500
TZNAME:EST
DTSTART:20271107T060000
END:STANDARD
END:VTIMEZONE
BEGIN:VEVENT
DTSTART;TZID=UTC:20260323T130000
DTEND;TZID=UTC:20260323T160000
DTSTAMP:20260419T145657
CREATED:20250506T170019Z
LAST-MODIFIED:20250506T170028Z
UID:10023140-1774270800-1774281600@schcontario.ca
SUMMARY:Afghan Seniors Program
DESCRIPTION:Registration is not required.  This is a drop-in program. \n\n\n\nDescription:  \n\n\n\nThis program aims to assist Afghan seniors with peer support and social engagement\, and provide innovative ways for seniors to continue to play an important role in their community.   \n\n\n\nEligibility: \n\n\n\nAdults/seniors \n\n\n\nContact Info: \n\n\n\nEmail hubadmin@schcontario.ca  or call 416-642-9445 ext. 7555
URL:https://schcontario.ca/event/afghan-seniors-program-2/2026-03-23/
LOCATION:The Hub – Mid Scarborough\, 2660 Eglinton Ave East\, Scarborough\, Ontario\, M1K 2S3\, Canada
CATEGORIES:Hub Mid Scarborough
ORGANIZER;CN="The Hub Mid-Scarborough":MAILTO:hubadmin@schcontario.ca 
END:VEVENT
BEGIN:VEVENT
DTSTART;TZID=America/Toronto:20260319T180000
DTEND;TZID=America/Toronto:20260319T190000
DTSTAMP:20260419T145657
CREATED:20250806T135120Z
LAST-MODIFIED:20250915T012240Z
UID:10054261-1773943200-1773946800@schcontario.ca
SUMMARY:Social Sewing Drop-In
DESCRIPTION:Registration required: No \n\n\n\nDescription:  To gain experience and learn to sew for the first time \n\n\n\nEligibility: 16+ \n\n\n\nFrequency:  Every 3rd & 4th Thursday \n\n\n\nContact Info: 416-642-9445 Ext 7555 \n\n\n\nRegistration Email: scarbenvasc@gmail.com
URL:https://schcontario.ca/event/social-sewing-drop-in/2026-03-19/
LOCATION:The Hub – Mid Scarborough\, 2660 Eglinton Ave East\, Scarborough\, Ontario\, M1K 2S3\, Canada
CATEGORIES:Hub Mid Scarborough
ORGANIZER;CN="The Hub Mid-Scarborough":MAILTO:hubadmin@schcontario.ca 
END:VEVENT
BEGIN:VEVENT
DTSTART;TZID=UTC:20260317T180000
DTEND;TZID=UTC:20260317T193000
DTSTAMP:20260419T145657
CREATED:20250915T005153Z
LAST-MODIFIED:20250915T012113Z
UID:10054541-1773770400-1773775800@schcontario.ca
SUMMARY:Yoga
DESCRIPTION:Registration is optional\, drop-ins are welcome.  \n\n\n\nDescription:  \n\n\n\nWeekly yoga class \n\n\n\nEligibility: \n\n\n\n16 years or older\, dress code of white top and black pants\, bring your own yoga mat. \n\n\n\nContact Info:  \n\n\n\nEmail info@vasantham.ca or call 416-847-4172 for more information or to register.
URL:https://schcontario.ca/event/yoga/2026-03-17/
LOCATION:The Hub – Mid Scarborough\, 2660 Eglinton Ave East\, Scarborough\, Ontario\, M1K 2S3\, Canada
CATEGORIES:Hub Mid Scarborough
END:VEVENT
BEGIN:VEVENT
DTSTART;TZID=UTC:20260316T130000
DTEND;TZID=UTC:20260316T160000
DTSTAMP:20260419T145657
CREATED:20250506T170019Z
LAST-MODIFIED:20250506T170028Z
UID:10023139-1773666000-1773676800@schcontario.ca
SUMMARY:Afghan Seniors Program
DESCRIPTION:Registration is not required.  This is a drop-in program. \n\n\n\nDescription:  \n\n\n\nThis program aims to assist Afghan seniors with peer support and social engagement\, and provide innovative ways for seniors to continue to play an important role in their community.   \n\n\n\nEligibility: \n\n\n\nAdults/seniors \n\n\n\nContact Info: \n\n\n\nEmail hubadmin@schcontario.ca  or call 416-642-9445 ext. 7555
URL:https://schcontario.ca/event/afghan-seniors-program-2/2026-03-16/
LOCATION:The Hub – Mid Scarborough\, 2660 Eglinton Ave East\, Scarborough\, Ontario\, M1K 2S3\, Canada
CATEGORIES:Hub Mid Scarborough
ORGANIZER;CN="The Hub Mid-Scarborough":MAILTO:hubadmin@schcontario.ca 
END:VEVENT
BEGIN:VEVENT
DTSTART;TZID=America/Toronto:20260312T180000
DTEND;TZID=America/Toronto:20260312T190000
DTSTAMP:20260419T145657
CREATED:20250806T134415Z
LAST-MODIFIED:20250806T135459Z
UID:10054294-1773338400-1773342000@schcontario.ca
SUMMARY:Learn to Sew
DESCRIPTION:Registration required:  Yes/ we do welcome drop-in if numbers are low on the day of. \n\n\n\nDescription:  Ask questions\, share knowledge\, collaborate with others and learn how to use the sewing machine \n\n\n\nEligibility: 16+ \n\n\n\nFrequency:  Every  1st & 2nd Thursday \n\n\n\nContact Info: 416-642-9445 Ext 7555 \n\n\n\nRegistration Email: scarbenvasc@gmail.com
URL:https://schcontario.ca/event/learn-to-sew-2/2026-03-12/
LOCATION:The Hub – Mid Scarborough\, 2660 Eglinton Ave East\, Scarborough\, Ontario\, M1K 2S3\, Canada
CATEGORIES:Hub Mid Scarborough
ORGANIZER;CN="The Hub Mid-Scarborough":MAILTO:hubadmin@schcontario.ca 
END:VEVENT
BEGIN:VEVENT
DTSTART;TZID=UTC:20260310T180000
DTEND;TZID=UTC:20260310T193000
DTSTAMP:20260419T145657
CREATED:20250915T005153Z
LAST-MODIFIED:20250915T012113Z
UID:10054540-1773165600-1773171000@schcontario.ca
SUMMARY:Yoga
DESCRIPTION:Registration is optional\, drop-ins are welcome.  \n\n\n\nDescription:  \n\n\n\nWeekly yoga class \n\n\n\nEligibility: \n\n\n\n16 years or older\, dress code of white top and black pants\, bring your own yoga mat. \n\n\n\nContact Info:  \n\n\n\nEmail info@vasantham.ca or call 416-847-4172 for more information or to register.
URL:https://schcontario.ca/event/yoga/2026-03-10/
LOCATION:The Hub – Mid Scarborough\, 2660 Eglinton Ave East\, Scarborough\, Ontario\, M1K 2S3\, Canada
CATEGORIES:Hub Mid Scarborough
END:VEVENT
BEGIN:VEVENT
DTSTART;TZID=UTC:20260309T130000
DTEND;TZID=UTC:20260309T160000
DTSTAMP:20260419T145657
CREATED:20250506T170019Z
LAST-MODIFIED:20250506T170028Z
UID:10023138-1773061200-1773072000@schcontario.ca
SUMMARY:Afghan Seniors Program
DESCRIPTION:Registration is not required.  This is a drop-in program. \n\n\n\nDescription:  \n\n\n\nThis program aims to assist Afghan seniors with peer support and social engagement\, and provide innovative ways for seniors to continue to play an important role in their community.   \n\n\n\nEligibility: \n\n\n\nAdults/seniors \n\n\n\nContact Info: \n\n\n\nEmail hubadmin@schcontario.ca  or call 416-642-9445 ext. 7555
URL:https://schcontario.ca/event/afghan-seniors-program-2/2026-03-09/
LOCATION:The Hub – Mid Scarborough\, 2660 Eglinton Ave East\, Scarborough\, Ontario\, M1K 2S3\, Canada
CATEGORIES:Hub Mid Scarborough
ORGANIZER;CN="The Hub Mid-Scarborough":MAILTO:hubadmin@schcontario.ca 
END:VEVENT
BEGIN:VEVENT
DTSTART;TZID=America/Toronto:20260305T180000
DTEND;TZID=America/Toronto:20260305T190000
DTSTAMP:20260419T145657
CREATED:20250806T135716Z
LAST-MODIFIED:20250806T135720Z
UID:10054310-1772733600-1772737200@schcontario.ca
SUMMARY:Learn to Sew
DESCRIPTION:Registration required:  Yes/ we do welcome drop-in if numbers are low on the day of. \n\n\n\nDescription:  Ask questions\, share knowledge\, collaborate with others and learn how to use the sewing machine \n\n\n\nEligibility: 16+ \n\n\n\nFrequency:  Every  1st & 2nd Thursday \n\n\n\nStart date: ongoing \n\n\n\nContact Info: 416-642-9445 Ext 7555 \n\n\n\nRegistration Email: scarbenvasc@gmail.com
URL:https://schcontario.ca/event/learn-to-sew-3/2026-03-05/
LOCATION:The Hub – Mid Scarborough\, 2660 Eglinton Ave East\, Scarborough\, Ontario\, M1K 2S3\, Canada
CATEGORIES:Hub Mid Scarborough
ORGANIZER;CN="The Hub Mid-Scarborough":MAILTO:hubadmin@schcontario.ca 
END:VEVENT
BEGIN:VEVENT
DTSTART;TZID=America/Toronto:20260305T180000
DTEND;TZID=America/Toronto:20260305T190000
DTSTAMP:20260419T145657
CREATED:20250806T134055Z
LAST-MODIFIED:20250806T135907Z
UID:10054327-1772733600-1772737200@schcontario.ca
SUMMARY:Learn to Sew
DESCRIPTION:Registration required:  Yes/ we do welcome drop-in if numbers are low on the day of. \n\n\n\nDescription:  Ask questions\, share knowledge\, collaborate with others and learn how to use the sewing machine \n\n\n\nEligibility: 16+ \n\n\n\nFrequency:  Every  1st & 2nd Thursday \n\n\n\nStart date: ongoing \n\n\n\nContact Info: 416-642-9445 Ext 7555 \n\n\n\nRegistration Email: scarbenvasc@gmail.com
URL:https://schcontario.ca/event/learn-to-sew/2026-03-05/
LOCATION:The Hub – Mid Scarborough\, 2660 Eglinton Ave East\, Scarborough\, Ontario\, M1K 2S3\, Canada
CATEGORIES:Hub Mid Scarborough
ORGANIZER;CN="The Hub Mid-Scarborough":MAILTO:hubadmin@schcontario.ca 
END:VEVENT
BEGIN:VEVENT
DTSTART;TZID=UTC:20260303T180000
DTEND;TZID=UTC:20260303T193000
DTSTAMP:20260419T145657
CREATED:20250915T005153Z
LAST-MODIFIED:20250915T012113Z
UID:10054539-1772560800-1772566200@schcontario.ca
SUMMARY:Yoga
DESCRIPTION:Registration is optional\, drop-ins are welcome.  \n\n\n\nDescription:  \n\n\n\nWeekly yoga class \n\n\n\nEligibility: \n\n\n\n16 years or older\, dress code of white top and black pants\, bring your own yoga mat. \n\n\n\nContact Info:  \n\n\n\nEmail info@vasantham.ca or call 416-847-4172 for more information or to register.
URL:https://schcontario.ca/event/yoga/2026-03-03/
LOCATION:The Hub – Mid Scarborough\, 2660 Eglinton Ave East\, Scarborough\, Ontario\, M1K 2S3\, Canada
CATEGORIES:Hub Mid Scarborough
END:VEVENT
BEGIN:VEVENT
DTSTART;TZID=UTC:20260302T130000
DTEND;TZID=UTC:20260302T160000
DTSTAMP:20260419T145657
CREATED:20250506T170019Z
LAST-MODIFIED:20250506T170028Z
UID:10023137-1772456400-1772467200@schcontario.ca
SUMMARY:Afghan Seniors Program
DESCRIPTION:Registration is not required.  This is a drop-in program. \n\n\n\nDescription:  \n\n\n\nThis program aims to assist Afghan seniors with peer support and social engagement\, and provide innovative ways for seniors to continue to play an important role in their community.   \n\n\n\nEligibility: \n\n\n\nAdults/seniors \n\n\n\nContact Info: \n\n\n\nEmail hubadmin@schcontario.ca  or call 416-642-9445 ext. 7555
URL:https://schcontario.ca/event/afghan-seniors-program-2/2026-03-02/
LOCATION:The Hub – Mid Scarborough\, 2660 Eglinton Ave East\, Scarborough\, Ontario\, M1K 2S3\, Canada
CATEGORIES:Hub Mid Scarborough
ORGANIZER;CN="The Hub Mid-Scarborough":MAILTO:hubadmin@schcontario.ca 
END:VEVENT
BEGIN:VEVENT
DTSTART;TZID=America/Toronto:20260226T180000
DTEND;TZID=America/Toronto:20260226T190000
DTSTAMP:20260419T145657
CREATED:20250915T005414Z
LAST-MODIFIED:20250915T005418Z
UID:10054277-1772128800-1772132400@schcontario.ca
SUMMARY:Social Sewing Drop-in
DESCRIPTION:Registration required: No \n\n\n\nDescription:  To gain experience and learn to sew for the first time \n\n\n\nEligibility: 16+ \n\n\n\nFrequency:  Every 3rd & 4th Thursday \n\n\n\nContact Info: 416-642-9445 Ext 7555 \n\n\n\nRegistration Email: scarbenvasc@gmail.com
URL:https://schcontario.ca/event/social-sewing-drop-in-3/2026-02-26/
LOCATION:The Hub – Mid Scarborough\, 2660 Eglinton Ave East\, Scarborough\, Ontario\, M1K 2S3\, Canada
CATEGORIES:Hub Mid Scarborough
ORGANIZER;CN="The Hub Mid-Scarborough":MAILTO:hubadmin@schcontario.ca 
END:VEVENT
BEGIN:VEVENT
DTSTART;TZID=UTC:20260224T180000
DTEND;TZID=UTC:20260224T193000
DTSTAMP:20260419T145657
CREATED:20250915T005153Z
LAST-MODIFIED:20250915T012113Z
UID:10054538-1771956000-1771961400@schcontario.ca
SUMMARY:Yoga
DESCRIPTION:Registration is optional\, drop-ins are welcome.  \n\n\n\nDescription:  \n\n\n\nWeekly yoga class \n\n\n\nEligibility: \n\n\n\n16 years or older\, dress code of white top and black pants\, bring your own yoga mat. \n\n\n\nContact Info:  \n\n\n\nEmail info@vasantham.ca or call 416-847-4172 for more information or to register.
URL:https://schcontario.ca/event/yoga/2026-02-24/
LOCATION:The Hub – Mid Scarborough\, 2660 Eglinton Ave East\, Scarborough\, Ontario\, M1K 2S3\, Canada
CATEGORIES:Hub Mid Scarborough
END:VEVENT
BEGIN:VEVENT
DTSTART;TZID=UTC:20260223T130000
DTEND;TZID=UTC:20260223T160000
DTSTAMP:20260419T145657
CREATED:20250506T170019Z
LAST-MODIFIED:20250506T170028Z
UID:10023136-1771851600-1771862400@schcontario.ca
SUMMARY:Afghan Seniors Program
DESCRIPTION:Registration is not required.  This is a drop-in program. \n\n\n\nDescription:  \n\n\n\nThis program aims to assist Afghan seniors with peer support and social engagement\, and provide innovative ways for seniors to continue to play an important role in their community.   \n\n\n\nEligibility: \n\n\n\nAdults/seniors \n\n\n\nContact Info: \n\n\n\nEmail hubadmin@schcontario.ca  or call 416-642-9445 ext. 7555
URL:https://schcontario.ca/event/afghan-seniors-program-2/2026-02-23/
LOCATION:The Hub – Mid Scarborough\, 2660 Eglinton Ave East\, Scarborough\, Ontario\, M1K 2S3\, Canada
CATEGORIES:Hub Mid Scarborough
ORGANIZER;CN="The Hub Mid-Scarborough":MAILTO:hubadmin@schcontario.ca 
END:VEVENT
BEGIN:VEVENT
DTSTART;TZID=America/Toronto:20260219T180000
DTEND;TZID=America/Toronto:20260219T190000
DTSTAMP:20260419T145657
CREATED:20250806T135120Z
LAST-MODIFIED:20250915T012240Z
UID:10054260-1771524000-1771527600@schcontario.ca
SUMMARY:Social Sewing Drop-In
DESCRIPTION:Registration required: No \n\n\n\nDescription:  To gain experience and learn to sew for the first time \n\n\n\nEligibility: 16+ \n\n\n\nFrequency:  Every 3rd & 4th Thursday \n\n\n\nContact Info: 416-642-9445 Ext 7555 \n\n\n\nRegistration Email: scarbenvasc@gmail.com
URL:https://schcontario.ca/event/social-sewing-drop-in/2026-02-19/
LOCATION:The Hub – Mid Scarborough\, 2660 Eglinton Ave East\, Scarborough\, Ontario\, M1K 2S3\, Canada
CATEGORIES:Hub Mid Scarborough
ORGANIZER;CN="The Hub Mid-Scarborough":MAILTO:hubadmin@schcontario.ca 
END:VEVENT
BEGIN:VEVENT
DTSTART;TZID=UTC:20260217T180000
DTEND;TZID=UTC:20260217T193000
DTSTAMP:20260419T145657
CREATED:20250915T005153Z
LAST-MODIFIED:20250915T012113Z
UID:10054537-1771351200-1771356600@schcontario.ca
SUMMARY:Yoga
DESCRIPTION:Registration is optional\, drop-ins are welcome.  \n\n\n\nDescription:  \n\n\n\nWeekly yoga class \n\n\n\nEligibility: \n\n\n\n16 years or older\, dress code of white top and black pants\, bring your own yoga mat. \n\n\n\nContact Info:  \n\n\n\nEmail info@vasantham.ca or call 416-847-4172 for more information or to register.
URL:https://schcontario.ca/event/yoga/2026-02-17/
LOCATION:The Hub – Mid Scarborough\, 2660 Eglinton Ave East\, Scarborough\, Ontario\, M1K 2S3\, Canada
CATEGORIES:Hub Mid Scarborough
END:VEVENT
BEGIN:VEVENT
DTSTART;TZID=UTC:20260216T130000
DTEND;TZID=UTC:20260216T160000
DTSTAMP:20260419T145657
CREATED:20250506T170019Z
LAST-MODIFIED:20250506T170028Z
UID:10023135-1771246800-1771257600@schcontario.ca
SUMMARY:Afghan Seniors Program
DESCRIPTION:Registration is not required.  This is a drop-in program. \n\n\n\nDescription:  \n\n\n\nThis program aims to assist Afghan seniors with peer support and social engagement\, and provide innovative ways for seniors to continue to play an important role in their community.   \n\n\n\nEligibility: \n\n\n\nAdults/seniors \n\n\n\nContact Info: \n\n\n\nEmail hubadmin@schcontario.ca  or call 416-642-9445 ext. 7555
URL:https://schcontario.ca/event/afghan-seniors-program-2/2026-02-16/
LOCATION:The Hub – Mid Scarborough\, 2660 Eglinton Ave East\, Scarborough\, Ontario\, M1K 2S3\, Canada
CATEGORIES:Hub Mid Scarborough
ORGANIZER;CN="The Hub Mid-Scarborough":MAILTO:hubadmin@schcontario.ca 
END:VEVENT
BEGIN:VEVENT
DTSTART;TZID=America/Toronto:20260212T180000
DTEND;TZID=America/Toronto:20260212T190000
DTSTAMP:20260419T145657
CREATED:20250806T134415Z
LAST-MODIFIED:20250806T135459Z
UID:10054293-1770919200-1770922800@schcontario.ca
SUMMARY:Learn to Sew
DESCRIPTION:Registration required:  Yes/ we do welcome drop-in if numbers are low on the day of. \n\n\n\nDescription:  Ask questions\, share knowledge\, collaborate with others and learn how to use the sewing machine \n\n\n\nEligibility: 16+ \n\n\n\nFrequency:  Every  1st & 2nd Thursday \n\n\n\nContact Info: 416-642-9445 Ext 7555 \n\n\n\nRegistration Email: scarbenvasc@gmail.com
URL:https://schcontario.ca/event/learn-to-sew-2/2026-02-12/
LOCATION:The Hub – Mid Scarborough\, 2660 Eglinton Ave East\, Scarborough\, Ontario\, M1K 2S3\, Canada
CATEGORIES:Hub Mid Scarborough
ORGANIZER;CN="The Hub Mid-Scarborough":MAILTO:hubadmin@schcontario.ca 
END:VEVENT
BEGIN:VEVENT
DTSTART;TZID=UTC:20260210T180000
DTEND;TZID=UTC:20260210T193000
DTSTAMP:20260419T145657
CREATED:20250915T005153Z
LAST-MODIFIED:20250915T012113Z
UID:10054536-1770746400-1770751800@schcontario.ca
SUMMARY:Yoga
DESCRIPTION:Registration is optional\, drop-ins are welcome.  \n\n\n\nDescription:  \n\n\n\nWeekly yoga class \n\n\n\nEligibility: \n\n\n\n16 years or older\, dress code of white top and black pants\, bring your own yoga mat. \n\n\n\nContact Info:  \n\n\n\nEmail info@vasantham.ca or call 416-847-4172 for more information or to register.
URL:https://schcontario.ca/event/yoga/2026-02-10/
LOCATION:The Hub – Mid Scarborough\, 2660 Eglinton Ave East\, Scarborough\, Ontario\, M1K 2S3\, Canada
CATEGORIES:Hub Mid Scarborough
END:VEVENT
BEGIN:VEVENT
DTSTART;TZID=UTC:20260209T130000
DTEND;TZID=UTC:20260209T160000
DTSTAMP:20260419T145657
CREATED:20250506T170019Z
LAST-MODIFIED:20250506T170028Z
UID:10023134-1770642000-1770652800@schcontario.ca
SUMMARY:Afghan Seniors Program
DESCRIPTION:Registration is not required.  This is a drop-in program. \n\n\n\nDescription:  \n\n\n\nThis program aims to assist Afghan seniors with peer support and social engagement\, and provide innovative ways for seniors to continue to play an important role in their community.   \n\n\n\nEligibility: \n\n\n\nAdults/seniors \n\n\n\nContact Info: \n\n\n\nEmail hubadmin@schcontario.ca  or call 416-642-9445 ext. 7555
URL:https://schcontario.ca/event/afghan-seniors-program-2/2026-02-09/
LOCATION:The Hub – Mid Scarborough\, 2660 Eglinton Ave East\, Scarborough\, Ontario\, M1K 2S3\, Canada
CATEGORIES:Hub Mid Scarborough
ORGANIZER;CN="The Hub Mid-Scarborough":MAILTO:hubadmin@schcontario.ca 
END:VEVENT
BEGIN:VEVENT
DTSTART;TZID=America/Toronto:20260205T180000
DTEND;TZID=America/Toronto:20260205T190000
DTSTAMP:20260419T145657
CREATED:20250806T135716Z
LAST-MODIFIED:20250806T135720Z
UID:10054309-1770314400-1770318000@schcontario.ca
SUMMARY:Learn to Sew
DESCRIPTION:Registration required:  Yes/ we do welcome drop-in if numbers are low on the day of. \n\n\n\nDescription:  Ask questions\, share knowledge\, collaborate with others and learn how to use the sewing machine \n\n\n\nEligibility: 16+ \n\n\n\nFrequency:  Every  1st & 2nd Thursday \n\n\n\nStart date: ongoing \n\n\n\nContact Info: 416-642-9445 Ext 7555 \n\n\n\nRegistration Email: scarbenvasc@gmail.com
URL:https://schcontario.ca/event/learn-to-sew-3/2026-02-05/
LOCATION:The Hub – Mid Scarborough\, 2660 Eglinton Ave East\, Scarborough\, Ontario\, M1K 2S3\, Canada
CATEGORIES:Hub Mid Scarborough
ORGANIZER;CN="The Hub Mid-Scarborough":MAILTO:hubadmin@schcontario.ca 
END:VEVENT
BEGIN:VEVENT
DTSTART;TZID=America/Toronto:20260205T180000
DTEND;TZID=America/Toronto:20260205T190000
DTSTAMP:20260419T145657
CREATED:20250806T134055Z
LAST-MODIFIED:20250806T135907Z
UID:10054326-1770314400-1770318000@schcontario.ca
SUMMARY:Learn to Sew
DESCRIPTION:Registration required:  Yes/ we do welcome drop-in if numbers are low on the day of. \n\n\n\nDescription:  Ask questions\, share knowledge\, collaborate with others and learn how to use the sewing machine \n\n\n\nEligibility: 16+ \n\n\n\nFrequency:  Every  1st & 2nd Thursday \n\n\n\nStart date: ongoing \n\n\n\nContact Info: 416-642-9445 Ext 7555 \n\n\n\nRegistration Email: scarbenvasc@gmail.com
URL:https://schcontario.ca/event/learn-to-sew/2026-02-05/
LOCATION:The Hub – Mid Scarborough\, 2660 Eglinton Ave East\, Scarborough\, Ontario\, M1K 2S3\, Canada
CATEGORIES:Hub Mid Scarborough
ORGANIZER;CN="The Hub Mid-Scarborough":MAILTO:hubadmin@schcontario.ca 
END:VEVENT
BEGIN:VEVENT
DTSTART;TZID=UTC:20260203T180000
DTEND;TZID=UTC:20260203T193000
DTSTAMP:20260419T145657
CREATED:20250915T005153Z
LAST-MODIFIED:20250915T012113Z
UID:10054535-1770141600-1770147000@schcontario.ca
SUMMARY:Yoga
DESCRIPTION:Registration is optional\, drop-ins are welcome.  \n\n\n\nDescription:  \n\n\n\nWeekly yoga class \n\n\n\nEligibility: \n\n\n\n16 years or older\, dress code of white top and black pants\, bring your own yoga mat. \n\n\n\nContact Info:  \n\n\n\nEmail info@vasantham.ca or call 416-847-4172 for more information or to register.
URL:https://schcontario.ca/event/yoga/2026-02-03/
LOCATION:The Hub – Mid Scarborough\, 2660 Eglinton Ave East\, Scarborough\, Ontario\, M1K 2S3\, Canada
CATEGORIES:Hub Mid Scarborough
END:VEVENT
BEGIN:VEVENT
DTSTART;TZID=UTC:20260202T130000
DTEND;TZID=UTC:20260202T160000
DTSTAMP:20260419T145657
CREATED:20250506T170019Z
LAST-MODIFIED:20250506T170028Z
UID:10023133-1770037200-1770048000@schcontario.ca
SUMMARY:Afghan Seniors Program
DESCRIPTION:Registration is not required.  This is a drop-in program. \n\n\n\nDescription:  \n\n\n\nThis program aims to assist Afghan seniors with peer support and social engagement\, and provide innovative ways for seniors to continue to play an important role in their community.   \n\n\n\nEligibility: \n\n\n\nAdults/seniors \n\n\n\nContact Info: \n\n\n\nEmail hubadmin@schcontario.ca  or call 416-642-9445 ext. 7555
URL:https://schcontario.ca/event/afghan-seniors-program-2/2026-02-02/
LOCATION:The Hub – Mid Scarborough\, 2660 Eglinton Ave East\, Scarborough\, Ontario\, M1K 2S3\, Canada
CATEGORIES:Hub Mid Scarborough
ORGANIZER;CN="The Hub Mid-Scarborough":MAILTO:hubadmin@schcontario.ca 
END:VEVENT
BEGIN:VEVENT
DTSTART;TZID=UTC:20260127T180000
DTEND;TZID=UTC:20260127T193000
DTSTAMP:20260419T145657
CREATED:20250915T005153Z
LAST-MODIFIED:20250915T012113Z
UID:10054534-1769536800-1769542200@schcontario.ca
SUMMARY:Yoga
DESCRIPTION:Registration is optional\, drop-ins are welcome.  \n\n\n\nDescription:  \n\n\n\nWeekly yoga class \n\n\n\nEligibility: \n\n\n\n16 years or older\, dress code of white top and black pants\, bring your own yoga mat. \n\n\n\nContact Info:  \n\n\n\nEmail info@vasantham.ca or call 416-847-4172 for more information or to register.
URL:https://schcontario.ca/event/yoga/2026-01-27/
LOCATION:The Hub – Mid Scarborough\, 2660 Eglinton Ave East\, Scarborough\, Ontario\, M1K 2S3\, Canada
CATEGORIES:Hub Mid Scarborough
END:VEVENT
BEGIN:VEVENT
DTSTART;TZID=UTC:20260126T130000
DTEND;TZID=UTC:20260126T160000
DTSTAMP:20260419T145657
CREATED:20250506T170019Z
LAST-MODIFIED:20250506T170028Z
UID:10023132-1769432400-1769443200@schcontario.ca
SUMMARY:Afghan Seniors Program
DESCRIPTION:Registration is not required.  This is a drop-in program. \n\n\n\nDescription:  \n\n\n\nThis program aims to assist Afghan seniors with peer support and social engagement\, and provide innovative ways for seniors to continue to play an important role in their community.   \n\n\n\nEligibility: \n\n\n\nAdults/seniors \n\n\n\nContact Info: \n\n\n\nEmail hubadmin@schcontario.ca  or call 416-642-9445 ext. 7555
URL:https://schcontario.ca/event/afghan-seniors-program-2/2026-01-26/
LOCATION:The Hub – Mid Scarborough\, 2660 Eglinton Ave East\, Scarborough\, Ontario\, M1K 2S3\, Canada
CATEGORIES:Hub Mid Scarborough
ORGANIZER;CN="The Hub Mid-Scarborough":MAILTO:hubadmin@schcontario.ca 
END:VEVENT
BEGIN:VEVENT
DTSTART;TZID=America/Toronto:20260122T180000
DTEND;TZID=America/Toronto:20260122T190000
DTSTAMP:20260419T145657
CREATED:20250915T005414Z
LAST-MODIFIED:20250915T005418Z
UID:10054276-1769104800-1769108400@schcontario.ca
SUMMARY:Social Sewing Drop-in
DESCRIPTION:Registration required: No \n\n\n\nDescription:  To gain experience and learn to sew for the first time \n\n\n\nEligibility: 16+ \n\n\n\nFrequency:  Every 3rd & 4th Thursday \n\n\n\nContact Info: 416-642-9445 Ext 7555 \n\n\n\nRegistration Email: scarbenvasc@gmail.com
URL:https://schcontario.ca/event/social-sewing-drop-in-3/2026-01-22/
LOCATION:The Hub – Mid Scarborough\, 2660 Eglinton Ave East\, Scarborough\, Ontario\, M1K 2S3\, Canada
CATEGORIES:Hub Mid Scarborough
ORGANIZER;CN="The Hub Mid-Scarborough":MAILTO:hubadmin@schcontario.ca 
END:VEVENT
BEGIN:VEVENT
DTSTART;TZID=UTC:20260120T180000
DTEND;TZID=UTC:20260120T193000
DTSTAMP:20260419T145657
CREATED:20250915T005153Z
LAST-MODIFIED:20250915T012113Z
UID:10054533-1768932000-1768937400@schcontario.ca
SUMMARY:Yoga
DESCRIPTION:Registration is optional\, drop-ins are welcome.  \n\n\n\nDescription:  \n\n\n\nWeekly yoga class \n\n\n\nEligibility: \n\n\n\n16 years or older\, dress code of white top and black pants\, bring your own yoga mat. \n\n\n\nContact Info:  \n\n\n\nEmail info@vasantham.ca or call 416-847-4172 for more information or to register.
URL:https://schcontario.ca/event/yoga/2026-01-20/
LOCATION:The Hub – Mid Scarborough\, 2660 Eglinton Ave East\, Scarborough\, Ontario\, M1K 2S3\, Canada
CATEGORIES:Hub Mid Scarborough
END:VEVENT
BEGIN:VEVENT
DTSTART;TZID=UTC:20260119T130000
DTEND;TZID=UTC:20260119T160000
DTSTAMP:20260419T145657
CREATED:20250506T170019Z
LAST-MODIFIED:20250506T170028Z
UID:10023131-1768827600-1768838400@schcontario.ca
SUMMARY:Afghan Seniors Program
DESCRIPTION:Registration is not required.  This is a drop-in program. \n\n\n\nDescription:  \n\n\n\nThis program aims to assist Afghan seniors with peer support and social engagement\, and provide innovative ways for seniors to continue to play an important role in their community.   \n\n\n\nEligibility: \n\n\n\nAdults/seniors \n\n\n\nContact Info: \n\n\n\nEmail hubadmin@schcontario.ca  or call 416-642-9445 ext. 7555
URL:https://schcontario.ca/event/afghan-seniors-program-2/2026-01-19/
LOCATION:The Hub – Mid Scarborough\, 2660 Eglinton Ave East\, Scarborough\, Ontario\, M1K 2S3\, Canada
CATEGORIES:Hub Mid Scarborough
ORGANIZER;CN="The Hub Mid-Scarborough":MAILTO:hubadmin@schcontario.ca 
END:VEVENT
BEGIN:VEVENT
DTSTART;TZID=America/Toronto:20260115T180000
DTEND;TZID=America/Toronto:20260115T190000
DTSTAMP:20260419T145657
CREATED:20250806T135120Z
LAST-MODIFIED:20250915T012240Z
UID:10054259-1768500000-1768503600@schcontario.ca
SUMMARY:Social Sewing Drop-In
DESCRIPTION:Registration required: No \n\n\n\nDescription:  To gain experience and learn to sew for the first time \n\n\n\nEligibility: 16+ \n\n\n\nFrequency:  Every 3rd & 4th Thursday \n\n\n\nContact Info: 416-642-9445 Ext 7555 \n\n\n\nRegistration Email: scarbenvasc@gmail.com
URL:https://schcontario.ca/event/social-sewing-drop-in/2026-01-15/
LOCATION:The Hub – Mid Scarborough\, 2660 Eglinton Ave East\, Scarborough\, Ontario\, M1K 2S3\, Canada
CATEGORIES:Hub Mid Scarborough
ORGANIZER;CN="The Hub Mid-Scarborough":MAILTO:hubadmin@schcontario.ca 
END:VEVENT
END:VCALENDAR