BEGIN:VCALENDAR
VERSION:2.0
PRODID:-//Scarborough Centre for Healthy Communities - ECPv6.15.20//NONSGML v1.0//EN
CALSCALE:GREGORIAN
METHOD:PUBLISH
X-WR-CALNAME:Scarborough Centre for Healthy Communities
X-ORIGINAL-URL:https://schcontario.ca
X-WR-CALDESC:Events for Scarborough Centre for Healthy Communities
REFRESH-INTERVAL;VALUE=DURATION:PT1H
X-Robots-Tag:noindex
X-PUBLISHED-TTL:PT1H
BEGIN:VTIMEZONE
TZID:UTC
BEGIN:STANDARD
TZOFFSETFROM:+0000
TZOFFSETTO:+0000
TZNAME:UTC
DTSTART:20260101T000000
END:STANDARD
END:VTIMEZONE
BEGIN:VEVENT
DTSTART;TZID=UTC:20270125T130000
DTEND;TZID=UTC:20270125T160000
DTSTAMP:20260420T040458
CREATED:20250506T170019Z
LAST-MODIFIED:20250506T170028Z
UID:10023184-1800882000-1800892800@schcontario.ca
SUMMARY:Afghan Seniors Program
DESCRIPTION:Registration is not required.  This is a drop-in program. \n\n\n\nDescription:  \n\n\n\nThis program aims to assist Afghan seniors with peer support and social engagement\, and provide innovative ways for seniors to continue to play an important role in their community.   \n\n\n\nEligibility: \n\n\n\nAdults/seniors \n\n\n\nContact Info: \n\n\n\nEmail hubadmin@schcontario.ca  or call 416-642-9445 ext. 7555
URL:https://schcontario.ca/event/afghan-seniors-program-2/2027-01-25/
LOCATION:The Hub – Mid Scarborough\, 2660 Eglinton Ave East\, Scarborough\, Ontario\, M1K 2S3\, Canada
CATEGORIES:Hub Mid Scarborough
ORGANIZER;CN="The Hub Mid-Scarborough":MAILTO:hubadmin@schcontario.ca 
END:VEVENT
BEGIN:VEVENT
DTSTART;TZID=UTC:20270126T180000
DTEND;TZID=UTC:20270126T193000
DTSTAMP:20260420T040458
CREATED:20250915T005153Z
LAST-MODIFIED:20250915T012113Z
UID:10054586-1800986400-1800991800@schcontario.ca
SUMMARY:Yoga
DESCRIPTION:Registration is optional\, drop-ins are welcome.  \n\n\n\nDescription:  \n\n\n\nWeekly yoga class \n\n\n\nEligibility: \n\n\n\n16 years or older\, dress code of white top and black pants\, bring your own yoga mat. \n\n\n\nContact Info:  \n\n\n\nEmail info@vasantham.ca or call 416-847-4172 for more information or to register.
URL:https://schcontario.ca/event/yoga/2027-01-26/
LOCATION:The Hub – Mid Scarborough\, 2660 Eglinton Ave East\, Scarborough\, Ontario\, M1K 2S3\, Canada
CATEGORIES:Hub Mid Scarborough
END:VEVENT
BEGIN:VEVENT
DTSTART;TZID=UTC:20270201T130000
DTEND;TZID=UTC:20270201T160000
DTSTAMP:20260420T040458
CREATED:20250506T170019Z
LAST-MODIFIED:20250506T170028Z
UID:10023185-1801486800-1801497600@schcontario.ca
SUMMARY:Afghan Seniors Program
DESCRIPTION:Registration is not required.  This is a drop-in program. \n\n\n\nDescription:  \n\n\n\nThis program aims to assist Afghan seniors with peer support and social engagement\, and provide innovative ways for seniors to continue to play an important role in their community.   \n\n\n\nEligibility: \n\n\n\nAdults/seniors \n\n\n\nContact Info: \n\n\n\nEmail hubadmin@schcontario.ca  or call 416-642-9445 ext. 7555
URL:https://schcontario.ca/event/afghan-seniors-program-2/2027-02-01/
LOCATION:The Hub – Mid Scarborough\, 2660 Eglinton Ave East\, Scarborough\, Ontario\, M1K 2S3\, Canada
CATEGORIES:Hub Mid Scarborough
ORGANIZER;CN="The Hub Mid-Scarborough":MAILTO:hubadmin@schcontario.ca 
END:VEVENT
BEGIN:VEVENT
DTSTART;TZID=UTC:20270202T180000
DTEND;TZID=UTC:20270202T193000
DTSTAMP:20260420T040458
CREATED:20250915T005153Z
LAST-MODIFIED:20250915T012113Z
UID:10054587-1801591200-1801596600@schcontario.ca
SUMMARY:Yoga
DESCRIPTION:Registration is optional\, drop-ins are welcome.  \n\n\n\nDescription:  \n\n\n\nWeekly yoga class \n\n\n\nEligibility: \n\n\n\n16 years or older\, dress code of white top and black pants\, bring your own yoga mat. \n\n\n\nContact Info:  \n\n\n\nEmail info@vasantham.ca or call 416-847-4172 for more information or to register.
URL:https://schcontario.ca/event/yoga/2027-02-02/
LOCATION:The Hub – Mid Scarborough\, 2660 Eglinton Ave East\, Scarborough\, Ontario\, M1K 2S3\, Canada
CATEGORIES:Hub Mid Scarborough
END:VEVENT
BEGIN:VEVENT
DTSTART;TZID=UTC:20270208T130000
DTEND;TZID=UTC:20270208T160000
DTSTAMP:20260420T040458
CREATED:20250506T170019Z
LAST-MODIFIED:20250506T170028Z
UID:10023186-1802091600-1802102400@schcontario.ca
SUMMARY:Afghan Seniors Program
DESCRIPTION:Registration is not required.  This is a drop-in program. \n\n\n\nDescription:  \n\n\n\nThis program aims to assist Afghan seniors with peer support and social engagement\, and provide innovative ways for seniors to continue to play an important role in their community.   \n\n\n\nEligibility: \n\n\n\nAdults/seniors \n\n\n\nContact Info: \n\n\n\nEmail hubadmin@schcontario.ca  or call 416-642-9445 ext. 7555
URL:https://schcontario.ca/event/afghan-seniors-program-2/2027-02-08/
LOCATION:The Hub – Mid Scarborough\, 2660 Eglinton Ave East\, Scarborough\, Ontario\, M1K 2S3\, Canada
CATEGORIES:Hub Mid Scarborough
ORGANIZER;CN="The Hub Mid-Scarborough":MAILTO:hubadmin@schcontario.ca 
END:VEVENT
BEGIN:VEVENT
DTSTART;TZID=UTC:20270209T180000
DTEND;TZID=UTC:20270209T193000
DTSTAMP:20260420T040458
CREATED:20250915T005153Z
LAST-MODIFIED:20250915T012113Z
UID:10054588-1802196000-1802201400@schcontario.ca
SUMMARY:Yoga
DESCRIPTION:Registration is optional\, drop-ins are welcome.  \n\n\n\nDescription:  \n\n\n\nWeekly yoga class \n\n\n\nEligibility: \n\n\n\n16 years or older\, dress code of white top and black pants\, bring your own yoga mat. \n\n\n\nContact Info:  \n\n\n\nEmail info@vasantham.ca or call 416-847-4172 for more information or to register.
URL:https://schcontario.ca/event/yoga/2027-02-09/
LOCATION:The Hub – Mid Scarborough\, 2660 Eglinton Ave East\, Scarborough\, Ontario\, M1K 2S3\, Canada
CATEGORIES:Hub Mid Scarborough
END:VEVENT
BEGIN:VEVENT
DTSTART;TZID=UTC:20270215T130000
DTEND;TZID=UTC:20270215T160000
DTSTAMP:20260420T040458
CREATED:20250506T170019Z
LAST-MODIFIED:20250506T170028Z
UID:10023187-1802696400-1802707200@schcontario.ca
SUMMARY:Afghan Seniors Program
DESCRIPTION:Registration is not required.  This is a drop-in program. \n\n\n\nDescription:  \n\n\n\nThis program aims to assist Afghan seniors with peer support and social engagement\, and provide innovative ways for seniors to continue to play an important role in their community.   \n\n\n\nEligibility: \n\n\n\nAdults/seniors \n\n\n\nContact Info: \n\n\n\nEmail hubadmin@schcontario.ca  or call 416-642-9445 ext. 7555
URL:https://schcontario.ca/event/afghan-seniors-program-2/2027-02-15/
LOCATION:The Hub – Mid Scarborough\, 2660 Eglinton Ave East\, Scarborough\, Ontario\, M1K 2S3\, Canada
CATEGORIES:Hub Mid Scarborough
ORGANIZER;CN="The Hub Mid-Scarborough":MAILTO:hubadmin@schcontario.ca 
END:VEVENT
BEGIN:VEVENT
DTSTART;TZID=UTC:20270216T180000
DTEND;TZID=UTC:20270216T193000
DTSTAMP:20260420T040458
CREATED:20250915T005153Z
LAST-MODIFIED:20250915T012113Z
UID:10054589-1802800800-1802806200@schcontario.ca
SUMMARY:Yoga
DESCRIPTION:Registration is optional\, drop-ins are welcome.  \n\n\n\nDescription:  \n\n\n\nWeekly yoga class \n\n\n\nEligibility: \n\n\n\n16 years or older\, dress code of white top and black pants\, bring your own yoga mat. \n\n\n\nContact Info:  \n\n\n\nEmail info@vasantham.ca or call 416-847-4172 for more information or to register.
URL:https://schcontario.ca/event/yoga/2027-02-16/
LOCATION:The Hub – Mid Scarborough\, 2660 Eglinton Ave East\, Scarborough\, Ontario\, M1K 2S3\, Canada
CATEGORIES:Hub Mid Scarborough
END:VEVENT
BEGIN:VEVENT
DTSTART;TZID=UTC:20270222T130000
DTEND;TZID=UTC:20270222T160000
DTSTAMP:20260420T040458
CREATED:20250506T170019Z
LAST-MODIFIED:20250506T170028Z
UID:10023188-1803301200-1803312000@schcontario.ca
SUMMARY:Afghan Seniors Program
DESCRIPTION:Registration is not required.  This is a drop-in program. \n\n\n\nDescription:  \n\n\n\nThis program aims to assist Afghan seniors with peer support and social engagement\, and provide innovative ways for seniors to continue to play an important role in their community.   \n\n\n\nEligibility: \n\n\n\nAdults/seniors \n\n\n\nContact Info: \n\n\n\nEmail hubadmin@schcontario.ca  or call 416-642-9445 ext. 7555
URL:https://schcontario.ca/event/afghan-seniors-program-2/2027-02-22/
LOCATION:The Hub – Mid Scarborough\, 2660 Eglinton Ave East\, Scarborough\, Ontario\, M1K 2S3\, Canada
CATEGORIES:Hub Mid Scarborough
ORGANIZER;CN="The Hub Mid-Scarborough":MAILTO:hubadmin@schcontario.ca 
END:VEVENT
BEGIN:VEVENT
DTSTART;TZID=UTC:20270223T180000
DTEND;TZID=UTC:20270223T193000
DTSTAMP:20260420T040458
CREATED:20250915T005153Z
LAST-MODIFIED:20250915T012113Z
UID:10054590-1803405600-1803411000@schcontario.ca
SUMMARY:Yoga
DESCRIPTION:Registration is optional\, drop-ins are welcome.  \n\n\n\nDescription:  \n\n\n\nWeekly yoga class \n\n\n\nEligibility: \n\n\n\n16 years or older\, dress code of white top and black pants\, bring your own yoga mat. \n\n\n\nContact Info:  \n\n\n\nEmail info@vasantham.ca or call 416-847-4172 for more information or to register.
URL:https://schcontario.ca/event/yoga/2027-02-23/
LOCATION:The Hub – Mid Scarborough\, 2660 Eglinton Ave East\, Scarborough\, Ontario\, M1K 2S3\, Canada
CATEGORIES:Hub Mid Scarborough
END:VEVENT
BEGIN:VEVENT
DTSTART;TZID=UTC:20270301T130000
DTEND;TZID=UTC:20270301T160000
DTSTAMP:20260420T040458
CREATED:20250506T170019Z
LAST-MODIFIED:20250506T170028Z
UID:10023189-1803906000-1803916800@schcontario.ca
SUMMARY:Afghan Seniors Program
DESCRIPTION:Registration is not required.  This is a drop-in program. \n\n\n\nDescription:  \n\n\n\nThis program aims to assist Afghan seniors with peer support and social engagement\, and provide innovative ways for seniors to continue to play an important role in their community.   \n\n\n\nEligibility: \n\n\n\nAdults/seniors \n\n\n\nContact Info: \n\n\n\nEmail hubadmin@schcontario.ca  or call 416-642-9445 ext. 7555
URL:https://schcontario.ca/event/afghan-seniors-program-2/2027-03-01/
LOCATION:The Hub – Mid Scarborough\, 2660 Eglinton Ave East\, Scarborough\, Ontario\, M1K 2S3\, Canada
CATEGORIES:Hub Mid Scarborough
ORGANIZER;CN="The Hub Mid-Scarborough":MAILTO:hubadmin@schcontario.ca 
END:VEVENT
BEGIN:VEVENT
DTSTART;TZID=UTC:20270302T180000
DTEND;TZID=UTC:20270302T193000
DTSTAMP:20260420T040458
CREATED:20250915T005153Z
LAST-MODIFIED:20250915T012113Z
UID:10054591-1804010400-1804015800@schcontario.ca
SUMMARY:Yoga
DESCRIPTION:Registration is optional\, drop-ins are welcome.  \n\n\n\nDescription:  \n\n\n\nWeekly yoga class \n\n\n\nEligibility: \n\n\n\n16 years or older\, dress code of white top and black pants\, bring your own yoga mat. \n\n\n\nContact Info:  \n\n\n\nEmail info@vasantham.ca or call 416-847-4172 for more information or to register.
URL:https://schcontario.ca/event/yoga/2027-03-02/
LOCATION:The Hub – Mid Scarborough\, 2660 Eglinton Ave East\, Scarborough\, Ontario\, M1K 2S3\, Canada
CATEGORIES:Hub Mid Scarborough
END:VEVENT
BEGIN:VEVENT
DTSTART;TZID=UTC:20270308T130000
DTEND;TZID=UTC:20270308T160000
DTSTAMP:20260420T040458
CREATED:20250506T170019Z
LAST-MODIFIED:20250506T170028Z
UID:10023190-1804510800-1804521600@schcontario.ca
SUMMARY:Afghan Seniors Program
DESCRIPTION:Registration is not required.  This is a drop-in program. \n\n\n\nDescription:  \n\n\n\nThis program aims to assist Afghan seniors with peer support and social engagement\, and provide innovative ways for seniors to continue to play an important role in their community.   \n\n\n\nEligibility: \n\n\n\nAdults/seniors \n\n\n\nContact Info: \n\n\n\nEmail hubadmin@schcontario.ca  or call 416-642-9445 ext. 7555
URL:https://schcontario.ca/event/afghan-seniors-program-2/2027-03-08/
LOCATION:The Hub – Mid Scarborough\, 2660 Eglinton Ave East\, Scarborough\, Ontario\, M1K 2S3\, Canada
CATEGORIES:Hub Mid Scarborough
ORGANIZER;CN="The Hub Mid-Scarborough":MAILTO:hubadmin@schcontario.ca 
END:VEVENT
BEGIN:VEVENT
DTSTART;TZID=UTC:20270309T180000
DTEND;TZID=UTC:20270309T193000
DTSTAMP:20260420T040458
CREATED:20250915T005153Z
LAST-MODIFIED:20250915T012113Z
UID:10054592-1804615200-1804620600@schcontario.ca
SUMMARY:Yoga
DESCRIPTION:Registration is optional\, drop-ins are welcome.  \n\n\n\nDescription:  \n\n\n\nWeekly yoga class \n\n\n\nEligibility: \n\n\n\n16 years or older\, dress code of white top and black pants\, bring your own yoga mat. \n\n\n\nContact Info:  \n\n\n\nEmail info@vasantham.ca or call 416-847-4172 for more information or to register.
URL:https://schcontario.ca/event/yoga/2027-03-09/
LOCATION:The Hub – Mid Scarborough\, 2660 Eglinton Ave East\, Scarborough\, Ontario\, M1K 2S3\, Canada
CATEGORIES:Hub Mid Scarborough
END:VEVENT
BEGIN:VEVENT
DTSTART;TZID=UTC:20270315T130000
DTEND;TZID=UTC:20270315T160000
DTSTAMP:20260420T040458
CREATED:20250506T170019Z
LAST-MODIFIED:20250506T170028Z
UID:10023191-1805115600-1805126400@schcontario.ca
SUMMARY:Afghan Seniors Program
DESCRIPTION:Registration is not required.  This is a drop-in program. \n\n\n\nDescription:  \n\n\n\nThis program aims to assist Afghan seniors with peer support and social engagement\, and provide innovative ways for seniors to continue to play an important role in their community.   \n\n\n\nEligibility: \n\n\n\nAdults/seniors \n\n\n\nContact Info: \n\n\n\nEmail hubadmin@schcontario.ca  or call 416-642-9445 ext. 7555
URL:https://schcontario.ca/event/afghan-seniors-program-2/2027-03-15/
LOCATION:The Hub – Mid Scarborough\, 2660 Eglinton Ave East\, Scarborough\, Ontario\, M1K 2S3\, Canada
CATEGORIES:Hub Mid Scarborough
ORGANIZER;CN="The Hub Mid-Scarborough":MAILTO:hubadmin@schcontario.ca 
END:VEVENT
BEGIN:VEVENT
DTSTART;TZID=UTC:20270316T180000
DTEND;TZID=UTC:20270316T193000
DTSTAMP:20260420T040458
CREATED:20250915T005153Z
LAST-MODIFIED:20250915T012113Z
UID:10054593-1805220000-1805225400@schcontario.ca
SUMMARY:Yoga
DESCRIPTION:Registration is optional\, drop-ins are welcome.  \n\n\n\nDescription:  \n\n\n\nWeekly yoga class \n\n\n\nEligibility: \n\n\n\n16 years or older\, dress code of white top and black pants\, bring your own yoga mat. \n\n\n\nContact Info:  \n\n\n\nEmail info@vasantham.ca or call 416-847-4172 for more information or to register.
URL:https://schcontario.ca/event/yoga/2027-03-16/
LOCATION:The Hub – Mid Scarborough\, 2660 Eglinton Ave East\, Scarborough\, Ontario\, M1K 2S3\, Canada
CATEGORIES:Hub Mid Scarborough
END:VEVENT
BEGIN:VEVENT
DTSTART;TZID=UTC:20270322T130000
DTEND;TZID=UTC:20270322T160000
DTSTAMP:20260420T040458
CREATED:20250506T170019Z
LAST-MODIFIED:20250506T170028Z
UID:10023192-1805720400-1805731200@schcontario.ca
SUMMARY:Afghan Seniors Program
DESCRIPTION:Registration is not required.  This is a drop-in program. \n\n\n\nDescription:  \n\n\n\nThis program aims to assist Afghan seniors with peer support and social engagement\, and provide innovative ways for seniors to continue to play an important role in their community.   \n\n\n\nEligibility: \n\n\n\nAdults/seniors \n\n\n\nContact Info: \n\n\n\nEmail hubadmin@schcontario.ca  or call 416-642-9445 ext. 7555
URL:https://schcontario.ca/event/afghan-seniors-program-2/2027-03-22/
LOCATION:The Hub – Mid Scarborough\, 2660 Eglinton Ave East\, Scarborough\, Ontario\, M1K 2S3\, Canada
CATEGORIES:Hub Mid Scarborough
ORGANIZER;CN="The Hub Mid-Scarborough":MAILTO:hubadmin@schcontario.ca 
END:VEVENT
BEGIN:VEVENT
DTSTART;TZID=UTC:20270323T180000
DTEND;TZID=UTC:20270323T193000
DTSTAMP:20260420T040458
CREATED:20250915T005153Z
LAST-MODIFIED:20250915T012113Z
UID:10054594-1805824800-1805830200@schcontario.ca
SUMMARY:Yoga
DESCRIPTION:Registration is optional\, drop-ins are welcome.  \n\n\n\nDescription:  \n\n\n\nWeekly yoga class \n\n\n\nEligibility: \n\n\n\n16 years or older\, dress code of white top and black pants\, bring your own yoga mat. \n\n\n\nContact Info:  \n\n\n\nEmail info@vasantham.ca or call 416-847-4172 for more information or to register.
URL:https://schcontario.ca/event/yoga/2027-03-23/
LOCATION:The Hub – Mid Scarborough\, 2660 Eglinton Ave East\, Scarborough\, Ontario\, M1K 2S3\, Canada
CATEGORIES:Hub Mid Scarborough
END:VEVENT
BEGIN:VEVENT
DTSTART;TZID=UTC:20270329T130000
DTEND;TZID=UTC:20270329T160000
DTSTAMP:20260420T040458
CREATED:20250506T170019Z
LAST-MODIFIED:20250506T170028Z
UID:10023193-1806325200-1806336000@schcontario.ca
SUMMARY:Afghan Seniors Program
DESCRIPTION:Registration is not required.  This is a drop-in program. \n\n\n\nDescription:  \n\n\n\nThis program aims to assist Afghan seniors with peer support and social engagement\, and provide innovative ways for seniors to continue to play an important role in their community.   \n\n\n\nEligibility: \n\n\n\nAdults/seniors \n\n\n\nContact Info: \n\n\n\nEmail hubadmin@schcontario.ca  or call 416-642-9445 ext. 7555
URL:https://schcontario.ca/event/afghan-seniors-program-2/2027-03-29/
LOCATION:The Hub – Mid Scarborough\, 2660 Eglinton Ave East\, Scarborough\, Ontario\, M1K 2S3\, Canada
CATEGORIES:Hub Mid Scarborough
ORGANIZER;CN="The Hub Mid-Scarborough":MAILTO:hubadmin@schcontario.ca 
END:VEVENT
BEGIN:VEVENT
DTSTART;TZID=UTC:20270330T180000
DTEND;TZID=UTC:20270330T193000
DTSTAMP:20260420T040458
CREATED:20250915T005153Z
LAST-MODIFIED:20250915T012113Z
UID:10054595-1806429600-1806435000@schcontario.ca
SUMMARY:Yoga
DESCRIPTION:Registration is optional\, drop-ins are welcome.  \n\n\n\nDescription:  \n\n\n\nWeekly yoga class \n\n\n\nEligibility: \n\n\n\n16 years or older\, dress code of white top and black pants\, bring your own yoga mat. \n\n\n\nContact Info:  \n\n\n\nEmail info@vasantham.ca or call 416-847-4172 for more information or to register.
URL:https://schcontario.ca/event/yoga/2027-03-30/
LOCATION:The Hub – Mid Scarborough\, 2660 Eglinton Ave East\, Scarborough\, Ontario\, M1K 2S3\, Canada
CATEGORIES:Hub Mid Scarborough
END:VEVENT
BEGIN:VEVENT
DTSTART;TZID=UTC:20270405T130000
DTEND;TZID=UTC:20270405T160000
DTSTAMP:20260420T040458
CREATED:20250506T170019Z
LAST-MODIFIED:20250506T170028Z
UID:10023194-1806930000-1806940800@schcontario.ca
SUMMARY:Afghan Seniors Program
DESCRIPTION:Registration is not required.  This is a drop-in program. \n\n\n\nDescription:  \n\n\n\nThis program aims to assist Afghan seniors with peer support and social engagement\, and provide innovative ways for seniors to continue to play an important role in their community.   \n\n\n\nEligibility: \n\n\n\nAdults/seniors \n\n\n\nContact Info: \n\n\n\nEmail hubadmin@schcontario.ca  or call 416-642-9445 ext. 7555
URL:https://schcontario.ca/event/afghan-seniors-program-2/2027-04-05/
LOCATION:The Hub – Mid Scarborough\, 2660 Eglinton Ave East\, Scarborough\, Ontario\, M1K 2S3\, Canada
CATEGORIES:Hub Mid Scarborough
ORGANIZER;CN="The Hub Mid-Scarborough":MAILTO:hubadmin@schcontario.ca 
END:VEVENT
BEGIN:VEVENT
DTSTART;TZID=UTC:20270406T180000
DTEND;TZID=UTC:20270406T193000
DTSTAMP:20260420T040458
CREATED:20250915T005153Z
LAST-MODIFIED:20250915T012113Z
UID:10054596-1807034400-1807039800@schcontario.ca
SUMMARY:Yoga
DESCRIPTION:Registration is optional\, drop-ins are welcome.  \n\n\n\nDescription:  \n\n\n\nWeekly yoga class \n\n\n\nEligibility: \n\n\n\n16 years or older\, dress code of white top and black pants\, bring your own yoga mat. \n\n\n\nContact Info:  \n\n\n\nEmail info@vasantham.ca or call 416-847-4172 for more information or to register.
URL:https://schcontario.ca/event/yoga/2027-04-06/
LOCATION:The Hub – Mid Scarborough\, 2660 Eglinton Ave East\, Scarborough\, Ontario\, M1K 2S3\, Canada
CATEGORIES:Hub Mid Scarborough
END:VEVENT
BEGIN:VEVENT
DTSTART;TZID=UTC:20270412T130000
DTEND;TZID=UTC:20270412T160000
DTSTAMP:20260420T040458
CREATED:20250506T170019Z
LAST-MODIFIED:20250506T170028Z
UID:10023195-1807534800-1807545600@schcontario.ca
SUMMARY:Afghan Seniors Program
DESCRIPTION:Registration is not required.  This is a drop-in program. \n\n\n\nDescription:  \n\n\n\nThis program aims to assist Afghan seniors with peer support and social engagement\, and provide innovative ways for seniors to continue to play an important role in their community.   \n\n\n\nEligibility: \n\n\n\nAdults/seniors \n\n\n\nContact Info: \n\n\n\nEmail hubadmin@schcontario.ca  or call 416-642-9445 ext. 7555
URL:https://schcontario.ca/event/afghan-seniors-program-2/2027-04-12/
LOCATION:The Hub – Mid Scarborough\, 2660 Eglinton Ave East\, Scarborough\, Ontario\, M1K 2S3\, Canada
CATEGORIES:Hub Mid Scarborough
ORGANIZER;CN="The Hub Mid-Scarborough":MAILTO:hubadmin@schcontario.ca 
END:VEVENT
BEGIN:VEVENT
DTSTART;TZID=UTC:20270413T180000
DTEND;TZID=UTC:20270413T193000
DTSTAMP:20260420T040458
CREATED:20250915T005153Z
LAST-MODIFIED:20250915T012113Z
UID:10054597-1807639200-1807644600@schcontario.ca
SUMMARY:Yoga
DESCRIPTION:Registration is optional\, drop-ins are welcome.  \n\n\n\nDescription:  \n\n\n\nWeekly yoga class \n\n\n\nEligibility: \n\n\n\n16 years or older\, dress code of white top and black pants\, bring your own yoga mat. \n\n\n\nContact Info:  \n\n\n\nEmail info@vasantham.ca or call 416-847-4172 for more information or to register.
URL:https://schcontario.ca/event/yoga/2027-04-13/
LOCATION:The Hub – Mid Scarborough\, 2660 Eglinton Ave East\, Scarborough\, Ontario\, M1K 2S3\, Canada
CATEGORIES:Hub Mid Scarborough
END:VEVENT
BEGIN:VEVENT
DTSTART;TZID=UTC:20270419T130000
DTEND;TZID=UTC:20270419T160000
DTSTAMP:20260420T040458
CREATED:20250506T170019Z
LAST-MODIFIED:20250506T170028Z
UID:10023196-1808139600-1808150400@schcontario.ca
SUMMARY:Afghan Seniors Program
DESCRIPTION:Registration is not required.  This is a drop-in program. \n\n\n\nDescription:  \n\n\n\nThis program aims to assist Afghan seniors with peer support and social engagement\, and provide innovative ways for seniors to continue to play an important role in their community.   \n\n\n\nEligibility: \n\n\n\nAdults/seniors \n\n\n\nContact Info: \n\n\n\nEmail hubadmin@schcontario.ca  or call 416-642-9445 ext. 7555
URL:https://schcontario.ca/event/afghan-seniors-program-2/2027-04-19/
LOCATION:The Hub – Mid Scarborough\, 2660 Eglinton Ave East\, Scarborough\, Ontario\, M1K 2S3\, Canada
CATEGORIES:Hub Mid Scarborough
ORGANIZER;CN="The Hub Mid-Scarborough":MAILTO:hubadmin@schcontario.ca 
END:VEVENT
BEGIN:VEVENT
DTSTART;TZID=UTC:20270420T180000
DTEND;TZID=UTC:20270420T193000
DTSTAMP:20260420T040458
CREATED:20250915T005153Z
LAST-MODIFIED:20250915T012113Z
UID:10054598-1808244000-1808249400@schcontario.ca
SUMMARY:Yoga
DESCRIPTION:Registration is optional\, drop-ins are welcome.  \n\n\n\nDescription:  \n\n\n\nWeekly yoga class \n\n\n\nEligibility: \n\n\n\n16 years or older\, dress code of white top and black pants\, bring your own yoga mat. \n\n\n\nContact Info:  \n\n\n\nEmail info@vasantham.ca or call 416-847-4172 for more information or to register.
URL:https://schcontario.ca/event/yoga/2027-04-20/
LOCATION:The Hub – Mid Scarborough\, 2660 Eglinton Ave East\, Scarborough\, Ontario\, M1K 2S3\, Canada
CATEGORIES:Hub Mid Scarborough
END:VEVENT
BEGIN:VEVENT
DTSTART;TZID=UTC:20270426T130000
DTEND;TZID=UTC:20270426T160000
DTSTAMP:20260420T040458
CREATED:20250506T170019Z
LAST-MODIFIED:20250506T170028Z
UID:10023197-1808744400-1808755200@schcontario.ca
SUMMARY:Afghan Seniors Program
DESCRIPTION:Registration is not required.  This is a drop-in program. \n\n\n\nDescription:  \n\n\n\nThis program aims to assist Afghan seniors with peer support and social engagement\, and provide innovative ways for seniors to continue to play an important role in their community.   \n\n\n\nEligibility: \n\n\n\nAdults/seniors \n\n\n\nContact Info: \n\n\n\nEmail hubadmin@schcontario.ca  or call 416-642-9445 ext. 7555
URL:https://schcontario.ca/event/afghan-seniors-program-2/2027-04-26/
LOCATION:The Hub – Mid Scarborough\, 2660 Eglinton Ave East\, Scarborough\, Ontario\, M1K 2S3\, Canada
CATEGORIES:Hub Mid Scarborough
ORGANIZER;CN="The Hub Mid-Scarborough":MAILTO:hubadmin@schcontario.ca 
END:VEVENT
BEGIN:VEVENT
DTSTART;TZID=UTC:20270427T180000
DTEND;TZID=UTC:20270427T193000
DTSTAMP:20260420T040458
CREATED:20250915T005153Z
LAST-MODIFIED:20250915T012113Z
UID:10054599-1808848800-1808854200@schcontario.ca
SUMMARY:Yoga
DESCRIPTION:Registration is optional\, drop-ins are welcome.  \n\n\n\nDescription:  \n\n\n\nWeekly yoga class \n\n\n\nEligibility: \n\n\n\n16 years or older\, dress code of white top and black pants\, bring your own yoga mat. \n\n\n\nContact Info:  \n\n\n\nEmail info@vasantham.ca or call 416-847-4172 for more information or to register.
URL:https://schcontario.ca/event/yoga/2027-04-27/
LOCATION:The Hub – Mid Scarborough\, 2660 Eglinton Ave East\, Scarborough\, Ontario\, M1K 2S3\, Canada
CATEGORIES:Hub Mid Scarborough
END:VEVENT
BEGIN:VEVENT
DTSTART;TZID=UTC:20270503T130000
DTEND;TZID=UTC:20270503T160000
DTSTAMP:20260420T040458
CREATED:20250506T170019Z
LAST-MODIFIED:20250506T170028Z
UID:10023198-1809349200-1809360000@schcontario.ca
SUMMARY:Afghan Seniors Program
DESCRIPTION:Registration is not required.  This is a drop-in program. \n\n\n\nDescription:  \n\n\n\nThis program aims to assist Afghan seniors with peer support and social engagement\, and provide innovative ways for seniors to continue to play an important role in their community.   \n\n\n\nEligibility: \n\n\n\nAdults/seniors \n\n\n\nContact Info: \n\n\n\nEmail hubadmin@schcontario.ca  or call 416-642-9445 ext. 7555
URL:https://schcontario.ca/event/afghan-seniors-program-2/2027-05-03/
LOCATION:The Hub – Mid Scarborough\, 2660 Eglinton Ave East\, Scarborough\, Ontario\, M1K 2S3\, Canada
CATEGORIES:Hub Mid Scarborough
ORGANIZER;CN="The Hub Mid-Scarborough":MAILTO:hubadmin@schcontario.ca 
END:VEVENT
BEGIN:VEVENT
DTSTART;TZID=UTC:20270504T180000
DTEND;TZID=UTC:20270504T193000
DTSTAMP:20260420T040458
CREATED:20250915T005153Z
LAST-MODIFIED:20250915T012113Z
UID:10054600-1809453600-1809459000@schcontario.ca
SUMMARY:Yoga
DESCRIPTION:Registration is optional\, drop-ins are welcome.  \n\n\n\nDescription:  \n\n\n\nWeekly yoga class \n\n\n\nEligibility: \n\n\n\n16 years or older\, dress code of white top and black pants\, bring your own yoga mat. \n\n\n\nContact Info:  \n\n\n\nEmail info@vasantham.ca or call 416-847-4172 for more information or to register.
URL:https://schcontario.ca/event/yoga/2027-05-04/
LOCATION:The Hub – Mid Scarborough\, 2660 Eglinton Ave East\, Scarborough\, Ontario\, M1K 2S3\, Canada
CATEGORIES:Hub Mid Scarborough
END:VEVENT
END:VCALENDAR