BEGIN:VCALENDAR
VERSION:2.0
PRODID:-//Scarborough Centre for Healthy Communities - ECPv6.15.20//NONSGML v1.0//EN
CALSCALE:GREGORIAN
METHOD:PUBLISH
X-WR-CALNAME:Scarborough Centre for Healthy Communities
X-ORIGINAL-URL:https://schcontario.ca
X-WR-CALDESC:Events for Scarborough Centre for Healthy Communities
REFRESH-INTERVAL;VALUE=DURATION:PT1H
X-Robots-Tag:noindex
X-PUBLISHED-TTL:PT1H
BEGIN:VTIMEZONE
TZID:UTC
BEGIN:STANDARD
TZOFFSETFROM:+0000
TZOFFSETTO:+0000
TZNAME:UTC
DTSTART:20250101T000000
END:STANDARD
END:VTIMEZONE
BEGIN:VTIMEZONE
TZID:America/Toronto
BEGIN:DAYLIGHT
TZOFFSETFROM:-0500
TZOFFSETTO:-0400
TZNAME:EDT
DTSTART:20250309T070000
END:DAYLIGHT
BEGIN:STANDARD
TZOFFSETFROM:-0400
TZOFFSETTO:-0500
TZNAME:EST
DTSTART:20251102T060000
END:STANDARD
BEGIN:DAYLIGHT
TZOFFSETFROM:-0500
TZOFFSETTO:-0400
TZNAME:EDT
DTSTART:20260308T070000
END:DAYLIGHT
BEGIN:STANDARD
TZOFFSETFROM:-0400
TZOFFSETTO:-0500
TZNAME:EST
DTSTART:20261101T060000
END:STANDARD
BEGIN:DAYLIGHT
TZOFFSETFROM:-0500
TZOFFSETTO:-0400
TZNAME:EDT
DTSTART:20270314T070000
END:DAYLIGHT
BEGIN:STANDARD
TZOFFSETFROM:-0400
TZOFFSETTO:-0500
TZNAME:EST
DTSTART:20271107T060000
END:STANDARD
END:VTIMEZONE
BEGIN:VEVENT
DTSTART;TZID=UTC:20260420T130000
DTEND;TZID=UTC:20260420T160000
DTSTAMP:20260419T113157
CREATED:20250506T170019Z
LAST-MODIFIED:20250506T170028Z
UID:10023144-1776690000-1776700800@schcontario.ca
SUMMARY:Afghan Seniors Program
DESCRIPTION:Registration is not required.  This is a drop-in program. \n\n\n\nDescription:  \n\n\n\nThis program aims to assist Afghan seniors with peer support and social engagement\, and provide innovative ways for seniors to continue to play an important role in their community.   \n\n\n\nEligibility: \n\n\n\nAdults/seniors \n\n\n\nContact Info: \n\n\n\nEmail hubadmin@schcontario.ca  or call 416-642-9445 ext. 7555
URL:https://schcontario.ca/event/afghan-seniors-program-2/2026-04-20/
LOCATION:The Hub – Mid Scarborough\, 2660 Eglinton Ave East\, Scarborough\, Ontario\, M1K 2S3\, Canada
CATEGORIES:Hub Mid Scarborough
ORGANIZER;CN="The Hub Mid-Scarborough":MAILTO:hubadmin@schcontario.ca 
END:VEVENT
BEGIN:VEVENT
DTSTART;TZID=UTC:20260421T180000
DTEND;TZID=UTC:20260421T193000
DTSTAMP:20260419T113157
CREATED:20250915T005153Z
LAST-MODIFIED:20250915T012113Z
UID:10054546-1776794400-1776799800@schcontario.ca
SUMMARY:Yoga
DESCRIPTION:Registration is optional\, drop-ins are welcome.  \n\n\n\nDescription:  \n\n\n\nWeekly yoga class \n\n\n\nEligibility: \n\n\n\n16 years or older\, dress code of white top and black pants\, bring your own yoga mat. \n\n\n\nContact Info:  \n\n\n\nEmail info@vasantham.ca or call 416-847-4172 for more information or to register.
URL:https://schcontario.ca/event/yoga/2026-04-21/
LOCATION:The Hub – Mid Scarborough\, 2660 Eglinton Ave East\, Scarborough\, Ontario\, M1K 2S3\, Canada
CATEGORIES:Hub Mid Scarborough
END:VEVENT
BEGIN:VEVENT
DTSTART;TZID=America/Toronto:20260423T180000
DTEND;TZID=America/Toronto:20260423T190000
DTSTAMP:20260419T113157
CREATED:20250915T005414Z
LAST-MODIFIED:20250915T005418Z
UID:10054279-1776967200-1776970800@schcontario.ca
SUMMARY:Social Sewing Drop-in
DESCRIPTION:Registration required: No \n\n\n\nDescription:  To gain experience and learn to sew for the first time \n\n\n\nEligibility: 16+ \n\n\n\nFrequency:  Every 3rd & 4th Thursday \n\n\n\nContact Info: 416-642-9445 Ext 7555 \n\n\n\nRegistration Email: scarbenvasc@gmail.com
URL:https://schcontario.ca/event/social-sewing-drop-in-3/2026-04-23/
LOCATION:The Hub – Mid Scarborough\, 2660 Eglinton Ave East\, Scarborough\, Ontario\, M1K 2S3\, Canada
CATEGORIES:Hub Mid Scarborough
ORGANIZER;CN="The Hub Mid-Scarborough":MAILTO:hubadmin@schcontario.ca 
END:VEVENT
BEGIN:VEVENT
DTSTART;TZID=UTC:20260427T130000
DTEND;TZID=UTC:20260427T160000
DTSTAMP:20260419T113157
CREATED:20250506T170019Z
LAST-MODIFIED:20250506T170028Z
UID:10023145-1777294800-1777305600@schcontario.ca
SUMMARY:Afghan Seniors Program
DESCRIPTION:Registration is not required.  This is a drop-in program. \n\n\n\nDescription:  \n\n\n\nThis program aims to assist Afghan seniors with peer support and social engagement\, and provide innovative ways for seniors to continue to play an important role in their community.   \n\n\n\nEligibility: \n\n\n\nAdults/seniors \n\n\n\nContact Info: \n\n\n\nEmail hubadmin@schcontario.ca  or call 416-642-9445 ext. 7555
URL:https://schcontario.ca/event/afghan-seniors-program-2/2026-04-27/
LOCATION:The Hub – Mid Scarborough\, 2660 Eglinton Ave East\, Scarborough\, Ontario\, M1K 2S3\, Canada
CATEGORIES:Hub Mid Scarborough
ORGANIZER;CN="The Hub Mid-Scarborough":MAILTO:hubadmin@schcontario.ca 
END:VEVENT
BEGIN:VEVENT
DTSTART;TZID=UTC:20260428T180000
DTEND;TZID=UTC:20260428T193000
DTSTAMP:20260419T113157
CREATED:20250915T005153Z
LAST-MODIFIED:20250915T012113Z
UID:10054547-1777399200-1777404600@schcontario.ca
SUMMARY:Yoga
DESCRIPTION:Registration is optional\, drop-ins are welcome.  \n\n\n\nDescription:  \n\n\n\nWeekly yoga class \n\n\n\nEligibility: \n\n\n\n16 years or older\, dress code of white top and black pants\, bring your own yoga mat. \n\n\n\nContact Info:  \n\n\n\nEmail info@vasantham.ca or call 416-847-4172 for more information or to register.
URL:https://schcontario.ca/event/yoga/2026-04-28/
LOCATION:The Hub – Mid Scarborough\, 2660 Eglinton Ave East\, Scarborough\, Ontario\, M1K 2S3\, Canada
CATEGORIES:Hub Mid Scarborough
END:VEVENT
BEGIN:VEVENT
DTSTART;TZID=UTC:20260504T130000
DTEND;TZID=UTC:20260504T160000
DTSTAMP:20260419T113157
CREATED:20250506T170019Z
LAST-MODIFIED:20250506T170028Z
UID:10023146-1777899600-1777910400@schcontario.ca
SUMMARY:Afghan Seniors Program
DESCRIPTION:Registration is not required.  This is a drop-in program. \n\n\n\nDescription:  \n\n\n\nThis program aims to assist Afghan seniors with peer support and social engagement\, and provide innovative ways for seniors to continue to play an important role in their community.   \n\n\n\nEligibility: \n\n\n\nAdults/seniors \n\n\n\nContact Info: \n\n\n\nEmail hubadmin@schcontario.ca  or call 416-642-9445 ext. 7555
URL:https://schcontario.ca/event/afghan-seniors-program-2/2026-05-04/
LOCATION:The Hub – Mid Scarborough\, 2660 Eglinton Ave East\, Scarborough\, Ontario\, M1K 2S3\, Canada
CATEGORIES:Hub Mid Scarborough
ORGANIZER;CN="The Hub Mid-Scarborough":MAILTO:hubadmin@schcontario.ca 
END:VEVENT
BEGIN:VEVENT
DTSTART;TZID=UTC:20260505T180000
DTEND;TZID=UTC:20260505T193000
DTSTAMP:20260419T113157
CREATED:20250915T005153Z
LAST-MODIFIED:20250915T012113Z
UID:10054548-1778004000-1778009400@schcontario.ca
SUMMARY:Yoga
DESCRIPTION:Registration is optional\, drop-ins are welcome.  \n\n\n\nDescription:  \n\n\n\nWeekly yoga class \n\n\n\nEligibility: \n\n\n\n16 years or older\, dress code of white top and black pants\, bring your own yoga mat. \n\n\n\nContact Info:  \n\n\n\nEmail info@vasantham.ca or call 416-847-4172 for more information or to register.
URL:https://schcontario.ca/event/yoga/2026-05-05/
LOCATION:The Hub – Mid Scarborough\, 2660 Eglinton Ave East\, Scarborough\, Ontario\, M1K 2S3\, Canada
CATEGORIES:Hub Mid Scarborough
END:VEVENT
BEGIN:VEVENT
DTSTART;TZID=America/Toronto:20260507T180000
DTEND;TZID=America/Toronto:20260507T190000
DTSTAMP:20260419T113157
CREATED:20250806T134055Z
LAST-MODIFIED:20250806T135907Z
UID:10054329-1778176800-1778180400@schcontario.ca
SUMMARY:Learn to Sew
DESCRIPTION:Registration required:  Yes/ we do welcome drop-in if numbers are low on the day of. \n\n\n\nDescription:  Ask questions\, share knowledge\, collaborate with others and learn how to use the sewing machine \n\n\n\nEligibility: 16+ \n\n\n\nFrequency:  Every  1st & 2nd Thursday \n\n\n\nStart date: ongoing \n\n\n\nContact Info: 416-642-9445 Ext 7555 \n\n\n\nRegistration Email: scarbenvasc@gmail.com
URL:https://schcontario.ca/event/learn-to-sew/2026-05-07/
LOCATION:The Hub – Mid Scarborough\, 2660 Eglinton Ave East\, Scarborough\, Ontario\, M1K 2S3\, Canada
CATEGORIES:Hub Mid Scarborough
ORGANIZER;CN="The Hub Mid-Scarborough":MAILTO:hubadmin@schcontario.ca 
END:VEVENT
BEGIN:VEVENT
DTSTART;TZID=America/Toronto:20260507T180000
DTEND;TZID=America/Toronto:20260507T190000
DTSTAMP:20260419T113157
CREATED:20250806T135716Z
LAST-MODIFIED:20250806T135720Z
UID:10054312-1778176800-1778180400@schcontario.ca
SUMMARY:Learn to Sew
DESCRIPTION:Registration required:  Yes/ we do welcome drop-in if numbers are low on the day of. \n\n\n\nDescription:  Ask questions\, share knowledge\, collaborate with others and learn how to use the sewing machine \n\n\n\nEligibility: 16+ \n\n\n\nFrequency:  Every  1st & 2nd Thursday \n\n\n\nStart date: ongoing \n\n\n\nContact Info: 416-642-9445 Ext 7555 \n\n\n\nRegistration Email: scarbenvasc@gmail.com
URL:https://schcontario.ca/event/learn-to-sew-3/2026-05-07/
LOCATION:The Hub – Mid Scarborough\, 2660 Eglinton Ave East\, Scarborough\, Ontario\, M1K 2S3\, Canada
CATEGORIES:Hub Mid Scarborough
ORGANIZER;CN="The Hub Mid-Scarborough":MAILTO:hubadmin@schcontario.ca 
END:VEVENT
BEGIN:VEVENT
DTSTART;TZID=UTC:20260511T130000
DTEND;TZID=UTC:20260511T160000
DTSTAMP:20260419T113157
CREATED:20250506T170019Z
LAST-MODIFIED:20250506T170028Z
UID:10023147-1778504400-1778515200@schcontario.ca
SUMMARY:Afghan Seniors Program
DESCRIPTION:Registration is not required.  This is a drop-in program. \n\n\n\nDescription:  \n\n\n\nThis program aims to assist Afghan seniors with peer support and social engagement\, and provide innovative ways for seniors to continue to play an important role in their community.   \n\n\n\nEligibility: \n\n\n\nAdults/seniors \n\n\n\nContact Info: \n\n\n\nEmail hubadmin@schcontario.ca  or call 416-642-9445 ext. 7555
URL:https://schcontario.ca/event/afghan-seniors-program-2/2026-05-11/
LOCATION:The Hub – Mid Scarborough\, 2660 Eglinton Ave East\, Scarborough\, Ontario\, M1K 2S3\, Canada
CATEGORIES:Hub Mid Scarborough
ORGANIZER;CN="The Hub Mid-Scarborough":MAILTO:hubadmin@schcontario.ca 
END:VEVENT
BEGIN:VEVENT
DTSTART;TZID=UTC:20260512T180000
DTEND;TZID=UTC:20260512T193000
DTSTAMP:20260419T113157
CREATED:20250915T005153Z
LAST-MODIFIED:20250915T012113Z
UID:10054549-1778608800-1778614200@schcontario.ca
SUMMARY:Yoga
DESCRIPTION:Registration is optional\, drop-ins are welcome.  \n\n\n\nDescription:  \n\n\n\nWeekly yoga class \n\n\n\nEligibility: \n\n\n\n16 years or older\, dress code of white top and black pants\, bring your own yoga mat. \n\n\n\nContact Info:  \n\n\n\nEmail info@vasantham.ca or call 416-847-4172 for more information or to register.
URL:https://schcontario.ca/event/yoga/2026-05-12/
LOCATION:The Hub – Mid Scarborough\, 2660 Eglinton Ave East\, Scarborough\, Ontario\, M1K 2S3\, Canada
CATEGORIES:Hub Mid Scarborough
END:VEVENT
BEGIN:VEVENT
DTSTART;TZID=America/Toronto:20260514T180000
DTEND;TZID=America/Toronto:20260514T190000
DTSTAMP:20260419T113157
CREATED:20250806T134415Z
LAST-MODIFIED:20250806T135459Z
UID:10054296-1778781600-1778785200@schcontario.ca
SUMMARY:Learn to Sew
DESCRIPTION:Registration required:  Yes/ we do welcome drop-in if numbers are low on the day of. \n\n\n\nDescription:  Ask questions\, share knowledge\, collaborate with others and learn how to use the sewing machine \n\n\n\nEligibility: 16+ \n\n\n\nFrequency:  Every  1st & 2nd Thursday \n\n\n\nContact Info: 416-642-9445 Ext 7555 \n\n\n\nRegistration Email: scarbenvasc@gmail.com
URL:https://schcontario.ca/event/learn-to-sew-2/2026-05-14/
LOCATION:The Hub – Mid Scarborough\, 2660 Eglinton Ave East\, Scarborough\, Ontario\, M1K 2S3\, Canada
CATEGORIES:Hub Mid Scarborough
ORGANIZER;CN="The Hub Mid-Scarborough":MAILTO:hubadmin@schcontario.ca 
END:VEVENT
BEGIN:VEVENT
DTSTART;TZID=UTC:20260518T130000
DTEND;TZID=UTC:20260518T160000
DTSTAMP:20260419T113157
CREATED:20250506T170019Z
LAST-MODIFIED:20250506T170028Z
UID:10023148-1779109200-1779120000@schcontario.ca
SUMMARY:Afghan Seniors Program
DESCRIPTION:Registration is not required.  This is a drop-in program. \n\n\n\nDescription:  \n\n\n\nThis program aims to assist Afghan seniors with peer support and social engagement\, and provide innovative ways for seniors to continue to play an important role in their community.   \n\n\n\nEligibility: \n\n\n\nAdults/seniors \n\n\n\nContact Info: \n\n\n\nEmail hubadmin@schcontario.ca  or call 416-642-9445 ext. 7555
URL:https://schcontario.ca/event/afghan-seniors-program-2/2026-05-18/
LOCATION:The Hub – Mid Scarborough\, 2660 Eglinton Ave East\, Scarborough\, Ontario\, M1K 2S3\, Canada
CATEGORIES:Hub Mid Scarborough
ORGANIZER;CN="The Hub Mid-Scarborough":MAILTO:hubadmin@schcontario.ca 
END:VEVENT
BEGIN:VEVENT
DTSTART;TZID=UTC:20260519T180000
DTEND;TZID=UTC:20260519T193000
DTSTAMP:20260419T113157
CREATED:20250915T005153Z
LAST-MODIFIED:20250915T012113Z
UID:10054550-1779213600-1779219000@schcontario.ca
SUMMARY:Yoga
DESCRIPTION:Registration is optional\, drop-ins are welcome.  \n\n\n\nDescription:  \n\n\n\nWeekly yoga class \n\n\n\nEligibility: \n\n\n\n16 years or older\, dress code of white top and black pants\, bring your own yoga mat. \n\n\n\nContact Info:  \n\n\n\nEmail info@vasantham.ca or call 416-847-4172 for more information or to register.
URL:https://schcontario.ca/event/yoga/2026-05-19/
LOCATION:The Hub – Mid Scarborough\, 2660 Eglinton Ave East\, Scarborough\, Ontario\, M1K 2S3\, Canada
CATEGORIES:Hub Mid Scarborough
END:VEVENT
BEGIN:VEVENT
DTSTART;TZID=America/Toronto:20260521T180000
DTEND;TZID=America/Toronto:20260521T190000
DTSTAMP:20260419T113157
CREATED:20250806T135120Z
LAST-MODIFIED:20250915T012240Z
UID:10054263-1779386400-1779390000@schcontario.ca
SUMMARY:Social Sewing Drop-In
DESCRIPTION:Registration required: No \n\n\n\nDescription:  To gain experience and learn to sew for the first time \n\n\n\nEligibility: 16+ \n\n\n\nFrequency:  Every 3rd & 4th Thursday \n\n\n\nContact Info: 416-642-9445 Ext 7555 \n\n\n\nRegistration Email: scarbenvasc@gmail.com
URL:https://schcontario.ca/event/social-sewing-drop-in/2026-05-21/
LOCATION:The Hub – Mid Scarborough\, 2660 Eglinton Ave East\, Scarborough\, Ontario\, M1K 2S3\, Canada
CATEGORIES:Hub Mid Scarborough
ORGANIZER;CN="The Hub Mid-Scarborough":MAILTO:hubadmin@schcontario.ca 
END:VEVENT
BEGIN:VEVENT
DTSTART;TZID=UTC:20260525T130000
DTEND;TZID=UTC:20260525T160000
DTSTAMP:20260419T113157
CREATED:20250506T170019Z
LAST-MODIFIED:20250506T170028Z
UID:10023149-1779714000-1779724800@schcontario.ca
SUMMARY:Afghan Seniors Program
DESCRIPTION:Registration is not required.  This is a drop-in program. \n\n\n\nDescription:  \n\n\n\nThis program aims to assist Afghan seniors with peer support and social engagement\, and provide innovative ways for seniors to continue to play an important role in their community.   \n\n\n\nEligibility: \n\n\n\nAdults/seniors \n\n\n\nContact Info: \n\n\n\nEmail hubadmin@schcontario.ca  or call 416-642-9445 ext. 7555
URL:https://schcontario.ca/event/afghan-seniors-program-2/2026-05-25/
LOCATION:The Hub – Mid Scarborough\, 2660 Eglinton Ave East\, Scarborough\, Ontario\, M1K 2S3\, Canada
CATEGORIES:Hub Mid Scarborough
ORGANIZER;CN="The Hub Mid-Scarborough":MAILTO:hubadmin@schcontario.ca 
END:VEVENT
BEGIN:VEVENT
DTSTART;TZID=UTC:20260526T180000
DTEND;TZID=UTC:20260526T193000
DTSTAMP:20260419T113157
CREATED:20250915T005153Z
LAST-MODIFIED:20250915T012113Z
UID:10054551-1779818400-1779823800@schcontario.ca
SUMMARY:Yoga
DESCRIPTION:Registration is optional\, drop-ins are welcome.  \n\n\n\nDescription:  \n\n\n\nWeekly yoga class \n\n\n\nEligibility: \n\n\n\n16 years or older\, dress code of white top and black pants\, bring your own yoga mat. \n\n\n\nContact Info:  \n\n\n\nEmail info@vasantham.ca or call 416-847-4172 for more information or to register.
URL:https://schcontario.ca/event/yoga/2026-05-26/
LOCATION:The Hub – Mid Scarborough\, 2660 Eglinton Ave East\, Scarborough\, Ontario\, M1K 2S3\, Canada
CATEGORIES:Hub Mid Scarborough
END:VEVENT
BEGIN:VEVENT
DTSTART;TZID=America/Toronto:20260528T180000
DTEND;TZID=America/Toronto:20260528T190000
DTSTAMP:20260419T113157
CREATED:20250915T005414Z
LAST-MODIFIED:20250915T005418Z
UID:10054280-1779991200-1779994800@schcontario.ca
SUMMARY:Social Sewing Drop-in
DESCRIPTION:Registration required: No \n\n\n\nDescription:  To gain experience and learn to sew for the first time \n\n\n\nEligibility: 16+ \n\n\n\nFrequency:  Every 3rd & 4th Thursday \n\n\n\nContact Info: 416-642-9445 Ext 7555 \n\n\n\nRegistration Email: scarbenvasc@gmail.com
URL:https://schcontario.ca/event/social-sewing-drop-in-3/2026-05-28/
LOCATION:The Hub – Mid Scarborough\, 2660 Eglinton Ave East\, Scarborough\, Ontario\, M1K 2S3\, Canada
CATEGORIES:Hub Mid Scarborough
ORGANIZER;CN="The Hub Mid-Scarborough":MAILTO:hubadmin@schcontario.ca 
END:VEVENT
BEGIN:VEVENT
DTSTART;TZID=UTC:20260601T130000
DTEND;TZID=UTC:20260601T160000
DTSTAMP:20260419T113157
CREATED:20250506T170019Z
LAST-MODIFIED:20250506T170028Z
UID:10023150-1780318800-1780329600@schcontario.ca
SUMMARY:Afghan Seniors Program
DESCRIPTION:Registration is not required.  This is a drop-in program. \n\n\n\nDescription:  \n\n\n\nThis program aims to assist Afghan seniors with peer support and social engagement\, and provide innovative ways for seniors to continue to play an important role in their community.   \n\n\n\nEligibility: \n\n\n\nAdults/seniors \n\n\n\nContact Info: \n\n\n\nEmail hubadmin@schcontario.ca  or call 416-642-9445 ext. 7555
URL:https://schcontario.ca/event/afghan-seniors-program-2/2026-06-01/
LOCATION:The Hub – Mid Scarborough\, 2660 Eglinton Ave East\, Scarborough\, Ontario\, M1K 2S3\, Canada
CATEGORIES:Hub Mid Scarborough
ORGANIZER;CN="The Hub Mid-Scarborough":MAILTO:hubadmin@schcontario.ca 
END:VEVENT
BEGIN:VEVENT
DTSTART;TZID=UTC:20260602T180000
DTEND;TZID=UTC:20260602T193000
DTSTAMP:20260419T113157
CREATED:20250915T005153Z
LAST-MODIFIED:20250915T012113Z
UID:10054552-1780423200-1780428600@schcontario.ca
SUMMARY:Yoga
DESCRIPTION:Registration is optional\, drop-ins are welcome.  \n\n\n\nDescription:  \n\n\n\nWeekly yoga class \n\n\n\nEligibility: \n\n\n\n16 years or older\, dress code of white top and black pants\, bring your own yoga mat. \n\n\n\nContact Info:  \n\n\n\nEmail info@vasantham.ca or call 416-847-4172 for more information or to register.
URL:https://schcontario.ca/event/yoga/2026-06-02/
LOCATION:The Hub – Mid Scarborough\, 2660 Eglinton Ave East\, Scarborough\, Ontario\, M1K 2S3\, Canada
CATEGORIES:Hub Mid Scarborough
END:VEVENT
BEGIN:VEVENT
DTSTART;TZID=America/Toronto:20260604T180000
DTEND;TZID=America/Toronto:20260604T190000
DTSTAMP:20260419T113157
CREATED:20250806T134055Z
LAST-MODIFIED:20250806T135907Z
UID:10054330-1780596000-1780599600@schcontario.ca
SUMMARY:Learn to Sew
DESCRIPTION:Registration required:  Yes/ we do welcome drop-in if numbers are low on the day of. \n\n\n\nDescription:  Ask questions\, share knowledge\, collaborate with others and learn how to use the sewing machine \n\n\n\nEligibility: 16+ \n\n\n\nFrequency:  Every  1st & 2nd Thursday \n\n\n\nStart date: ongoing \n\n\n\nContact Info: 416-642-9445 Ext 7555 \n\n\n\nRegistration Email: scarbenvasc@gmail.com
URL:https://schcontario.ca/event/learn-to-sew/2026-06-04/
LOCATION:The Hub – Mid Scarborough\, 2660 Eglinton Ave East\, Scarborough\, Ontario\, M1K 2S3\, Canada
CATEGORIES:Hub Mid Scarborough
ORGANIZER;CN="The Hub Mid-Scarborough":MAILTO:hubadmin@schcontario.ca 
END:VEVENT
BEGIN:VEVENT
DTSTART;TZID=America/Toronto:20260604T180000
DTEND;TZID=America/Toronto:20260604T190000
DTSTAMP:20260419T113157
CREATED:20250806T135716Z
LAST-MODIFIED:20250806T135720Z
UID:10054313-1780596000-1780599600@schcontario.ca
SUMMARY:Learn to Sew
DESCRIPTION:Registration required:  Yes/ we do welcome drop-in if numbers are low on the day of. \n\n\n\nDescription:  Ask questions\, share knowledge\, collaborate with others and learn how to use the sewing machine \n\n\n\nEligibility: 16+ \n\n\n\nFrequency:  Every  1st & 2nd Thursday \n\n\n\nStart date: ongoing \n\n\n\nContact Info: 416-642-9445 Ext 7555 \n\n\n\nRegistration Email: scarbenvasc@gmail.com
URL:https://schcontario.ca/event/learn-to-sew-3/2026-06-04/
LOCATION:The Hub – Mid Scarborough\, 2660 Eglinton Ave East\, Scarborough\, Ontario\, M1K 2S3\, Canada
CATEGORIES:Hub Mid Scarborough
ORGANIZER;CN="The Hub Mid-Scarborough":MAILTO:hubadmin@schcontario.ca 
END:VEVENT
BEGIN:VEVENT
DTSTART;TZID=UTC:20260608T130000
DTEND;TZID=UTC:20260608T160000
DTSTAMP:20260419T113157
CREATED:20250506T170019Z
LAST-MODIFIED:20250506T170028Z
UID:10023151-1780923600-1780934400@schcontario.ca
SUMMARY:Afghan Seniors Program
DESCRIPTION:Registration is not required.  This is a drop-in program. \n\n\n\nDescription:  \n\n\n\nThis program aims to assist Afghan seniors with peer support and social engagement\, and provide innovative ways for seniors to continue to play an important role in their community.   \n\n\n\nEligibility: \n\n\n\nAdults/seniors \n\n\n\nContact Info: \n\n\n\nEmail hubadmin@schcontario.ca  or call 416-642-9445 ext. 7555
URL:https://schcontario.ca/event/afghan-seniors-program-2/2026-06-08/
LOCATION:The Hub – Mid Scarborough\, 2660 Eglinton Ave East\, Scarborough\, Ontario\, M1K 2S3\, Canada
CATEGORIES:Hub Mid Scarborough
ORGANIZER;CN="The Hub Mid-Scarborough":MAILTO:hubadmin@schcontario.ca 
END:VEVENT
BEGIN:VEVENT
DTSTART;TZID=UTC:20260609T180000
DTEND;TZID=UTC:20260609T193000
DTSTAMP:20260419T113157
CREATED:20250915T005153Z
LAST-MODIFIED:20250915T012113Z
UID:10054553-1781028000-1781033400@schcontario.ca
SUMMARY:Yoga
DESCRIPTION:Registration is optional\, drop-ins are welcome.  \n\n\n\nDescription:  \n\n\n\nWeekly yoga class \n\n\n\nEligibility: \n\n\n\n16 years or older\, dress code of white top and black pants\, bring your own yoga mat. \n\n\n\nContact Info:  \n\n\n\nEmail info@vasantham.ca or call 416-847-4172 for more information or to register.
URL:https://schcontario.ca/event/yoga/2026-06-09/
LOCATION:The Hub – Mid Scarborough\, 2660 Eglinton Ave East\, Scarborough\, Ontario\, M1K 2S3\, Canada
CATEGORIES:Hub Mid Scarborough
END:VEVENT
BEGIN:VEVENT
DTSTART;TZID=America/Toronto:20260611T180000
DTEND;TZID=America/Toronto:20260611T190000
DTSTAMP:20260419T113157
CREATED:20250806T134415Z
LAST-MODIFIED:20250806T135459Z
UID:10054297-1781200800-1781204400@schcontario.ca
SUMMARY:Learn to Sew
DESCRIPTION:Registration required:  Yes/ we do welcome drop-in if numbers are low on the day of. \n\n\n\nDescription:  Ask questions\, share knowledge\, collaborate with others and learn how to use the sewing machine \n\n\n\nEligibility: 16+ \n\n\n\nFrequency:  Every  1st & 2nd Thursday \n\n\n\nContact Info: 416-642-9445 Ext 7555 \n\n\n\nRegistration Email: scarbenvasc@gmail.com
URL:https://schcontario.ca/event/learn-to-sew-2/2026-06-11/
LOCATION:The Hub – Mid Scarborough\, 2660 Eglinton Ave East\, Scarborough\, Ontario\, M1K 2S3\, Canada
CATEGORIES:Hub Mid Scarborough
ORGANIZER;CN="The Hub Mid-Scarborough":MAILTO:hubadmin@schcontario.ca 
END:VEVENT
BEGIN:VEVENT
DTSTART;TZID=UTC:20260615T130000
DTEND;TZID=UTC:20260615T160000
DTSTAMP:20260419T113157
CREATED:20250506T170019Z
LAST-MODIFIED:20250506T170028Z
UID:10023152-1781528400-1781539200@schcontario.ca
SUMMARY:Afghan Seniors Program
DESCRIPTION:Registration is not required.  This is a drop-in program. \n\n\n\nDescription:  \n\n\n\nThis program aims to assist Afghan seniors with peer support and social engagement\, and provide innovative ways for seniors to continue to play an important role in their community.   \n\n\n\nEligibility: \n\n\n\nAdults/seniors \n\n\n\nContact Info: \n\n\n\nEmail hubadmin@schcontario.ca  or call 416-642-9445 ext. 7555
URL:https://schcontario.ca/event/afghan-seniors-program-2/2026-06-15/
LOCATION:The Hub – Mid Scarborough\, 2660 Eglinton Ave East\, Scarborough\, Ontario\, M1K 2S3\, Canada
CATEGORIES:Hub Mid Scarborough
ORGANIZER;CN="The Hub Mid-Scarborough":MAILTO:hubadmin@schcontario.ca 
END:VEVENT
BEGIN:VEVENT
DTSTART;TZID=UTC:20260616T180000
DTEND;TZID=UTC:20260616T193000
DTSTAMP:20260419T113157
CREATED:20250915T005153Z
LAST-MODIFIED:20250915T012113Z
UID:10054554-1781632800-1781638200@schcontario.ca
SUMMARY:Yoga
DESCRIPTION:Registration is optional\, drop-ins are welcome.  \n\n\n\nDescription:  \n\n\n\nWeekly yoga class \n\n\n\nEligibility: \n\n\n\n16 years or older\, dress code of white top and black pants\, bring your own yoga mat. \n\n\n\nContact Info:  \n\n\n\nEmail info@vasantham.ca or call 416-847-4172 for more information or to register.
URL:https://schcontario.ca/event/yoga/2026-06-16/
LOCATION:The Hub – Mid Scarborough\, 2660 Eglinton Ave East\, Scarborough\, Ontario\, M1K 2S3\, Canada
CATEGORIES:Hub Mid Scarborough
END:VEVENT
BEGIN:VEVENT
DTSTART;TZID=America/Toronto:20260618T180000
DTEND;TZID=America/Toronto:20260618T190000
DTSTAMP:20260419T113157
CREATED:20250806T135120Z
LAST-MODIFIED:20250915T012240Z
UID:10054264-1781805600-1781809200@schcontario.ca
SUMMARY:Social Sewing Drop-In
DESCRIPTION:Registration required: No \n\n\n\nDescription:  To gain experience and learn to sew for the first time \n\n\n\nEligibility: 16+ \n\n\n\nFrequency:  Every 3rd & 4th Thursday \n\n\n\nContact Info: 416-642-9445 Ext 7555 \n\n\n\nRegistration Email: scarbenvasc@gmail.com
URL:https://schcontario.ca/event/social-sewing-drop-in/2026-06-18/
LOCATION:The Hub – Mid Scarborough\, 2660 Eglinton Ave East\, Scarborough\, Ontario\, M1K 2S3\, Canada
CATEGORIES:Hub Mid Scarborough
ORGANIZER;CN="The Hub Mid-Scarborough":MAILTO:hubadmin@schcontario.ca 
END:VEVENT
BEGIN:VEVENT
DTSTART;TZID=UTC:20260622T130000
DTEND;TZID=UTC:20260622T160000
DTSTAMP:20260419T113157
CREATED:20250506T170019Z
LAST-MODIFIED:20250506T170028Z
UID:10023153-1782133200-1782144000@schcontario.ca
SUMMARY:Afghan Seniors Program
DESCRIPTION:Registration is not required.  This is a drop-in program. \n\n\n\nDescription:  \n\n\n\nThis program aims to assist Afghan seniors with peer support and social engagement\, and provide innovative ways for seniors to continue to play an important role in their community.   \n\n\n\nEligibility: \n\n\n\nAdults/seniors \n\n\n\nContact Info: \n\n\n\nEmail hubadmin@schcontario.ca  or call 416-642-9445 ext. 7555
URL:https://schcontario.ca/event/afghan-seniors-program-2/2026-06-22/
LOCATION:The Hub – Mid Scarborough\, 2660 Eglinton Ave East\, Scarborough\, Ontario\, M1K 2S3\, Canada
CATEGORIES:Hub Mid Scarborough
ORGANIZER;CN="The Hub Mid-Scarborough":MAILTO:hubadmin@schcontario.ca 
END:VEVENT
BEGIN:VEVENT
DTSTART;TZID=UTC:20260623T180000
DTEND;TZID=UTC:20260623T193000
DTSTAMP:20260419T113157
CREATED:20250915T005153Z
LAST-MODIFIED:20250915T012113Z
UID:10054555-1782237600-1782243000@schcontario.ca
SUMMARY:Yoga
DESCRIPTION:Registration is optional\, drop-ins are welcome.  \n\n\n\nDescription:  \n\n\n\nWeekly yoga class \n\n\n\nEligibility: \n\n\n\n16 years or older\, dress code of white top and black pants\, bring your own yoga mat. \n\n\n\nContact Info:  \n\n\n\nEmail info@vasantham.ca or call 416-847-4172 for more information or to register.
URL:https://schcontario.ca/event/yoga/2026-06-23/
LOCATION:The Hub – Mid Scarborough\, 2660 Eglinton Ave East\, Scarborough\, Ontario\, M1K 2S3\, Canada
CATEGORIES:Hub Mid Scarborough
END:VEVENT
END:VCALENDAR