BEGIN:VCALENDAR
VERSION:2.0
PRODID:-//Scarborough Centre for Healthy Communities - ECPv6.15.20//NONSGML v1.0//EN
CALSCALE:GREGORIAN
METHOD:PUBLISH
X-WR-CALNAME:Scarborough Centre for Healthy Communities
X-ORIGINAL-URL:https://schcontario.ca
X-WR-CALDESC:Events for Scarborough Centre for Healthy Communities
REFRESH-INTERVAL;VALUE=DURATION:PT1H
X-Robots-Tag:noindex
X-PUBLISHED-TTL:PT1H
BEGIN:VTIMEZONE
TZID:UTC
BEGIN:STANDARD
TZOFFSETFROM:+0000
TZOFFSETTO:+0000
TZNAME:UTC
DTSTART:20250101T000000
END:STANDARD
END:VTIMEZONE
BEGIN:VTIMEZONE
TZID:America/Toronto
BEGIN:DAYLIGHT
TZOFFSETFROM:-0500
TZOFFSETTO:-0400
TZNAME:EDT
DTSTART:20250309T070000
END:DAYLIGHT
BEGIN:STANDARD
TZOFFSETFROM:-0400
TZOFFSETTO:-0500
TZNAME:EST
DTSTART:20251102T060000
END:STANDARD
BEGIN:DAYLIGHT
TZOFFSETFROM:-0500
TZOFFSETTO:-0400
TZNAME:EDT
DTSTART:20260308T070000
END:DAYLIGHT
BEGIN:STANDARD
TZOFFSETFROM:-0400
TZOFFSETTO:-0500
TZNAME:EST
DTSTART:20261101T060000
END:STANDARD
BEGIN:DAYLIGHT
TZOFFSETFROM:-0500
TZOFFSETTO:-0400
TZNAME:EDT
DTSTART:20270314T070000
END:DAYLIGHT
BEGIN:STANDARD
TZOFFSETFROM:-0400
TZOFFSETTO:-0500
TZNAME:EST
DTSTART:20271107T060000
END:STANDARD
END:VTIMEZONE
BEGIN:VEVENT
DTSTART;TZID=UTC:20260706T130000
DTEND;TZID=UTC:20260706T160000
DTSTAMP:20260419T150332
CREATED:20250506T170019Z
LAST-MODIFIED:20250506T170028Z
UID:10023155-1783342800-1783353600@schcontario.ca
SUMMARY:Afghan Seniors Program
DESCRIPTION:Registration is not required.  This is a drop-in program. \n\n\n\nDescription:  \n\n\n\nThis program aims to assist Afghan seniors with peer support and social engagement\, and provide innovative ways for seniors to continue to play an important role in their community.   \n\n\n\nEligibility: \n\n\n\nAdults/seniors \n\n\n\nContact Info: \n\n\n\nEmail hubadmin@schcontario.ca  or call 416-642-9445 ext. 7555
URL:https://schcontario.ca/event/afghan-seniors-program-2/2026-07-06/
LOCATION:The Hub – Mid Scarborough\, 2660 Eglinton Ave East\, Scarborough\, Ontario\, M1K 2S3\, Canada
CATEGORIES:Hub Mid Scarborough
ORGANIZER;CN="The Hub Mid-Scarborough":MAILTO:hubadmin@schcontario.ca 
END:VEVENT
BEGIN:VEVENT
DTSTART;TZID=America/Toronto:20260709T180000
DTEND;TZID=America/Toronto:20260709T190000
DTSTAMP:20260419T150332
CREATED:20250806T134415Z
LAST-MODIFIED:20250806T135459Z
UID:10054298-1783620000-1783623600@schcontario.ca
SUMMARY:Learn to Sew
DESCRIPTION:Registration required:  Yes/ we do welcome drop-in if numbers are low on the day of. \n\n\n\nDescription:  Ask questions\, share knowledge\, collaborate with others and learn how to use the sewing machine \n\n\n\nEligibility: 16+ \n\n\n\nFrequency:  Every  1st & 2nd Thursday \n\n\n\nContact Info: 416-642-9445 Ext 7555 \n\n\n\nRegistration Email: scarbenvasc@gmail.com
URL:https://schcontario.ca/event/learn-to-sew-2/2026-07-09/
LOCATION:The Hub – Mid Scarborough\, 2660 Eglinton Ave East\, Scarborough\, Ontario\, M1K 2S3\, Canada
CATEGORIES:Hub Mid Scarborough
ORGANIZER;CN="The Hub Mid-Scarborough":MAILTO:hubadmin@schcontario.ca 
END:VEVENT
BEGIN:VEVENT
DTSTART;TZID=UTC:20260713T130000
DTEND;TZID=UTC:20260713T160000
DTSTAMP:20260419T150332
CREATED:20250506T170019Z
LAST-MODIFIED:20250506T170028Z
UID:10023156-1783947600-1783958400@schcontario.ca
SUMMARY:Afghan Seniors Program
DESCRIPTION:Registration is not required.  This is a drop-in program. \n\n\n\nDescription:  \n\n\n\nThis program aims to assist Afghan seniors with peer support and social engagement\, and provide innovative ways for seniors to continue to play an important role in their community.   \n\n\n\nEligibility: \n\n\n\nAdults/seniors \n\n\n\nContact Info: \n\n\n\nEmail hubadmin@schcontario.ca  or call 416-642-9445 ext. 7555
URL:https://schcontario.ca/event/afghan-seniors-program-2/2026-07-13/
LOCATION:The Hub – Mid Scarborough\, 2660 Eglinton Ave East\, Scarborough\, Ontario\, M1K 2S3\, Canada
CATEGORIES:Hub Mid Scarborough
ORGANIZER;CN="The Hub Mid-Scarborough":MAILTO:hubadmin@schcontario.ca 
END:VEVENT
BEGIN:VEVENT
DTSTART;TZID=America/Toronto:20260716T180000
DTEND;TZID=America/Toronto:20260716T190000
DTSTAMP:20260419T150332
CREATED:20250806T135120Z
LAST-MODIFIED:20250915T012240Z
UID:10054265-1784224800-1784228400@schcontario.ca
SUMMARY:Social Sewing Drop-In
DESCRIPTION:Registration required: No \n\n\n\nDescription:  To gain experience and learn to sew for the first time \n\n\n\nEligibility: 16+ \n\n\n\nFrequency:  Every 3rd & 4th Thursday \n\n\n\nContact Info: 416-642-9445 Ext 7555 \n\n\n\nRegistration Email: scarbenvasc@gmail.com
URL:https://schcontario.ca/event/social-sewing-drop-in/2026-07-16/
LOCATION:The Hub – Mid Scarborough\, 2660 Eglinton Ave East\, Scarborough\, Ontario\, M1K 2S3\, Canada
CATEGORIES:Hub Mid Scarborough
ORGANIZER;CN="The Hub Mid-Scarborough":MAILTO:hubadmin@schcontario.ca 
END:VEVENT
BEGIN:VEVENT
DTSTART;TZID=UTC:20260720T130000
DTEND;TZID=UTC:20260720T160000
DTSTAMP:20260419T150332
CREATED:20250506T170019Z
LAST-MODIFIED:20250506T170028Z
UID:10023157-1784552400-1784563200@schcontario.ca
SUMMARY:Afghan Seniors Program
DESCRIPTION:Registration is not required.  This is a drop-in program. \n\n\n\nDescription:  \n\n\n\nThis program aims to assist Afghan seniors with peer support and social engagement\, and provide innovative ways for seniors to continue to play an important role in their community.   \n\n\n\nEligibility: \n\n\n\nAdults/seniors \n\n\n\nContact Info: \n\n\n\nEmail hubadmin@schcontario.ca  or call 416-642-9445 ext. 7555
URL:https://schcontario.ca/event/afghan-seniors-program-2/2026-07-20/
LOCATION:The Hub – Mid Scarborough\, 2660 Eglinton Ave East\, Scarborough\, Ontario\, M1K 2S3\, Canada
CATEGORIES:Hub Mid Scarborough
ORGANIZER;CN="The Hub Mid-Scarborough":MAILTO:hubadmin@schcontario.ca 
END:VEVENT
BEGIN:VEVENT
DTSTART;TZID=America/Toronto:20260723T180000
DTEND;TZID=America/Toronto:20260723T190000
DTSTAMP:20260419T150332
CREATED:20250915T005414Z
LAST-MODIFIED:20250915T005418Z
UID:10054282-1784829600-1784833200@schcontario.ca
SUMMARY:Social Sewing Drop-in
DESCRIPTION:Registration required: No \n\n\n\nDescription:  To gain experience and learn to sew for the first time \n\n\n\nEligibility: 16+ \n\n\n\nFrequency:  Every 3rd & 4th Thursday \n\n\n\nContact Info: 416-642-9445 Ext 7555 \n\n\n\nRegistration Email: scarbenvasc@gmail.com
URL:https://schcontario.ca/event/social-sewing-drop-in-3/2026-07-23/
LOCATION:The Hub – Mid Scarborough\, 2660 Eglinton Ave East\, Scarborough\, Ontario\, M1K 2S3\, Canada
CATEGORIES:Hub Mid Scarborough
ORGANIZER;CN="The Hub Mid-Scarborough":MAILTO:hubadmin@schcontario.ca 
END:VEVENT
BEGIN:VEVENT
DTSTART;TZID=UTC:20260727T130000
DTEND;TZID=UTC:20260727T160000
DTSTAMP:20260419T150332
CREATED:20250506T170019Z
LAST-MODIFIED:20250506T170028Z
UID:10023158-1785157200-1785168000@schcontario.ca
SUMMARY:Afghan Seniors Program
DESCRIPTION:Registration is not required.  This is a drop-in program. \n\n\n\nDescription:  \n\n\n\nThis program aims to assist Afghan seniors with peer support and social engagement\, and provide innovative ways for seniors to continue to play an important role in their community.   \n\n\n\nEligibility: \n\n\n\nAdults/seniors \n\n\n\nContact Info: \n\n\n\nEmail hubadmin@schcontario.ca  or call 416-642-9445 ext. 7555
URL:https://schcontario.ca/event/afghan-seniors-program-2/2026-07-27/
LOCATION:The Hub – Mid Scarborough\, 2660 Eglinton Ave East\, Scarborough\, Ontario\, M1K 2S3\, Canada
CATEGORIES:Hub Mid Scarborough
ORGANIZER;CN="The Hub Mid-Scarborough":MAILTO:hubadmin@schcontario.ca 
END:VEVENT
BEGIN:VEVENT
DTSTART;TZID=UTC:20260803T130000
DTEND;TZID=UTC:20260803T160000
DTSTAMP:20260419T150332
CREATED:20250506T170019Z
LAST-MODIFIED:20250506T170028Z
UID:10023159-1785762000-1785772800@schcontario.ca
SUMMARY:Afghan Seniors Program
DESCRIPTION:Registration is not required.  This is a drop-in program. \n\n\n\nDescription:  \n\n\n\nThis program aims to assist Afghan seniors with peer support and social engagement\, and provide innovative ways for seniors to continue to play an important role in their community.   \n\n\n\nEligibility: \n\n\n\nAdults/seniors \n\n\n\nContact Info: \n\n\n\nEmail hubadmin@schcontario.ca  or call 416-642-9445 ext. 7555
URL:https://schcontario.ca/event/afghan-seniors-program-2/2026-08-03/
LOCATION:The Hub – Mid Scarborough\, 2660 Eglinton Ave East\, Scarborough\, Ontario\, M1K 2S3\, Canada
CATEGORIES:Hub Mid Scarborough
ORGANIZER;CN="The Hub Mid-Scarborough":MAILTO:hubadmin@schcontario.ca 
END:VEVENT
BEGIN:VEVENT
DTSTART;TZID=America/Toronto:20260806T180000
DTEND;TZID=America/Toronto:20260806T190000
DTSTAMP:20260419T150332
CREATED:20250806T134055Z
LAST-MODIFIED:20250806T135907Z
UID:10054332-1786039200-1786042800@schcontario.ca
SUMMARY:Learn to Sew
DESCRIPTION:Registration required:  Yes/ we do welcome drop-in if numbers are low on the day of. \n\n\n\nDescription:  Ask questions\, share knowledge\, collaborate with others and learn how to use the sewing machine \n\n\n\nEligibility: 16+ \n\n\n\nFrequency:  Every  1st & 2nd Thursday \n\n\n\nStart date: ongoing \n\n\n\nContact Info: 416-642-9445 Ext 7555 \n\n\n\nRegistration Email: scarbenvasc@gmail.com
URL:https://schcontario.ca/event/learn-to-sew/2026-08-06/
LOCATION:The Hub – Mid Scarborough\, 2660 Eglinton Ave East\, Scarborough\, Ontario\, M1K 2S3\, Canada
CATEGORIES:Hub Mid Scarborough
ORGANIZER;CN="The Hub Mid-Scarborough":MAILTO:hubadmin@schcontario.ca 
END:VEVENT
BEGIN:VEVENT
DTSTART;TZID=America/Toronto:20260806T180000
DTEND;TZID=America/Toronto:20260806T190000
DTSTAMP:20260419T150332
CREATED:20250806T135716Z
LAST-MODIFIED:20250806T135720Z
UID:10054315-1786039200-1786042800@schcontario.ca
SUMMARY:Learn to Sew
DESCRIPTION:Registration required:  Yes/ we do welcome drop-in if numbers are low on the day of. \n\n\n\nDescription:  Ask questions\, share knowledge\, collaborate with others and learn how to use the sewing machine \n\n\n\nEligibility: 16+ \n\n\n\nFrequency:  Every  1st & 2nd Thursday \n\n\n\nStart date: ongoing \n\n\n\nContact Info: 416-642-9445 Ext 7555 \n\n\n\nRegistration Email: scarbenvasc@gmail.com
URL:https://schcontario.ca/event/learn-to-sew-3/2026-08-06/
LOCATION:The Hub – Mid Scarborough\, 2660 Eglinton Ave East\, Scarborough\, Ontario\, M1K 2S3\, Canada
CATEGORIES:Hub Mid Scarborough
ORGANIZER;CN="The Hub Mid-Scarborough":MAILTO:hubadmin@schcontario.ca 
END:VEVENT
BEGIN:VEVENT
DTSTART;TZID=UTC:20260810T130000
DTEND;TZID=UTC:20260810T160000
DTSTAMP:20260419T150332
CREATED:20250506T170019Z
LAST-MODIFIED:20250506T170028Z
UID:10023160-1786366800-1786377600@schcontario.ca
SUMMARY:Afghan Seniors Program
DESCRIPTION:Registration is not required.  This is a drop-in program. \n\n\n\nDescription:  \n\n\n\nThis program aims to assist Afghan seniors with peer support and social engagement\, and provide innovative ways for seniors to continue to play an important role in their community.   \n\n\n\nEligibility: \n\n\n\nAdults/seniors \n\n\n\nContact Info: \n\n\n\nEmail hubadmin@schcontario.ca  or call 416-642-9445 ext. 7555
URL:https://schcontario.ca/event/afghan-seniors-program-2/2026-08-10/
LOCATION:The Hub – Mid Scarborough\, 2660 Eglinton Ave East\, Scarborough\, Ontario\, M1K 2S3\, Canada
CATEGORIES:Hub Mid Scarborough
ORGANIZER;CN="The Hub Mid-Scarborough":MAILTO:hubadmin@schcontario.ca 
END:VEVENT
BEGIN:VEVENT
DTSTART;TZID=America/Toronto:20260813T180000
DTEND;TZID=America/Toronto:20260813T190000
DTSTAMP:20260419T150332
CREATED:20250806T134415Z
LAST-MODIFIED:20250806T135459Z
UID:10054299-1786644000-1786647600@schcontario.ca
SUMMARY:Learn to Sew
DESCRIPTION:Registration required:  Yes/ we do welcome drop-in if numbers are low on the day of. \n\n\n\nDescription:  Ask questions\, share knowledge\, collaborate with others and learn how to use the sewing machine \n\n\n\nEligibility: 16+ \n\n\n\nFrequency:  Every  1st & 2nd Thursday \n\n\n\nContact Info: 416-642-9445 Ext 7555 \n\n\n\nRegistration Email: scarbenvasc@gmail.com
URL:https://schcontario.ca/event/learn-to-sew-2/2026-08-13/
LOCATION:The Hub – Mid Scarborough\, 2660 Eglinton Ave East\, Scarborough\, Ontario\, M1K 2S3\, Canada
CATEGORIES:Hub Mid Scarborough
ORGANIZER;CN="The Hub Mid-Scarborough":MAILTO:hubadmin@schcontario.ca 
END:VEVENT
BEGIN:VEVENT
DTSTART;TZID=UTC:20260817T130000
DTEND;TZID=UTC:20260817T160000
DTSTAMP:20260419T150332
CREATED:20250506T170019Z
LAST-MODIFIED:20250506T170028Z
UID:10023161-1786971600-1786982400@schcontario.ca
SUMMARY:Afghan Seniors Program
DESCRIPTION:Registration is not required.  This is a drop-in program. \n\n\n\nDescription:  \n\n\n\nThis program aims to assist Afghan seniors with peer support and social engagement\, and provide innovative ways for seniors to continue to play an important role in their community.   \n\n\n\nEligibility: \n\n\n\nAdults/seniors \n\n\n\nContact Info: \n\n\n\nEmail hubadmin@schcontario.ca  or call 416-642-9445 ext. 7555
URL:https://schcontario.ca/event/afghan-seniors-program-2/2026-08-17/
LOCATION:The Hub – Mid Scarborough\, 2660 Eglinton Ave East\, Scarborough\, Ontario\, M1K 2S3\, Canada
CATEGORIES:Hub Mid Scarborough
ORGANIZER;CN="The Hub Mid-Scarborough":MAILTO:hubadmin@schcontario.ca 
END:VEVENT
BEGIN:VEVENT
DTSTART;TZID=America/Toronto:20260820T180000
DTEND;TZID=America/Toronto:20260820T190000
DTSTAMP:20260419T150332
CREATED:20250806T135120Z
LAST-MODIFIED:20250915T012240Z
UID:10054266-1787248800-1787252400@schcontario.ca
SUMMARY:Social Sewing Drop-In
DESCRIPTION:Registration required: No \n\n\n\nDescription:  To gain experience and learn to sew for the first time \n\n\n\nEligibility: 16+ \n\n\n\nFrequency:  Every 3rd & 4th Thursday \n\n\n\nContact Info: 416-642-9445 Ext 7555 \n\n\n\nRegistration Email: scarbenvasc@gmail.com
URL:https://schcontario.ca/event/social-sewing-drop-in/2026-08-20/
LOCATION:The Hub – Mid Scarborough\, 2660 Eglinton Ave East\, Scarborough\, Ontario\, M1K 2S3\, Canada
CATEGORIES:Hub Mid Scarborough
ORGANIZER;CN="The Hub Mid-Scarborough":MAILTO:hubadmin@schcontario.ca 
END:VEVENT
BEGIN:VEVENT
DTSTART;TZID=UTC:20260824T130000
DTEND;TZID=UTC:20260824T160000
DTSTAMP:20260419T150332
CREATED:20250506T170019Z
LAST-MODIFIED:20250506T170028Z
UID:10023162-1787576400-1787587200@schcontario.ca
SUMMARY:Afghan Seniors Program
DESCRIPTION:Registration is not required.  This is a drop-in program. \n\n\n\nDescription:  \n\n\n\nThis program aims to assist Afghan seniors with peer support and social engagement\, and provide innovative ways for seniors to continue to play an important role in their community.   \n\n\n\nEligibility: \n\n\n\nAdults/seniors \n\n\n\nContact Info: \n\n\n\nEmail hubadmin@schcontario.ca  or call 416-642-9445 ext. 7555
URL:https://schcontario.ca/event/afghan-seniors-program-2/2026-08-24/
LOCATION:The Hub – Mid Scarborough\, 2660 Eglinton Ave East\, Scarborough\, Ontario\, M1K 2S3\, Canada
CATEGORIES:Hub Mid Scarborough
ORGANIZER;CN="The Hub Mid-Scarborough":MAILTO:hubadmin@schcontario.ca 
END:VEVENT
BEGIN:VEVENT
DTSTART;TZID=America/Toronto:20260827T180000
DTEND;TZID=America/Toronto:20260827T190000
DTSTAMP:20260419T150332
CREATED:20250915T005414Z
LAST-MODIFIED:20250915T005418Z
UID:10054283-1787853600-1787857200@schcontario.ca
SUMMARY:Social Sewing Drop-in
DESCRIPTION:Registration required: No \n\n\n\nDescription:  To gain experience and learn to sew for the first time \n\n\n\nEligibility: 16+ \n\n\n\nFrequency:  Every 3rd & 4th Thursday \n\n\n\nContact Info: 416-642-9445 Ext 7555 \n\n\n\nRegistration Email: scarbenvasc@gmail.com
URL:https://schcontario.ca/event/social-sewing-drop-in-3/2026-08-27/
LOCATION:The Hub – Mid Scarborough\, 2660 Eglinton Ave East\, Scarborough\, Ontario\, M1K 2S3\, Canada
CATEGORIES:Hub Mid Scarborough
ORGANIZER;CN="The Hub Mid-Scarborough":MAILTO:hubadmin@schcontario.ca 
END:VEVENT
BEGIN:VEVENT
DTSTART;TZID=UTC:20260831T130000
DTEND;TZID=UTC:20260831T160000
DTSTAMP:20260419T150332
CREATED:20250506T170019Z
LAST-MODIFIED:20250506T170028Z
UID:10023163-1788181200-1788192000@schcontario.ca
SUMMARY:Afghan Seniors Program
DESCRIPTION:Registration is not required.  This is a drop-in program. \n\n\n\nDescription:  \n\n\n\nThis program aims to assist Afghan seniors with peer support and social engagement\, and provide innovative ways for seniors to continue to play an important role in their community.   \n\n\n\nEligibility: \n\n\n\nAdults/seniors \n\n\n\nContact Info: \n\n\n\nEmail hubadmin@schcontario.ca  or call 416-642-9445 ext. 7555
URL:https://schcontario.ca/event/afghan-seniors-program-2/2026-08-31/
LOCATION:The Hub – Mid Scarborough\, 2660 Eglinton Ave East\, Scarborough\, Ontario\, M1K 2S3\, Canada
CATEGORIES:Hub Mid Scarborough
ORGANIZER;CN="The Hub Mid-Scarborough":MAILTO:hubadmin@schcontario.ca 
END:VEVENT
BEGIN:VEVENT
DTSTART;TZID=America/Toronto:20260903T180000
DTEND;TZID=America/Toronto:20260903T190000
DTSTAMP:20260419T150332
CREATED:20250806T134055Z
LAST-MODIFIED:20250806T135907Z
UID:10054333-1788458400-1788462000@schcontario.ca
SUMMARY:Learn to Sew
DESCRIPTION:Registration required:  Yes/ we do welcome drop-in if numbers are low on the day of. \n\n\n\nDescription:  Ask questions\, share knowledge\, collaborate with others and learn how to use the sewing machine \n\n\n\nEligibility: 16+ \n\n\n\nFrequency:  Every  1st & 2nd Thursday \n\n\n\nStart date: ongoing \n\n\n\nContact Info: 416-642-9445 Ext 7555 \n\n\n\nRegistration Email: scarbenvasc@gmail.com
URL:https://schcontario.ca/event/learn-to-sew/2026-09-03/
LOCATION:The Hub – Mid Scarborough\, 2660 Eglinton Ave East\, Scarborough\, Ontario\, M1K 2S3\, Canada
CATEGORIES:Hub Mid Scarborough
ORGANIZER;CN="The Hub Mid-Scarborough":MAILTO:hubadmin@schcontario.ca 
END:VEVENT
BEGIN:VEVENT
DTSTART;TZID=America/Toronto:20260903T180000
DTEND;TZID=America/Toronto:20260903T190000
DTSTAMP:20260419T150332
CREATED:20250806T135716Z
LAST-MODIFIED:20250806T135720Z
UID:10054316-1788458400-1788462000@schcontario.ca
SUMMARY:Learn to Sew
DESCRIPTION:Registration required:  Yes/ we do welcome drop-in if numbers are low on the day of. \n\n\n\nDescription:  Ask questions\, share knowledge\, collaborate with others and learn how to use the sewing machine \n\n\n\nEligibility: 16+ \n\n\n\nFrequency:  Every  1st & 2nd Thursday \n\n\n\nStart date: ongoing \n\n\n\nContact Info: 416-642-9445 Ext 7555 \n\n\n\nRegistration Email: scarbenvasc@gmail.com
URL:https://schcontario.ca/event/learn-to-sew-3/2026-09-03/
LOCATION:The Hub – Mid Scarborough\, 2660 Eglinton Ave East\, Scarborough\, Ontario\, M1K 2S3\, Canada
CATEGORIES:Hub Mid Scarborough
ORGANIZER;CN="The Hub Mid-Scarborough":MAILTO:hubadmin@schcontario.ca 
END:VEVENT
BEGIN:VEVENT
DTSTART;TZID=UTC:20260907T130000
DTEND;TZID=UTC:20260907T160000
DTSTAMP:20260419T150332
CREATED:20250506T170019Z
LAST-MODIFIED:20250506T170028Z
UID:10023164-1788786000-1788796800@schcontario.ca
SUMMARY:Afghan Seniors Program
DESCRIPTION:Registration is not required.  This is a drop-in program. \n\n\n\nDescription:  \n\n\n\nThis program aims to assist Afghan seniors with peer support and social engagement\, and provide innovative ways for seniors to continue to play an important role in their community.   \n\n\n\nEligibility: \n\n\n\nAdults/seniors \n\n\n\nContact Info: \n\n\n\nEmail hubadmin@schcontario.ca  or call 416-642-9445 ext. 7555
URL:https://schcontario.ca/event/afghan-seniors-program-2/2026-09-07/
LOCATION:The Hub – Mid Scarborough\, 2660 Eglinton Ave East\, Scarborough\, Ontario\, M1K 2S3\, Canada
CATEGORIES:Hub Mid Scarborough
ORGANIZER;CN="The Hub Mid-Scarborough":MAILTO:hubadmin@schcontario.ca 
END:VEVENT
BEGIN:VEVENT
DTSTART;TZID=America/Toronto:20260910T180000
DTEND;TZID=America/Toronto:20260910T190000
DTSTAMP:20260419T150332
CREATED:20250806T134415Z
LAST-MODIFIED:20250806T135459Z
UID:10054300-1789063200-1789066800@schcontario.ca
SUMMARY:Learn to Sew
DESCRIPTION:Registration required:  Yes/ we do welcome drop-in if numbers are low on the day of. \n\n\n\nDescription:  Ask questions\, share knowledge\, collaborate with others and learn how to use the sewing machine \n\n\n\nEligibility: 16+ \n\n\n\nFrequency:  Every  1st & 2nd Thursday \n\n\n\nContact Info: 416-642-9445 Ext 7555 \n\n\n\nRegistration Email: scarbenvasc@gmail.com
URL:https://schcontario.ca/event/learn-to-sew-2/2026-09-10/
LOCATION:The Hub – Mid Scarborough\, 2660 Eglinton Ave East\, Scarborough\, Ontario\, M1K 2S3\, Canada
CATEGORIES:Hub Mid Scarborough
ORGANIZER;CN="The Hub Mid-Scarborough":MAILTO:hubadmin@schcontario.ca 
END:VEVENT
BEGIN:VEVENT
DTSTART;TZID=UTC:20260914T130000
DTEND;TZID=UTC:20260914T160000
DTSTAMP:20260419T150332
CREATED:20250506T170019Z
LAST-MODIFIED:20250506T170028Z
UID:10023165-1789390800-1789401600@schcontario.ca
SUMMARY:Afghan Seniors Program
DESCRIPTION:Registration is not required.  This is a drop-in program. \n\n\n\nDescription:  \n\n\n\nThis program aims to assist Afghan seniors with peer support and social engagement\, and provide innovative ways for seniors to continue to play an important role in their community.   \n\n\n\nEligibility: \n\n\n\nAdults/seniors \n\n\n\nContact Info: \n\n\n\nEmail hubadmin@schcontario.ca  or call 416-642-9445 ext. 7555
URL:https://schcontario.ca/event/afghan-seniors-program-2/2026-09-14/
LOCATION:The Hub – Mid Scarborough\, 2660 Eglinton Ave East\, Scarborough\, Ontario\, M1K 2S3\, Canada
CATEGORIES:Hub Mid Scarborough
ORGANIZER;CN="The Hub Mid-Scarborough":MAILTO:hubadmin@schcontario.ca 
END:VEVENT
BEGIN:VEVENT
DTSTART;TZID=America/Toronto:20260917T180000
DTEND;TZID=America/Toronto:20260917T190000
DTSTAMP:20260419T150332
CREATED:20250806T135120Z
LAST-MODIFIED:20250915T012240Z
UID:10054267-1789668000-1789671600@schcontario.ca
SUMMARY:Social Sewing Drop-In
DESCRIPTION:Registration required: No \n\n\n\nDescription:  To gain experience and learn to sew for the first time \n\n\n\nEligibility: 16+ \n\n\n\nFrequency:  Every 3rd & 4th Thursday \n\n\n\nContact Info: 416-642-9445 Ext 7555 \n\n\n\nRegistration Email: scarbenvasc@gmail.com
URL:https://schcontario.ca/event/social-sewing-drop-in/2026-09-17/
LOCATION:The Hub – Mid Scarborough\, 2660 Eglinton Ave East\, Scarborough\, Ontario\, M1K 2S3\, Canada
CATEGORIES:Hub Mid Scarborough
ORGANIZER;CN="The Hub Mid-Scarborough":MAILTO:hubadmin@schcontario.ca 
END:VEVENT
BEGIN:VEVENT
DTSTART;TZID=UTC:20260921T130000
DTEND;TZID=UTC:20260921T160000
DTSTAMP:20260419T150332
CREATED:20250506T170019Z
LAST-MODIFIED:20250506T170028Z
UID:10023166-1789995600-1790006400@schcontario.ca
SUMMARY:Afghan Seniors Program
DESCRIPTION:Registration is not required.  This is a drop-in program. \n\n\n\nDescription:  \n\n\n\nThis program aims to assist Afghan seniors with peer support and social engagement\, and provide innovative ways for seniors to continue to play an important role in their community.   \n\n\n\nEligibility: \n\n\n\nAdults/seniors \n\n\n\nContact Info: \n\n\n\nEmail hubadmin@schcontario.ca  or call 416-642-9445 ext. 7555
URL:https://schcontario.ca/event/afghan-seniors-program-2/2026-09-21/
LOCATION:The Hub – Mid Scarborough\, 2660 Eglinton Ave East\, Scarborough\, Ontario\, M1K 2S3\, Canada
CATEGORIES:Hub Mid Scarborough
ORGANIZER;CN="The Hub Mid-Scarborough":MAILTO:hubadmin@schcontario.ca 
END:VEVENT
BEGIN:VEVENT
DTSTART;TZID=America/Toronto:20260924T180000
DTEND;TZID=America/Toronto:20260924T190000
DTSTAMP:20260419T150332
CREATED:20250915T005414Z
LAST-MODIFIED:20250915T005418Z
UID:10054284-1790272800-1790276400@schcontario.ca
SUMMARY:Social Sewing Drop-in
DESCRIPTION:Registration required: No \n\n\n\nDescription:  To gain experience and learn to sew for the first time \n\n\n\nEligibility: 16+ \n\n\n\nFrequency:  Every 3rd & 4th Thursday \n\n\n\nContact Info: 416-642-9445 Ext 7555 \n\n\n\nRegistration Email: scarbenvasc@gmail.com
URL:https://schcontario.ca/event/social-sewing-drop-in-3/2026-09-24/
LOCATION:The Hub – Mid Scarborough\, 2660 Eglinton Ave East\, Scarborough\, Ontario\, M1K 2S3\, Canada
CATEGORIES:Hub Mid Scarborough
ORGANIZER;CN="The Hub Mid-Scarborough":MAILTO:hubadmin@schcontario.ca 
END:VEVENT
BEGIN:VEVENT
DTSTART;TZID=UTC:20260928T130000
DTEND;TZID=UTC:20260928T160000
DTSTAMP:20260419T150332
CREATED:20250506T170019Z
LAST-MODIFIED:20250506T170028Z
UID:10023167-1790600400-1790611200@schcontario.ca
SUMMARY:Afghan Seniors Program
DESCRIPTION:Registration is not required.  This is a drop-in program. \n\n\n\nDescription:  \n\n\n\nThis program aims to assist Afghan seniors with peer support and social engagement\, and provide innovative ways for seniors to continue to play an important role in their community.   \n\n\n\nEligibility: \n\n\n\nAdults/seniors \n\n\n\nContact Info: \n\n\n\nEmail hubadmin@schcontario.ca  or call 416-642-9445 ext. 7555
URL:https://schcontario.ca/event/afghan-seniors-program-2/2026-09-28/
LOCATION:The Hub – Mid Scarborough\, 2660 Eglinton Ave East\, Scarborough\, Ontario\, M1K 2S3\, Canada
CATEGORIES:Hub Mid Scarborough
ORGANIZER;CN="The Hub Mid-Scarborough":MAILTO:hubadmin@schcontario.ca 
END:VEVENT
BEGIN:VEVENT
DTSTART;TZID=America/Toronto:20261001T180000
DTEND;TZID=America/Toronto:20261001T190000
DTSTAMP:20260419T150332
CREATED:20250806T134055Z
LAST-MODIFIED:20250806T135907Z
UID:10054334-1790877600-1790881200@schcontario.ca
SUMMARY:Learn to Sew
DESCRIPTION:Registration required:  Yes/ we do welcome drop-in if numbers are low on the day of. \n\n\n\nDescription:  Ask questions\, share knowledge\, collaborate with others and learn how to use the sewing machine \n\n\n\nEligibility: 16+ \n\n\n\nFrequency:  Every  1st & 2nd Thursday \n\n\n\nStart date: ongoing \n\n\n\nContact Info: 416-642-9445 Ext 7555 \n\n\n\nRegistration Email: scarbenvasc@gmail.com
URL:https://schcontario.ca/event/learn-to-sew/2026-10-01/
LOCATION:The Hub – Mid Scarborough\, 2660 Eglinton Ave East\, Scarborough\, Ontario\, M1K 2S3\, Canada
CATEGORIES:Hub Mid Scarborough
ORGANIZER;CN="The Hub Mid-Scarborough":MAILTO:hubadmin@schcontario.ca 
END:VEVENT
BEGIN:VEVENT
DTSTART;TZID=America/Toronto:20261001T180000
DTEND;TZID=America/Toronto:20261001T190000
DTSTAMP:20260419T150332
CREATED:20250806T135716Z
LAST-MODIFIED:20250806T135720Z
UID:10054317-1790877600-1790881200@schcontario.ca
SUMMARY:Learn to Sew
DESCRIPTION:Registration required:  Yes/ we do welcome drop-in if numbers are low on the day of. \n\n\n\nDescription:  Ask questions\, share knowledge\, collaborate with others and learn how to use the sewing machine \n\n\n\nEligibility: 16+ \n\n\n\nFrequency:  Every  1st & 2nd Thursday \n\n\n\nStart date: ongoing \n\n\n\nContact Info: 416-642-9445 Ext 7555 \n\n\n\nRegistration Email: scarbenvasc@gmail.com
URL:https://schcontario.ca/event/learn-to-sew-3/2026-10-01/
LOCATION:The Hub – Mid Scarborough\, 2660 Eglinton Ave East\, Scarborough\, Ontario\, M1K 2S3\, Canada
CATEGORIES:Hub Mid Scarborough
ORGANIZER;CN="The Hub Mid-Scarborough":MAILTO:hubadmin@schcontario.ca 
END:VEVENT
BEGIN:VEVENT
DTSTART;TZID=UTC:20261005T130000
DTEND;TZID=UTC:20261005T160000
DTSTAMP:20260419T150332
CREATED:20250506T170019Z
LAST-MODIFIED:20250506T170028Z
UID:10023168-1791205200-1791216000@schcontario.ca
SUMMARY:Afghan Seniors Program
DESCRIPTION:Registration is not required.  This is a drop-in program. \n\n\n\nDescription:  \n\n\n\nThis program aims to assist Afghan seniors with peer support and social engagement\, and provide innovative ways for seniors to continue to play an important role in their community.   \n\n\n\nEligibility: \n\n\n\nAdults/seniors \n\n\n\nContact Info: \n\n\n\nEmail hubadmin@schcontario.ca  or call 416-642-9445 ext. 7555
URL:https://schcontario.ca/event/afghan-seniors-program-2/2026-10-05/
LOCATION:The Hub – Mid Scarborough\, 2660 Eglinton Ave East\, Scarborough\, Ontario\, M1K 2S3\, Canada
CATEGORIES:Hub Mid Scarborough
ORGANIZER;CN="The Hub Mid-Scarborough":MAILTO:hubadmin@schcontario.ca 
END:VEVENT
BEGIN:VEVENT
DTSTART;TZID=America/Toronto:20261008T180000
DTEND;TZID=America/Toronto:20261008T190000
DTSTAMP:20260419T150332
CREATED:20250806T134415Z
LAST-MODIFIED:20250806T135459Z
UID:10054301-1791482400-1791486000@schcontario.ca
SUMMARY:Learn to Sew
DESCRIPTION:Registration required:  Yes/ we do welcome drop-in if numbers are low on the day of. \n\n\n\nDescription:  Ask questions\, share knowledge\, collaborate with others and learn how to use the sewing machine \n\n\n\nEligibility: 16+ \n\n\n\nFrequency:  Every  1st & 2nd Thursday \n\n\n\nContact Info: 416-642-9445 Ext 7555 \n\n\n\nRegistration Email: scarbenvasc@gmail.com
URL:https://schcontario.ca/event/learn-to-sew-2/2026-10-08/
LOCATION:The Hub – Mid Scarborough\, 2660 Eglinton Ave East\, Scarborough\, Ontario\, M1K 2S3\, Canada
CATEGORIES:Hub Mid Scarborough
ORGANIZER;CN="The Hub Mid-Scarborough":MAILTO:hubadmin@schcontario.ca 
END:VEVENT
END:VCALENDAR