BEGIN:VCALENDAR
VERSION:2.0
PRODID:-//Scarborough Centre for Healthy Communities - ECPv6.15.20//NONSGML v1.0//EN
CALSCALE:GREGORIAN
METHOD:PUBLISH
X-WR-CALNAME:Scarborough Centre for Healthy Communities
X-ORIGINAL-URL:https://schcontario.ca
X-WR-CALDESC:Events for Scarborough Centre for Healthy Communities
REFRESH-INTERVAL;VALUE=DURATION:PT1H
X-Robots-Tag:noindex
X-PUBLISHED-TTL:PT1H
BEGIN:VTIMEZONE
TZID:UTC
BEGIN:STANDARD
TZOFFSETFROM:+0000
TZOFFSETTO:+0000
TZNAME:UTC
DTSTART:20210101T000000
END:STANDARD
END:VTIMEZONE
BEGIN:VTIMEZONE
TZID:UTC
BEGIN:STANDARD
TZOFFSETFROM:+0000
TZOFFSETTO:+0000
TZNAME:UTC
DTSTART:20210101T000000
END:STANDARD
END:VTIMEZONE
BEGIN:VEVENT
DTSTART;TZID=UTC:20220617T120000
DTEND;TZID=UTC:20220617T133000
DTSTAMP:20260420T002633
CREATED:20220613T182609Z
LAST-MODIFIED:20220613T182612Z
UID:10009832-1655467200-1655472600@schcontario.ca
SUMMARY:Congregate Dining
DESCRIPTION:Contact Info: cssintake@schcontario.ca Eligibility: Ages 55+Registration: cssintake@schcontario.ca  or call 416-847-4134
URL:https://schcontario.ca/event/congregate-dining/
LOCATION:Online
CATEGORIES:Active Living Centre
END:VEVENT
BEGIN:VEVENT
DTSTART;TZID=UTC:20220617T160000
DTEND;TZID=UTC:20220617T180000
DTSTAMP:20260420T002633
CREATED:20220613T162345Z
LAST-MODIFIED:20220613T164918Z
UID:10008547-1655481600-1655488800@schcontario.ca
SUMMARY:Family Fun Night
DESCRIPTION:Eligibility: Parents & Caregivers
URL:https://schcontario.ca/event/family-fun-night/2022-06-17/
LOCATION:Zoom
CATEGORIES:EarlyON Child and Family Centre
END:VEVENT
BEGIN:VEVENT
DTSTART;TZID=UTC:20220617T160000
DTEND;TZID=UTC:20220617T190000
DTSTAMP:20260420T002633
CREATED:20220613T173511Z
LAST-MODIFIED:20220613T173514Z
UID:10007735-1655481600-1655492400@schcontario.ca
SUMMARY:Vaccine Clinic
DESCRIPTION:Contact Info: https://outlook.office365.com/owa/calendar/Ge7ee6b0c722f4eb9835ac621abd07b22@schcontario.ca /bookings/ \n\n\n\nEligibility: Individuals who are not vaccinated
URL:https://schcontario.ca/event/vaccine-clinic/
LOCATION:110 Mornelle Ct\, 110 Mornelle Ct\, Toronto\, Ontario\, M1E 4R1\, Canada
CATEGORIES:Vaccine Clinic
END:VEVENT
BEGIN:VEVENT
DTSTART;TZID=UTC:20220618T100000
DTEND;TZID=UTC:20220618T120000
DTSTAMP:20260420T002633
CREATED:20220611T002709Z
LAST-MODIFIED:20220611T002712Z
UID:10007734-1655546400-1655553600@schcontario.ca
SUMMARY:Father's Day Breakfast
DESCRIPTION:Eligibility: \n\n\n\nFor families with 0 to 6 children \n\n\n\nContact Info: earlyon@schcontario.ca
URL:https://schcontario.ca/event/fathers-day-breakfast/
LOCATION:EarlyON Child and Family Centre\, 4110 Lawrence Avenue East\, Scarborough\, Ontario\, M1E 2S2\, Canada
CATEGORIES:EarlyON Child and Family Centre
END:VEVENT
BEGIN:VEVENT
DTSTART;TZID=UTC:20220618T120000
DTEND;TZID=UTC:20220618T150000
DTSTAMP:20260420T002633
CREATED:20220613T173752Z
LAST-MODIFIED:20220613T173754Z
UID:10007736-1655553600-1655564400@schcontario.ca
SUMMARY:Vaccine Clinic
DESCRIPTION:Contact Info: https://outlook.office365.com/owa/calendar/MerchantsFleaMarketVaccineClinic@schcontario.ca /bookings/ \n\n\n\nEligibility: Individuals who are not vaccinated
URL:https://schcontario.ca/event/vaccine-clinic-2/
LOCATION:1921 Eglinton Ave East\, 1921 Eglinton Ave East\, Scarborough\, Ontario\, M1L 2L6\, Canada
CATEGORIES:Vaccine Clinic
END:VEVENT
BEGIN:VEVENT
DTSTART;TZID=UTC:20220618T140000
DTEND;TZID=UTC:20220618T173000
DTSTAMP:20260420T002633
CREATED:20220613T174018Z
LAST-MODIFIED:20220613T174020Z
UID:10007737-1655560800-1655573400@schcontario.ca
SUMMARY:Vaccine Clinic
DESCRIPTION:Contact Info: https://outlook.office365.com/owa/calendar/G5f015aced8df47dab75bab427102960c@schcontario.ca /bookings/ \n\n\n\nEligibility: Individuals who are not vaccinated
URL:https://schcontario.ca/event/vaccine-clinic-3/
LOCATION:835 Birchmount Rd\, 835 Birchmount Rd\, Scarborough\, Ontario\, M1K 5K1\, Canada
CATEGORIES:Vaccine Clinic
END:VEVENT
BEGIN:VEVENT
DTSTART;TZID=UTC:20220618T160000
DTEND;TZID=UTC:20220618T180000
DTSTAMP:20260420T002633
CREATED:20220613T162345Z
LAST-MODIFIED:20220613T164918Z
UID:10008548-1655568000-1655575200@schcontario.ca
SUMMARY:Family Fun Night
DESCRIPTION:Eligibility: Parents & Caregivers
URL:https://schcontario.ca/event/family-fun-night/2022-06-18/
LOCATION:Zoom
CATEGORIES:EarlyON Child and Family Centre
END:VEVENT
BEGIN:VEVENT
DTSTART;TZID=UTC:20220619T160000
DTEND;TZID=UTC:20220619T180000
DTSTAMP:20260420T002633
CREATED:20220613T162345Z
LAST-MODIFIED:20220613T164918Z
UID:10008549-1655654400-1655661600@schcontario.ca
SUMMARY:Family Fun Night
DESCRIPTION:Eligibility: Parents & Caregivers
URL:https://schcontario.ca/event/family-fun-night/2022-06-19/
LOCATION:Zoom
CATEGORIES:EarlyON Child and Family Centre
END:VEVENT
BEGIN:VEVENT
DTSTART;TZID=UTC:20220620T103000
DTEND;TZID=UTC:20220620T113000
DTSTAMP:20260420T002633
CREATED:20220613T175707Z
LAST-MODIFIED:20230906T184801Z
UID:10015619-1655721000-1655724600@schcontario.ca
SUMMARY:Active Yoga (In Person)
DESCRIPTION:Active Yoga is a hybrid form of yoga that focuses on building strength and endurance. \n\n\n\nPlease contact our Client Intake Registration Team for more details or to register.Tel: 416-847-4134Email: cssintake@schcontario.ca
URL:https://schcontario.ca/event/active-yoga/2022-06-20/
LOCATION:SCHC Active Living Centre\, 3600 Kingston Rd\, Scarborough\, M1M 1R9\, Canada
CATEGORIES:Active Living Centre
END:VEVENT
BEGIN:VEVENT
DTSTART;TZID=UTC:20220620T160000
DTEND;TZID=UTC:20220620T180000
DTSTAMP:20260420T002633
CREATED:20220613T162345Z
LAST-MODIFIED:20220613T164918Z
UID:10008550-1655740800-1655748000@schcontario.ca
SUMMARY:Family Fun Night
DESCRIPTION:Eligibility: Parents & Caregivers
URL:https://schcontario.ca/event/family-fun-night/2022-06-20/
LOCATION:Zoom
CATEGORIES:EarlyON Child and Family Centre
END:VEVENT
BEGIN:VEVENT
DTSTART;TZID=UTC:20220620T160000
DTEND;TZID=UTC:20220620T190000
DTSTAMP:20260420T002633
CREATED:20220613T174334Z
LAST-MODIFIED:20220613T174337Z
UID:10007738-1655740800-1655751600@schcontario.ca
SUMMARY:Vaccine Clinic
DESCRIPTION:Contact Info: https://outlook.office365.com/owa/calendar/Ga978e06523f14a15ba74976e25dafbd8@schcontario.ca /bookings/ \n\n\n\nEligibility: Individuals who are not vaccinated
URL:https://schcontario.ca/event/vaccine-clinic-4/
LOCATION:<strong>4040 Lawrence Ave E</strong>\, 4040 Lawrence Ave E\, Scarborough\, Ontario\, M1E 2R2\, Canada
CATEGORIES:Vaccine Clinic
END:VEVENT
BEGIN:VEVENT
DTSTART;TZID=UTC:20220621T140000
DTEND;TZID=UTC:20220621T150000
DTSTAMP:20260420T002633
CREATED:20220613T172239Z
LAST-MODIFIED:20220613T172439Z
UID:10008464-1655820000-1655823600@schcontario.ca
SUMMARY:Health & Wellness Program For Tamil Caregivers: Seniors\, Families & Friends
DESCRIPTION:Contact Info: djayapathy@schcontario.ca  \n\n\n\nEligibility: Tamil Caregivers: Seniors\, Families & Friends \n\n\n\nRegistration: \n\n\n\n416-948-6948 or djayapathy@schcontario.ca
URL:https://schcontario.ca/event/health-wellness-program-for-tamil-caregivers-seniors-families-friends/
LOCATION:Online
CATEGORIES:Caregiver Wellness
END:VEVENT
BEGIN:VEVENT
DTSTART;TZID=UTC:20220621T160000
DTEND;TZID=UTC:20220621T180000
DTSTAMP:20260420T002633
CREATED:20220613T162345Z
LAST-MODIFIED:20220613T164918Z
UID:10008551-1655827200-1655834400@schcontario.ca
SUMMARY:Family Fun Night
DESCRIPTION:Eligibility: Parents & Caregivers
URL:https://schcontario.ca/event/family-fun-night/2022-06-21/
LOCATION:Zoom
CATEGORIES:EarlyON Child and Family Centre
END:VEVENT
BEGIN:VEVENT
DTSTART;TZID=UTC:20220622T160000
DTEND;TZID=UTC:20220622T180000
DTSTAMP:20260420T002633
CREATED:20220613T162345Z
LAST-MODIFIED:20220613T164918Z
UID:10008552-1655913600-1655920800@schcontario.ca
SUMMARY:Family Fun Night
DESCRIPTION:Eligibility: Parents & Caregivers
URL:https://schcontario.ca/event/family-fun-night/2022-06-22/
LOCATION:Zoom
CATEGORIES:EarlyON Child and Family Centre
END:VEVENT
BEGIN:VEVENT
DTSTART;TZID=UTC:20220623T100000
DTEND;TZID=UTC:20220623T120000
DTSTAMP:20260420T002633
CREATED:20220611T003924Z
LAST-MODIFIED:20220611T003926Z
UID:10008468-1655978400-1655985600@schcontario.ca
SUMMARY:Mini & Me: Mindful Parenting
DESCRIPTION:Contact Info: earlyon@schcontario.ca
URL:https://schcontario.ca/event/mini-me-mindful-parenting/
LOCATION:EarlyON Child and Family Centre\, 4110 Lawrence Avenue East\, Scarborough\, Ontario\, M1E 2S2\, Canada
CATEGORIES:EarlyON Child and Family Centre
END:VEVENT
BEGIN:VEVENT
DTSTART;TZID=UTC:20220623T103000
DTEND;TZID=UTC:20220623T113000
DTSTAMP:20260420T002633
CREATED:20220613T172850Z
LAST-MODIFIED:20220613T172852Z
UID:10008461-1655980200-1655983800@schcontario.ca
SUMMARY:Breathwork\, Stretches & Mindfulness
DESCRIPTION:Contact Info: djayapathy@schcontario.ca  \n\n\n\nEligibility: Tamil Caregivers: Seniors\, Families & Friends \n\n\n\nRegistration: 416-948-6948 or djayapathy@schcontario.ca
URL:https://schcontario.ca/event/breathwork-stretches-mindfulness/2022-06-23/
LOCATION:Zoom
CATEGORIES:Caregiver Wellness
END:VEVENT
BEGIN:VEVENT
DTSTART;TZID=UTC:20220623T160000
DTEND;TZID=UTC:20220623T180000
DTSTAMP:20260420T002633
CREATED:20220613T162345Z
LAST-MODIFIED:20220613T164918Z
UID:10008553-1656000000-1656007200@schcontario.ca
SUMMARY:Family Fun Night
DESCRIPTION:Eligibility: Parents & Caregivers
URL:https://schcontario.ca/event/family-fun-night/2022-06-23/
LOCATION:Zoom
CATEGORIES:EarlyON Child and Family Centre
END:VEVENT
BEGIN:VEVENT
DTSTART;TZID=UTC:20220624T160000
DTEND;TZID=UTC:20220624T180000
DTSTAMP:20260420T002633
CREATED:20220613T162345Z
LAST-MODIFIED:20220613T164918Z
UID:10008554-1656086400-1656093600@schcontario.ca
SUMMARY:Family Fun Night
DESCRIPTION:Eligibility: Parents & Caregivers
URL:https://schcontario.ca/event/family-fun-night/2022-06-24/
LOCATION:Zoom
CATEGORIES:EarlyON Child and Family Centre
END:VEVENT
BEGIN:VEVENT
DTSTART;TZID=UTC:20220625T160000
DTEND;TZID=UTC:20220625T180000
DTSTAMP:20260420T002633
CREATED:20220613T162345Z
LAST-MODIFIED:20220613T164918Z
UID:10008555-1656172800-1656180000@schcontario.ca
SUMMARY:Family Fun Night
DESCRIPTION:Eligibility: Parents & Caregivers
URL:https://schcontario.ca/event/family-fun-night/2022-06-25/
LOCATION:Zoom
CATEGORIES:EarlyON Child and Family Centre
END:VEVENT
BEGIN:VEVENT
DTSTART;TZID=UTC:20220627T103000
DTEND;TZID=UTC:20220627T113000
DTSTAMP:20260420T002633
CREATED:20220613T175707Z
LAST-MODIFIED:20230906T184801Z
UID:10015620-1656325800-1656329400@schcontario.ca
SUMMARY:Active Yoga (In Person)
DESCRIPTION:Active Yoga is a hybrid form of yoga that focuses on building strength and endurance. \n\n\n\nPlease contact our Client Intake Registration Team for more details or to register.Tel: 416-847-4134Email: cssintake@schcontario.ca
URL:https://schcontario.ca/event/active-yoga/2022-06-27/
LOCATION:SCHC Active Living Centre\, 3600 Kingston Rd\, Scarborough\, M1M 1R9\, Canada
CATEGORIES:Active Living Centre
END:VEVENT
BEGIN:VEVENT
DTSTART;TZID=UTC:20220627T103000
DTEND;TZID=UTC:20220627T140000
DTSTAMP:20260420T002633
CREATED:20220613T174622Z
LAST-MODIFIED:20220613T174624Z
UID:10007739-1656325800-1656338400@schcontario.ca
SUMMARY:Vaccine Clinic
DESCRIPTION:Contact Info: https://outlook.office365.com/owa/calendar/G8fc2ae81298c47d6beb884250b4e6d83@schcontario.ca /bookings/ \n\n\n\nEligibility: Individuals who are not vaccinated
URL:https://schcontario.ca/event/vaccine-clinic-5/
LOCATION:202 Markham Road\, 202 Markham Rd\, Markham\, Ontario\, L3P 1Y3\, Canada
CATEGORIES:Vaccine Clinic
END:VEVENT
BEGIN:VEVENT
DTSTART;TZID=UTC:20220628T103000
DTEND;TZID=UTC:20220628T173000
DTSTAMP:20260420T002633
CREATED:20220613T175047Z
LAST-MODIFIED:20230417T184233Z
UID:10007740-1656412200-1656437400@schcontario.ca
SUMMARY:Vaccine Clinic
DESCRIPTION:Contact Info: (416) 642-9445
URL:https://schcontario.ca/event/vaccine-clinic-6/2022-06-28/
LOCATION:2660 Eglinton Ave E\, 2660 Eglinton Ave E\, Scarborough\, Ontario\, M1K 2S3\, Canada
CATEGORIES:Vaccine Clinic
END:VEVENT
BEGIN:VEVENT
DTSTART;TZID=UTC:20220628T140000
DTEND;TZID=UTC:20220628T153000
DTSTAMP:20260420T002633
CREATED:20220613T172627Z
LAST-MODIFIED:20220613T172629Z
UID:10008463-1656424800-1656430200@schcontario.ca
SUMMARY:Health & Wellness Program For Tamil Caregivers: Seniors\, Families & Friends
DESCRIPTION:Contact info: djayapathy@schcontario.ca    \n\n\n\nEligibility: Tamil Caregivers: Seniors\, Families & Friends \n\n\n\nRegistration: 416-948-6948 or djayapathy@schcontario.ca
URL:https://schcontario.ca/event/health-wellness-program-for-tamil-caregivers-seniors-families-friends-2/
LOCATION:Online
CATEGORIES:Caregiver Wellness
END:VEVENT
BEGIN:VEVENT
DTSTART;TZID=UTC:20220629T103000
DTEND;TZID=UTC:20220629T173000
DTSTAMP:20260420T002633
CREATED:20220613T175047Z
LAST-MODIFIED:20230417T184233Z
UID:10007741-1656498600-1656523800@schcontario.ca
SUMMARY:Vaccine Clinic
DESCRIPTION:Contact Info: (416) 642-9445
URL:https://schcontario.ca/event/vaccine-clinic-6/2022-06-29/
LOCATION:2660 Eglinton Ave E\, 2660 Eglinton Ave E\, Scarborough\, Ontario\, M1K 2S3\, Canada
CATEGORIES:Vaccine Clinic
END:VEVENT
BEGIN:VEVENT
DTSTART;TZID=UTC:20220630T100000
DTEND;TZID=UTC:20220630T120000
DTSTAMP:20260420T002633
CREATED:20220613T160829Z
LAST-MODIFIED:20220613T165241Z
UID:10008469-1656583200-1656590400@schcontario.ca
SUMMARY:Mini & Me: Well-Child Check-ups & Immunizations
DESCRIPTION:Eligibility: Families
URL:https://schcontario.ca/event/mini-me-well-child-check-ups-immunizations/
LOCATION:EarlyON Child and Family Centre\, 4110 Lawrence Avenue East\, Scarborough\, Ontario\, M1E 2S2\, Canada
CATEGORIES:EarlyON Child and Family Centre
END:VEVENT
BEGIN:VEVENT
DTSTART;TZID=UTC:20220630T103000
DTEND;TZID=UTC:20220630T113000
DTSTAMP:20260420T002633
CREATED:20220613T172850Z
LAST-MODIFIED:20220613T172852Z
UID:10008462-1656585000-1656588600@schcontario.ca
SUMMARY:Breathwork\, Stretches & Mindfulness
DESCRIPTION:Contact Info: djayapathy@schcontario.ca  \n\n\n\nEligibility: Tamil Caregivers: Seniors\, Families & Friends \n\n\n\nRegistration: 416-948-6948 or djayapathy@schcontario.ca
URL:https://schcontario.ca/event/breathwork-stretches-mindfulness/2022-06-30/
LOCATION:Zoom
CATEGORIES:Caregiver Wellness
END:VEVENT
BEGIN:VEVENT
DTSTART;TZID=UTC:20220704T103000
DTEND;TZID=UTC:20220704T113000
DTSTAMP:20260420T002633
CREATED:20220613T175707Z
LAST-MODIFIED:20230906T184801Z
UID:10015621-1656930600-1656934200@schcontario.ca
SUMMARY:Active Yoga (In Person)
DESCRIPTION:Active Yoga is a hybrid form of yoga that focuses on building strength and endurance. \n\n\n\nPlease contact our Client Intake Registration Team for more details or to register.Tel: 416-847-4134Email: cssintake@schcontario.ca
URL:https://schcontario.ca/event/active-yoga/2022-07-04/
LOCATION:SCHC Active Living Centre\, 3600 Kingston Rd\, Scarborough\, M1M 1R9\, Canada
CATEGORIES:Active Living Centre
END:VEVENT
BEGIN:VEVENT
DTSTART;TZID=UTC:20220705T103000
DTEND;TZID=UTC:20220705T173000
DTSTAMP:20260420T002633
CREATED:20220613T175047Z
LAST-MODIFIED:20230417T184233Z
UID:10007742-1657017000-1657042200@schcontario.ca
SUMMARY:Vaccine Clinic
DESCRIPTION:Contact Info: (416) 642-9445
URL:https://schcontario.ca/event/vaccine-clinic-6/2022-07-05/
LOCATION:2660 Eglinton Ave E\, 2660 Eglinton Ave E\, Scarborough\, Ontario\, M1K 2S3\, Canada
CATEGORIES:Vaccine Clinic
END:VEVENT
BEGIN:VEVENT
DTSTART;TZID=UTC:20220706T103000
DTEND;TZID=UTC:20220706T173000
DTSTAMP:20260420T002633
CREATED:20220613T175047Z
LAST-MODIFIED:20230417T184233Z
UID:10007743-1657103400-1657128600@schcontario.ca
SUMMARY:Vaccine Clinic
DESCRIPTION:Contact Info: (416) 642-9445
URL:https://schcontario.ca/event/vaccine-clinic-6/2022-07-06/
LOCATION:2660 Eglinton Ave E\, 2660 Eglinton Ave E\, Scarborough\, Ontario\, M1K 2S3\, Canada
CATEGORIES:Vaccine Clinic
END:VEVENT
BEGIN:VEVENT
DTSTART;TZID=UTC:20220711T103000
DTEND;TZID=UTC:20220711T113000
DTSTAMP:20260420T002633
CREATED:20220613T175707Z
LAST-MODIFIED:20230906T184801Z
UID:10015622-1657535400-1657539000@schcontario.ca
SUMMARY:Active Yoga (In Person)
DESCRIPTION:Active Yoga is a hybrid form of yoga that focuses on building strength and endurance. \n\n\n\nPlease contact our Client Intake Registration Team for more details or to register.Tel: 416-847-4134Email: cssintake@schcontario.ca
URL:https://schcontario.ca/event/active-yoga/2022-07-11/
LOCATION:SCHC Active Living Centre\, 3600 Kingston Rd\, Scarborough\, M1M 1R9\, Canada
CATEGORIES:Active Living Centre
END:VEVENT
END:VCALENDAR