BEGIN:VCALENDAR
VERSION:2.0
PRODID:-//Scarborough Centre for Healthy Communities - ECPv6.15.20//NONSGML v1.0//EN
CALSCALE:GREGORIAN
METHOD:PUBLISH
X-WR-CALNAME:Scarborough Centre for Healthy Communities
X-ORIGINAL-URL:https://schcontario.ca
X-WR-CALDESC:Events for Scarborough Centre for Healthy Communities
REFRESH-INTERVAL;VALUE=DURATION:PT1H
X-Robots-Tag:noindex
X-PUBLISHED-TTL:PT1H
BEGIN:VTIMEZONE
TZID:UTC
BEGIN:STANDARD
TZOFFSETFROM:+0000
TZOFFSETTO:+0000
TZNAME:UTC
DTSTART:20240101T000000
END:STANDARD
END:VTIMEZONE
BEGIN:VEVENT
DTSTART;TZID=UTC:20250508T140000
DTEND;TZID=UTC:20250508T163000
DTSTAMP:20260422T075515
CREATED:20230418T194531Z
LAST-MODIFIED:20250523T182755Z
UID:10039937-1746712800-1746721800@schcontario.ca
SUMMARY:Food Bank
DESCRIPTION:Drop in program\, registration or appointment is not required. \n\n\n\nDescription:  \n\n\n\nIndividuals and families experiencing food insecurity can access food support from our food bank on a weekly basis. Individuals can expect to receive 1-2 days of food and can select items based on their preference.  \n\n\n\nPlease arrive no later than 4:15 pm.  \n\n\n\nEligibility: \n\n\n\nAll are welcome \n\n\n\nContact Info:  \n\n\n\nEmail Foodbank@schcontario.ca  or call (416) 847-4147 for further information
URL:https://schcontario.ca/event/food-bank-2/2025-05-08/
LOCATION:4100 Lawrence Avenue East\, 4100 Lawrence Avenue East\, Scarborough\, Ontario\, M1E 2R9\, Canada
CATEGORIES:Food Bank and Meals
END:VEVENT
BEGIN:VEVENT
DTSTART;TZID=UTC:20250508T140000
DTEND;TZID=UTC:20250508T163000
DTSTAMP:20260422T075515
CREATED:20230418T194531Z
LAST-MODIFIED:20250523T182807Z
UID:10042691-1746712800-1746721800@schcontario.ca
SUMMARY:Food Bank
DESCRIPTION:Drop in program\, registration or appointment is not required. \n\n\n\nDescription:  \n\n\n\nIndividuals and families experiencing food insecurity can access food support from our food bank on a weekly basis. Individuals can expect to receive 1-2 days of food and can select items based on their preference.  \n\n\n\nPlease arrive no later than 4:15 pm.  \n\n\n\nEligibility: \n\n\n\nAll are welcome \n\n\n\nContact Info:  \n\n\n\nEmail Foodbank@schcontario.ca  or call (416) 847-4147 for further information
URL:https://schcontario.ca/event/food-bank-2/2025-05-08/
LOCATION:4100 Lawrence Avenue East\, 4100 Lawrence Avenue East\, Scarborough\, Ontario\, M1E 2R9\, Canada
CATEGORIES:Food Bank and Meals
END:VEVENT
BEGIN:VEVENT
DTSTART;TZID=UTC:20250508T140000
DTEND;TZID=UTC:20250508T163000
DTSTAMP:20260422T075515
CREATED:20230418T194531Z
LAST-MODIFIED:20250523T182802Z
UID:10041171-1746712800-1746721800@schcontario.ca
SUMMARY:Food Bank
DESCRIPTION:Drop in program\, registration or appointment is not required. \n\n\n\nDescription:  \n\n\n\nIndividuals and families experiencing food insecurity can access food support from our food bank on a weekly basis. Individuals can expect to receive 1-2 days of food and can select items based on their preference.  \n\n\n\nPlease arrive no later than 4:15 pm.  \n\n\n\nEligibility: \n\n\n\nAll are welcome \n\n\n\nContact Info:  \n\n\n\nEmail Foodbank@schcontario.ca  or call (416) 847-4147 for further information
URL:https://schcontario.ca/event/food-bank-2/2025-05-08/
LOCATION:4100 Lawrence Avenue East\, 4100 Lawrence Avenue East\, Scarborough\, Ontario\, M1E 2R9\, Canada
CATEGORIES:Food Bank and Meals
END:VEVENT
BEGIN:VEVENT
DTSTART;TZID=UTC:20250508T140000
DTEND;TZID=UTC:20250508T163000
DTSTAMP:20260422T075515
CREATED:20230418T194531Z
LAST-MODIFIED:20250523T182809Z
UID:10043889-1746712800-1746721800@schcontario.ca
SUMMARY:Food Bank
DESCRIPTION:Drop in program\, registration or appointment is not required. \n\n\n\nDescription:  \n\n\n\nIndividuals and families experiencing food insecurity can access food support from our food bank on a weekly basis. Individuals can expect to receive 1-2 days of food and can select items based on their preference.  \n\n\n\nPlease arrive no later than 4:15 pm.  \n\n\n\nEligibility: \n\n\n\nAll are welcome \n\n\n\nContact Info:  \n\n\n\nEmail Foodbank@schcontario.ca  or call (416) 847-4147 for further information
URL:https://schcontario.ca/event/food-bank-2/2025-05-08/
LOCATION:4100 Lawrence Avenue East\, 4100 Lawrence Avenue East\, Scarborough\, Ontario\, M1E 2R9\, Canada
CATEGORIES:Food Bank and Meals
END:VEVENT
BEGIN:VEVENT
DTSTART;TZID=UTC:20250508T140000
DTEND;TZID=UTC:20250508T163000
DTSTAMP:20260422T075515
CREATED:20230418T194531Z
LAST-MODIFIED:20250523T172951Z
UID:10030172-1746712800-1746721800@schcontario.ca
SUMMARY:Food Bank
DESCRIPTION:Drop in program\, registration or appointment is not required. \n\n\n\nDescription:  \n\n\n\nIndividuals and families experiencing food insecurity can access food support from our food bank on a weekly basis. Individuals can expect to receive 1-2 days of food and can select items based on their preference.  \n\n\n\nPlease arrive no later than 4:15 pm.  \n\n\n\nEligibility: \n\n\n\nAll are welcome \n\n\n\nContact Info:  \n\n\n\nEmail Foodbank@schcontario.ca  or call (416) 847-4147 for further information
URL:https://schcontario.ca/event/food-bank-2/2025-05-08/
LOCATION:4100 Lawrence Avenue East\, 4100 Lawrence Avenue East\, Scarborough\, Ontario\, M1E 2R9\, Canada
CATEGORIES:Food Bank and Meals
END:VEVENT
BEGIN:VEVENT
DTSTART;TZID=UTC:20250508T140000
DTEND;TZID=UTC:20250508T163000
DTSTAMP:20260422T075515
CREATED:20230418T194531Z
LAST-MODIFIED:20250523T175901Z
UID:10032864-1746712800-1746721800@schcontario.ca
SUMMARY:Food Bank
DESCRIPTION:Drop in program\, registration or appointment is not required. \n\n\n\nDescription:  \n\n\n\nIndividuals and families experiencing food insecurity can access food support from our food bank on a weekly basis. Individuals can expect to receive 1-2 days of food and can select items based on their preference.  \n\n\n\nPlease arrive no later than 4:15 pm.  \n\n\n\nEligibility: \n\n\n\nAll are welcome \n\n\n\nContact Info:  \n\n\n\nEmail Foodbank@schcontario.ca  or call (416) 847-4147 for further information
URL:https://schcontario.ca/event/food-bank-2/2025-05-08/
LOCATION:4100 Lawrence Avenue East\, 4100 Lawrence Avenue East\, Scarborough\, Ontario\, M1E 2R9\, Canada
CATEGORIES:Food Bank and Meals
END:VEVENT
BEGIN:VEVENT
DTSTART;TZID=UTC:20250508T140000
DTEND;TZID=UTC:20250508T163000
DTSTAMP:20260422T075515
CREATED:20230418T194531Z
LAST-MODIFIED:20250523T175907Z
UID:10035816-1746712800-1746721800@schcontario.ca
SUMMARY:Food Bank
DESCRIPTION:Drop in program\, registration or appointment is not required. \n\n\n\nDescription:  \n\n\n\nIndividuals and families experiencing food insecurity can access food support from our food bank on a weekly basis. Individuals can expect to receive 1-2 days of food and can select items based on their preference.  \n\n\n\nPlease arrive no later than 4:15 pm.  \n\n\n\nEligibility: \n\n\n\nAll are welcome \n\n\n\nContact Info:  \n\n\n\nEmail Foodbank@schcontario.ca  or call (416) 847-4147 for further information
URL:https://schcontario.ca/event/food-bank-2/2025-05-08/
LOCATION:4100 Lawrence Avenue East\, 4100 Lawrence Avenue East\, Scarborough\, Ontario\, M1E 2R9\, Canada
CATEGORIES:Food Bank and Meals
END:VEVENT
BEGIN:VEVENT
DTSTART;TZID=UTC:20250508T140000
DTEND;TZID=UTC:20250508T163000
DTSTAMP:20260422T075515
CREATED:20230418T194531Z
LAST-MODIFIED:20250523T175918Z
UID:10038372-1746712800-1746721800@schcontario.ca
SUMMARY:Food Bank
DESCRIPTION:Drop in program\, registration or appointment is not required. \n\n\n\nDescription:  \n\n\n\nIndividuals and families experiencing food insecurity can access food support from our food bank on a weekly basis. Individuals can expect to receive 1-2 days of food and can select items based on their preference.  \n\n\n\nPlease arrive no later than 4:15 pm.  \n\n\n\nEligibility: \n\n\n\nAll are welcome \n\n\n\nContact Info:  \n\n\n\nEmail Foodbank@schcontario.ca  or call (416) 847-4147 for further information
URL:https://schcontario.ca/event/food-bank-2/2025-05-08/
LOCATION:4100 Lawrence Avenue East\, 4100 Lawrence Avenue East\, Scarborough\, Ontario\, M1E 2R9\, Canada
CATEGORIES:Food Bank and Meals
END:VEVENT
BEGIN:VEVENT
DTSTART;TZID=UTC:20250508T140000
DTEND;TZID=UTC:20250508T163000
DTSTAMP:20260422T075515
CREATED:20230418T194531Z
LAST-MODIFIED:20250523T175856Z
UID:10031526-1746712800-1746721800@schcontario.ca
SUMMARY:Food Bank
DESCRIPTION:Drop in program\, registration or appointment is not required. \n\n\n\nDescription:  \n\n\n\nIndividuals and families experiencing food insecurity can access food support from our food bank on a weekly basis. Individuals can expect to receive 1-2 days of food and can select items based on their preference.  \n\n\n\nPlease arrive no later than 4:15 pm.  \n\n\n\nEligibility: \n\n\n\nAll are welcome \n\n\n\nContact Info:  \n\n\n\nEmail Foodbank@schcontario.ca  or call (416) 847-4147 for further information
URL:https://schcontario.ca/event/food-bank-2/2025-05-08/
LOCATION:4100 Lawrence Avenue East\, 4100 Lawrence Avenue East\, Scarborough\, Ontario\, M1E 2R9\, Canada
CATEGORIES:Food Bank and Meals
END:VEVENT
BEGIN:VEVENT
DTSTART;TZID=UTC:20250508T140000
DTEND;TZID=UTC:20250508T163000
DTSTAMP:20260422T075515
CREATED:20230418T194531Z
LAST-MODIFIED:20250523T175903Z
UID:10034186-1746712800-1746721800@schcontario.ca
SUMMARY:Food Bank
DESCRIPTION:Drop in program\, registration or appointment is not required. \n\n\n\nDescription:  \n\n\n\nIndividuals and families experiencing food insecurity can access food support from our food bank on a weekly basis. Individuals can expect to receive 1-2 days of food and can select items based on their preference.  \n\n\n\nPlease arrive no later than 4:15 pm.  \n\n\n\nEligibility: \n\n\n\nAll are welcome \n\n\n\nContact Info:  \n\n\n\nEmail Foodbank@schcontario.ca  or call (416) 847-4147 for further information
URL:https://schcontario.ca/event/food-bank-2/2025-05-08/
LOCATION:4100 Lawrence Avenue East\, 4100 Lawrence Avenue East\, Scarborough\, Ontario\, M1E 2R9\, Canada
CATEGORIES:Food Bank and Meals
END:VEVENT
BEGIN:VEVENT
DTSTART;TZID=UTC:20250508T140000
DTEND;TZID=UTC:20250508T163000
DTSTAMP:20260422T075515
CREATED:20230418T194531Z
LAST-MODIFIED:20250523T175914Z
UID:10037102-1746712800-1746721800@schcontario.ca
SUMMARY:Food Bank
DESCRIPTION:Drop in program\, registration or appointment is not required. \n\n\n\nDescription:  \n\n\n\nIndividuals and families experiencing food insecurity can access food support from our food bank on a weekly basis. Individuals can expect to receive 1-2 days of food and can select items based on their preference.  \n\n\n\nPlease arrive no later than 4:15 pm.  \n\n\n\nEligibility: \n\n\n\nAll are welcome \n\n\n\nContact Info:  \n\n\n\nEmail Foodbank@schcontario.ca  or call (416) 847-4147 for further information
URL:https://schcontario.ca/event/food-bank-2/2025-05-08/
LOCATION:4100 Lawrence Avenue East\, 4100 Lawrence Avenue East\, Scarborough\, Ontario\, M1E 2R9\, Canada
CATEGORIES:Food Bank and Meals
END:VEVENT
BEGIN:VEVENT
DTSTART;TZID=UTC:20250508T140000
DTEND;TZID=UTC:20250508T163000
DTSTAMP:20260422T075515
CREATED:20230418T194531Z
LAST-MODIFIED:20250523T182805Z
UID:10053730-1746712800-1746721800@schcontario.ca
SUMMARY:Food Bank
DESCRIPTION:Drop in program\, registration or appointment is not required. \n\n\n\nDescription:  \n\n\n\nIndividuals and families experiencing food insecurity can access food support from our food bank on a weekly basis. Individuals can expect to receive 1-2 days of food and can select items based on their preference.  \n\n\n\nPlease arrive no later than 4:15 pm.  \n\n\n\nEligibility: \n\n\n\nAll are welcome \n\n\n\nContact Info:  \n\n\n\nEmail Foodbank@schcontario.ca  or call (416) 847-4147 for further information
URL:https://schcontario.ca/event/food-bank-2/2025-05-08/
LOCATION:4100 Lawrence Avenue East\, 4100 Lawrence Avenue East\, Scarborough\, Ontario\, M1E 2R9\, Canada
CATEGORIES:Food Bank and Meals
END:VEVENT
BEGIN:VEVENT
DTSTART;TZID=UTC:20250508T140000
DTEND;TZID=UTC:20250508T163000
DTSTAMP:20260422T075515
CREATED:20230418T194531Z
LAST-MODIFIED:20250523T182813Z
UID:10044777-1746712800-1746721800@schcontario.ca
SUMMARY:Food Bank
DESCRIPTION:Drop in program\, registration or appointment is not required. \n\n\n\nDescription:  \n\n\n\nIndividuals and families experiencing food insecurity can access food support from our food bank on a weekly basis. Individuals can expect to receive 1-2 days of food and can select items based on their preference.  \n\n\n\nPlease arrive no later than 4:15 pm.  \n\n\n\nEligibility: \n\n\n\nAll are welcome \n\n\n\nContact Info:  \n\n\n\nEmail Foodbank@schcontario.ca  or call (416) 847-4147 for further information
URL:https://schcontario.ca/event/food-bank-2/2025-05-08/
LOCATION:4100 Lawrence Avenue East\, 4100 Lawrence Avenue East\, Scarborough\, Ontario\, M1E 2R9\, Canada
CATEGORIES:Food Bank and Meals
END:VEVENT
BEGIN:VEVENT
DTSTART;TZID=UTC:20250508T140000
DTEND;TZID=UTC:20250508T163000
DTSTAMP:20260422T075515
CREATED:20230418T194531Z
LAST-MODIFIED:20250523T182819Z
UID:10047101-1746712800-1746721800@schcontario.ca
SUMMARY:Food Bank
DESCRIPTION:Drop in program\, registration or appointment is not required. \n\n\n\nDescription:  \n\n\n\nIndividuals and families experiencing food insecurity can access food support from our food bank on a weekly basis. Individuals can expect to receive 1-2 days of food and can select items based on their preference.  \n\n\n\nPlease arrive no later than 4:15 pm.  \n\n\n\nEligibility: \n\n\n\nAll are welcome \n\n\n\nContact Info:  \n\n\n\nEmail Foodbank@schcontario.ca  or call (416) 847-4147 for further information
URL:https://schcontario.ca/event/food-bank-2/2025-05-08/
LOCATION:4100 Lawrence Avenue East\, 4100 Lawrence Avenue East\, Scarborough\, Ontario\, M1E 2R9\, Canada
CATEGORIES:Food Bank and Meals
END:VEVENT
BEGIN:VEVENT
DTSTART;TZID=UTC:20250508T140000
DTEND;TZID=UTC:20250508T163000
DTSTAMP:20260422T075515
CREATED:20230418T194531Z
LAST-MODIFIED:20250523T182843Z
UID:10050192-1746712800-1746721800@schcontario.ca
SUMMARY:Food Bank
DESCRIPTION:Drop in program\, registration or appointment is not required. \n\n\n\nDescription:  \n\n\n\nIndividuals and families experiencing food insecurity can access food support from our food bank on a weekly basis. Individuals can expect to receive 1-2 days of food and can select items based on their preference.  \n\n\n\nPlease arrive no later than 4:15 pm.  \n\n\n\nEligibility: \n\n\n\nAll are welcome \n\n\n\nContact Info:  \n\n\n\nEmail Foodbank@schcontario.ca  or call (416) 847-4147 for further information
URL:https://schcontario.ca/event/food-bank-2/2025-05-08/
LOCATION:4100 Lawrence Avenue East\, 4100 Lawrence Avenue East\, Scarborough\, Ontario\, M1E 2R9\, Canada
CATEGORIES:Food Bank and Meals
END:VEVENT
BEGIN:VEVENT
DTSTART;TZID=UTC:20250508T140000
DTEND;TZID=UTC:20250508T163000
DTSTAMP:20260422T075515
CREATED:20230418T194531Z
LAST-MODIFIED:20250523T182904Z
UID:10052364-1746712800-1746721800@schcontario.ca
SUMMARY:Food Bank
DESCRIPTION:Drop in program\, registration or appointment is not required. \n\n\n\nDescription:  \n\n\n\nIndividuals and families experiencing food insecurity can access food support from our food bank on a weekly basis. Individuals can expect to receive 1-2 days of food and can select items based on their preference.  \n\n\n\nPlease arrive no later than 4:15 pm.  \n\n\n\nEligibility: \n\n\n\nAll are welcome \n\n\n\nContact Info:  \n\n\n\nEmail Foodbank@schcontario.ca  or call (416) 847-4147 for further information
URL:https://schcontario.ca/event/food-bank-2/2025-05-08/
LOCATION:4100 Lawrence Avenue East\, 4100 Lawrence Avenue East\, Scarborough\, Ontario\, M1E 2R9\, Canada
CATEGORIES:Food Bank and Meals
END:VEVENT
BEGIN:VEVENT
DTSTART;TZID=UTC:20250508T140000
DTEND;TZID=UTC:20250508T163000
DTSTAMP:20260422T075515
CREATED:20230418T194531Z
LAST-MODIFIED:20250523T182816Z
UID:10045947-1746712800-1746721800@schcontario.ca
SUMMARY:Food Bank
DESCRIPTION:Drop in program\, registration or appointment is not required. \n\n\n\nDescription:  \n\n\n\nIndividuals and families experiencing food insecurity can access food support from our food bank on a weekly basis. Individuals can expect to receive 1-2 days of food and can select items based on their preference.  \n\n\n\nPlease arrive no later than 4:15 pm.  \n\n\n\nEligibility: \n\n\n\nAll are welcome \n\n\n\nContact Info:  \n\n\n\nEmail Foodbank@schcontario.ca  or call (416) 847-4147 for further information
URL:https://schcontario.ca/event/food-bank-2/2025-05-08/
LOCATION:4100 Lawrence Avenue East\, 4100 Lawrence Avenue East\, Scarborough\, Ontario\, M1E 2R9\, Canada
CATEGORIES:Food Bank and Meals
END:VEVENT
BEGIN:VEVENT
DTSTART;TZID=UTC:20250508T140000
DTEND;TZID=UTC:20250508T163000
DTSTAMP:20260422T075515
CREATED:20230418T194531Z
LAST-MODIFIED:20250523T182826Z
UID:10048239-1746712800-1746721800@schcontario.ca
SUMMARY:Food Bank
DESCRIPTION:Drop in program\, registration or appointment is not required. \n\n\n\nDescription:  \n\n\n\nIndividuals and families experiencing food insecurity can access food support from our food bank on a weekly basis. Individuals can expect to receive 1-2 days of food and can select items based on their preference.  \n\n\n\nPlease arrive no later than 4:15 pm.  \n\n\n\nEligibility: \n\n\n\nAll are welcome \n\n\n\nContact Info:  \n\n\n\nEmail Foodbank@schcontario.ca  or call (416) 847-4147 for further information
URL:https://schcontario.ca/event/food-bank-2/2025-05-08/
LOCATION:4100 Lawrence Avenue East\, 4100 Lawrence Avenue East\, Scarborough\, Ontario\, M1E 2R9\, Canada
CATEGORIES:Food Bank and Meals
END:VEVENT
BEGIN:VEVENT
DTSTART;TZID=UTC:20250508T140000
DTEND;TZID=UTC:20250508T163000
DTSTAMP:20260422T075515
CREATED:20230418T194531Z
LAST-MODIFIED:20250523T182831Z
UID:10049082-1746712800-1746721800@schcontario.ca
SUMMARY:Food Bank
DESCRIPTION:Drop in program\, registration or appointment is not required. \n\n\n\nDescription:  \n\n\n\nIndividuals and families experiencing food insecurity can access food support from our food bank on a weekly basis. Individuals can expect to receive 1-2 days of food and can select items based on their preference.  \n\n\n\nPlease arrive no later than 4:15 pm.  \n\n\n\nEligibility: \n\n\n\nAll are welcome \n\n\n\nContact Info:  \n\n\n\nEmail Foodbank@schcontario.ca  or call (416) 847-4147 for further information
URL:https://schcontario.ca/event/food-bank-2/2025-05-08/
LOCATION:4100 Lawrence Avenue East\, 4100 Lawrence Avenue East\, Scarborough\, Ontario\, M1E 2R9\, Canada
CATEGORIES:Food Bank and Meals
END:VEVENT
BEGIN:VEVENT
DTSTART;TZID=UTC:20250508T140000
DTEND;TZID=UTC:20250508T163000
DTSTAMP:20260422T075515
CREATED:20230418T194531Z
LAST-MODIFIED:20250523T182853Z
UID:10051286-1746712800-1746721800@schcontario.ca
SUMMARY:Food Bank
DESCRIPTION:Drop in program\, registration or appointment is not required. \n\n\n\nDescription:  \n\n\n\nIndividuals and families experiencing food insecurity can access food support from our food bank on a weekly basis. Individuals can expect to receive 1-2 days of food and can select items based on their preference.  \n\n\n\nPlease arrive no later than 4:15 pm.  \n\n\n\nEligibility: \n\n\n\nAll are welcome \n\n\n\nContact Info:  \n\n\n\nEmail Foodbank@schcontario.ca  or call (416) 847-4147 for further information
URL:https://schcontario.ca/event/food-bank-2/2025-05-08/
LOCATION:4100 Lawrence Avenue East\, 4100 Lawrence Avenue East\, Scarborough\, Ontario\, M1E 2R9\, Canada
CATEGORIES:Food Bank and Meals
END:VEVENT
BEGIN:VEVENT
DTSTART;TZID=UTC:20250508T140000
DTEND;TZID=UTC:20250508T163000
DTSTAMP:20260422T075515
CREATED:20230418T194531Z
LAST-MODIFIED:20250523T150048Z
UID:10024239-1746712800-1746721800@schcontario.ca
SUMMARY:Food Bank
DESCRIPTION:Drop in program\, registration or appointment is not required. \n\n\n\nDescription:  \n\n\n\nIndividuals and families experiencing food insecurity can access food support from our food bank on a weekly basis. Individuals can expect to receive 1-2 days of food and can select items based on their preference.  \n\n\n\nPlease arrive no later than 4:15 pm.  \n\n\n\nEligibility: \n\n\n\nAll are welcome \n\n\n\nContact Info:  \n\n\n\nEmail Foodbank@schcontario.ca  or call (416) 847-4147 for further information
URL:https://schcontario.ca/event/food-bank-2/2025-05-08/
LOCATION:4100 Lawrence Avenue East\, 4100 Lawrence Avenue East\, Scarborough\, Ontario\, M1E 2R9\, Canada
CATEGORIES:Food Bank and Meals
END:VEVENT
BEGIN:VEVENT
DTSTART;TZID=UTC:20250508T140000
DTEND;TZID=UTC:20250508T163000
DTSTAMP:20260422T075515
CREATED:20230418T194531Z
LAST-MODIFIED:20250523T152955Z
UID:10026366-1746712800-1746721800@schcontario.ca
SUMMARY:Food Bank
DESCRIPTION:Drop in program\, registration or appointment is not required. \n\n\n\nDescription:  \n\n\n\nIndividuals and families experiencing food insecurity can access food support from our food bank on a weekly basis. Individuals can expect to receive 1-2 days of food and can select items based on their preference.  \n\n\n\nPlease arrive no later than 4:15 pm.  \n\n\n\nEligibility: \n\n\n\nAll are welcome \n\n\n\nContact Info:  \n\n\n\nEmail Foodbank@schcontario.ca  or call (416) 847-4147 for further information
URL:https://schcontario.ca/event/food-bank-2/2025-05-08/
LOCATION:4100 Lawrence Avenue East\, 4100 Lawrence Avenue East\, Scarborough\, Ontario\, M1E 2R9\, Canada
CATEGORIES:Food Bank and Meals
END:VEVENT
BEGIN:VEVENT
DTSTART;TZID=UTC:20250508T140000
DTEND;TZID=UTC:20250508T163000
DTSTAMP:20260422T075515
CREATED:20230418T194531Z
LAST-MODIFIED:20250523T172943Z
UID:10029146-1746712800-1746721800@schcontario.ca
SUMMARY:Food Bank
DESCRIPTION:Drop in program\, registration or appointment is not required. \n\n\n\nDescription:  \n\n\n\nIndividuals and families experiencing food insecurity can access food support from our food bank on a weekly basis. Individuals can expect to receive 1-2 days of food and can select items based on their preference.  \n\n\n\nPlease arrive no later than 4:15 pm.  \n\n\n\nEligibility: \n\n\n\nAll are welcome \n\n\n\nContact Info:  \n\n\n\nEmail Foodbank@schcontario.ca  or call (416) 847-4147 for further information
URL:https://schcontario.ca/event/food-bank-2/2025-05-08/
LOCATION:4100 Lawrence Avenue East\, 4100 Lawrence Avenue East\, Scarborough\, Ontario\, M1E 2R9\, Canada
CATEGORIES:Food Bank and Meals
END:VEVENT
BEGIN:VEVENT
DTSTART;TZID=UTC:20250508T140000
DTEND;TZID=UTC:20250508T163000
DTSTAMP:20260422T075515
CREATED:20230418T194531Z
LAST-MODIFIED:20250523T152953Z
UID:10024952-1746712800-1746721800@schcontario.ca
SUMMARY:Food Bank
DESCRIPTION:Drop in program\, registration or appointment is not required. \n\n\n\nDescription:  \n\n\n\nIndividuals and families experiencing food insecurity can access food support from our food bank on a weekly basis. Individuals can expect to receive 1-2 days of food and can select items based on their preference.  \n\n\n\nPlease arrive no later than 4:15 pm.  \n\n\n\nEligibility: \n\n\n\nAll are welcome \n\n\n\nContact Info:  \n\n\n\nEmail Foodbank@schcontario.ca  or call (416) 847-4147 for further information
URL:https://schcontario.ca/event/food-bank-2/2025-05-08/
LOCATION:4100 Lawrence Avenue East\, 4100 Lawrence Avenue East\, Scarborough\, Ontario\, M1E 2R9\, Canada
CATEGORIES:Food Bank and Meals
END:VEVENT
BEGIN:VEVENT
DTSTART;TZID=UTC:20250508T140000
DTEND;TZID=UTC:20250508T163000
DTSTAMP:20260422T075515
CREATED:20230418T194531Z
LAST-MODIFIED:20250523T172934Z
UID:10027764-1746712800-1746721800@schcontario.ca
SUMMARY:Food Bank
DESCRIPTION:Drop in program\, registration or appointment is not required. \n\n\n\nDescription:  \n\n\n\nIndividuals and families experiencing food insecurity can access food support from our food bank on a weekly basis. Individuals can expect to receive 1-2 days of food and can select items based on their preference.  \n\n\n\nPlease arrive no later than 4:15 pm.  \n\n\n\nEligibility: \n\n\n\nAll are welcome \n\n\n\nContact Info:  \n\n\n\nEmail Foodbank@schcontario.ca  or call (416) 847-4147 for further information
URL:https://schcontario.ca/event/food-bank-2/2025-05-08/
LOCATION:4100 Lawrence Avenue East\, 4100 Lawrence Avenue East\, Scarborough\, Ontario\, M1E 2R9\, Canada
CATEGORIES:Food Bank and Meals
END:VEVENT
BEGIN:VEVENT
DTSTART;TZID=UTC:20250508T140000
DTEND;TZID=UTC:20250508T163000
DTSTAMP:20260422T075515
CREATED:20230418T194531Z
LAST-MODIFIED:20250523T182756Z
UID:10040247-1746712800-1746721800@schcontario.ca
SUMMARY:Food Bank
DESCRIPTION:Drop in program\, registration or appointment is not required. \n\n\n\nDescription:  \n\n\n\nIndividuals and families experiencing food insecurity can access food support from our food bank on a weekly basis. Individuals can expect to receive 1-2 days of food and can select items based on their preference.  \n\n\n\nPlease arrive no later than 4:15 pm.  \n\n\n\nEligibility: \n\n\n\nAll are welcome \n\n\n\nContact Info:  \n\n\n\nEmail Foodbank@schcontario.ca  or call (416) 847-4147 for further information
URL:https://schcontario.ca/event/food-bank-2/2025-05-08/
LOCATION:4100 Lawrence Avenue East\, 4100 Lawrence Avenue East\, Scarborough\, Ontario\, M1E 2R9\, Canada
CATEGORIES:Food Bank and Meals
END:VEVENT
BEGIN:VEVENT
DTSTART;TZID=UTC:20250508T140000
DTEND;TZID=UTC:20250508T163000
DTSTAMP:20260422T075515
CREATED:20230418T194531Z
LAST-MODIFIED:20250523T182807Z
UID:10042992-1746712800-1746721800@schcontario.ca
SUMMARY:Food Bank
DESCRIPTION:Drop in program\, registration or appointment is not required. \n\n\n\nDescription:  \n\n\n\nIndividuals and families experiencing food insecurity can access food support from our food bank on a weekly basis. Individuals can expect to receive 1-2 days of food and can select items based on their preference.  \n\n\n\nPlease arrive no later than 4:15 pm.  \n\n\n\nEligibility: \n\n\n\nAll are welcome \n\n\n\nContact Info:  \n\n\n\nEmail Foodbank@schcontario.ca  or call (416) 847-4147 for further information
URL:https://schcontario.ca/event/food-bank-2/2025-05-08/
LOCATION:4100 Lawrence Avenue East\, 4100 Lawrence Avenue East\, Scarborough\, Ontario\, M1E 2R9\, Canada
CATEGORIES:Food Bank and Meals
END:VEVENT
BEGIN:VEVENT
DTSTART;TZID=UTC:20250508T140000
DTEND;TZID=UTC:20250508T163000
DTSTAMP:20260422T075515
CREATED:20230418T194531Z
LAST-MODIFIED:20250523T182804Z
UID:10041477-1746712800-1746721800@schcontario.ca
SUMMARY:Food Bank
DESCRIPTION:Drop in program\, registration or appointment is not required. \n\n\n\nDescription:  \n\n\n\nIndividuals and families experiencing food insecurity can access food support from our food bank on a weekly basis. Individuals can expect to receive 1-2 days of food and can select items based on their preference.  \n\n\n\nPlease arrive no later than 4:15 pm.  \n\n\n\nEligibility: \n\n\n\nAll are welcome \n\n\n\nContact Info:  \n\n\n\nEmail Foodbank@schcontario.ca  or call (416) 847-4147 for further information
URL:https://schcontario.ca/event/food-bank-2/2025-05-08/
LOCATION:4100 Lawrence Avenue East\, 4100 Lawrence Avenue East\, Scarborough\, Ontario\, M1E 2R9\, Canada
CATEGORIES:Food Bank and Meals
END:VEVENT
BEGIN:VEVENT
DTSTART;TZID=UTC:20250508T140000
DTEND;TZID=UTC:20250508T163000
DTSTAMP:20260422T075515
CREATED:20230418T194531Z
LAST-MODIFIED:20250523T182810Z
UID:10044186-1746712800-1746721800@schcontario.ca
SUMMARY:Food Bank
DESCRIPTION:Drop in program\, registration or appointment is not required. \n\n\n\nDescription:  \n\n\n\nIndividuals and families experiencing food insecurity can access food support from our food bank on a weekly basis. Individuals can expect to receive 1-2 days of food and can select items based on their preference.  \n\n\n\nPlease arrive no later than 4:15 pm.  \n\n\n\nEligibility: \n\n\n\nAll are welcome \n\n\n\nContact Info:  \n\n\n\nEmail Foodbank@schcontario.ca  or call (416) 847-4147 for further information
URL:https://schcontario.ca/event/food-bank-2/2025-05-08/
LOCATION:4100 Lawrence Avenue East\, 4100 Lawrence Avenue East\, Scarborough\, Ontario\, M1E 2R9\, Canada
CATEGORIES:Food Bank and Meals
END:VEVENT
BEGIN:VEVENT
DTSTART;TZID=UTC:20250508T140000
DTEND;TZID=UTC:20250508T163000
DTSTAMP:20260422T075515
CREATED:20230418T194531Z
LAST-MODIFIED:20250523T172952Z
UID:10030512-1746712800-1746721800@schcontario.ca
SUMMARY:Food Bank
DESCRIPTION:Drop in program\, registration or appointment is not required. \n\n\n\nDescription:  \n\n\n\nIndividuals and families experiencing food insecurity can access food support from our food bank on a weekly basis. Individuals can expect to receive 1-2 days of food and can select items based on their preference.  \n\n\n\nPlease arrive no later than 4:15 pm.  \n\n\n\nEligibility: \n\n\n\nAll are welcome \n\n\n\nContact Info:  \n\n\n\nEmail Foodbank@schcontario.ca  or call (416) 847-4147 for further information
URL:https://schcontario.ca/event/food-bank-2/2025-05-08/
LOCATION:4100 Lawrence Avenue East\, 4100 Lawrence Avenue East\, Scarborough\, Ontario\, M1E 2R9\, Canada
CATEGORIES:Food Bank and Meals
END:VEVENT
END:VCALENDAR