BEGIN:VCALENDAR
VERSION:2.0
PRODID:-//Scarborough Centre for Healthy Communities - ECPv6.15.20//NONSGML v1.0//EN
CALSCALE:GREGORIAN
METHOD:PUBLISH
X-ORIGINAL-URL:https://schcontario.ca
X-WR-CALDESC:Events for Scarborough Centre for Healthy Communities
REFRESH-INTERVAL;VALUE=DURATION:PT1H
X-Robots-Tag:noindex
X-PUBLISHED-TTL:PT1H
BEGIN:VTIMEZONE
TZID:UTC
BEGIN:STANDARD
TZOFFSETFROM:+0000
TZOFFSETTO:+0000
TZNAME:UTC
DTSTART:20250101T000000
END:STANDARD
END:VTIMEZONE
BEGIN:VEVENT
DTSTART;TZID=UTC:20260507T140000
DTEND;TZID=UTC:20260507T163000
DTSTAMP:20260421T081038
CREATED:20230418T194531Z
LAST-MODIFIED:20250523T172939Z
UID:10028854-1778162400-1778171400@schcontario.ca
SUMMARY:Food Bank
DESCRIPTION:Drop in program\, registration or appointment is not required. \n\n\n\nDescription:  \n\n\n\nIndividuals and families experiencing food insecurity can access food support from our food bank on a weekly basis. Individuals can expect to receive 1-2 days of food and can select items based on their preference.  \n\n\n\nPlease arrive no later than 4:15 pm.  \n\n\n\nEligibility: \n\n\n\nAll are welcome \n\n\n\nContact Info:  \n\n\n\nEmail Foodbank@schcontario.ca  or call (416) 847-4147 for further information
URL:https://schcontario.ca/event/food-bank-2/2026-05-07/
LOCATION:4100 Lawrence Avenue East\, 4100 Lawrence Avenue East\, Scarborough\, Ontario\, M1E 2R9\, Canada
CATEGORIES:Food Bank and Meals
END:VEVENT
BEGIN:VEVENT
DTSTART;TZID=UTC:20260507T140000
DTEND;TZID=UTC:20260507T163000
DTSTAMP:20260421T081038
CREATED:20230418T194531Z
LAST-MODIFIED:20250523T182827Z
UID:10048573-1778162400-1778171400@schcontario.ca
SUMMARY:Food Bank
DESCRIPTION:Drop in program\, registration or appointment is not required. \n\n\n\nDescription:  \n\n\n\nIndividuals and families experiencing food insecurity can access food support from our food bank on a weekly basis. Individuals can expect to receive 1-2 days of food and can select items based on their preference.  \n\n\n\nPlease arrive no later than 4:15 pm.  \n\n\n\nEligibility: \n\n\n\nAll are welcome \n\n\n\nContact Info:  \n\n\n\nEmail Foodbank@schcontario.ca  or call (416) 847-4147 for further information
URL:https://schcontario.ca/event/food-bank-2/2026-05-07/
LOCATION:4100 Lawrence Avenue East\, 4100 Lawrence Avenue East\, Scarborough\, Ontario\, M1E 2R9\, Canada
CATEGORIES:Food Bank and Meals
END:VEVENT
BEGIN:VEVENT
DTSTART;TZID=UTC:20260507T140000
DTEND;TZID=UTC:20260507T163000
DTSTAMP:20260421T081038
CREATED:20230418T194531Z
LAST-MODIFIED:20250523T175901Z
UID:10032916-1778162400-1778171400@schcontario.ca
SUMMARY:Food Bank
DESCRIPTION:Drop in program\, registration or appointment is not required. \n\n\n\nDescription:  \n\n\n\nIndividuals and families experiencing food insecurity can access food support from our food bank on a weekly basis. Individuals can expect to receive 1-2 days of food and can select items based on their preference.  \n\n\n\nPlease arrive no later than 4:15 pm.  \n\n\n\nEligibility: \n\n\n\nAll are welcome \n\n\n\nContact Info:  \n\n\n\nEmail Foodbank@schcontario.ca  or call (416) 847-4147 for further information
URL:https://schcontario.ca/event/food-bank-2/2026-05-07/
LOCATION:4100 Lawrence Avenue East\, 4100 Lawrence Avenue East\, Scarborough\, Ontario\, M1E 2R9\, Canada
CATEGORIES:Food Bank and Meals
END:VEVENT
BEGIN:VEVENT
DTSTART;TZID=UTC:20260507T140000
DTEND;TZID=UTC:20260507T163000
DTSTAMP:20260421T081038
CREATED:20230418T194531Z
LAST-MODIFIED:20250523T175914Z
UID:10037154-1778162400-1778171400@schcontario.ca
SUMMARY:Food Bank
DESCRIPTION:Drop in program\, registration or appointment is not required. \n\n\n\nDescription:  \n\n\n\nIndividuals and families experiencing food insecurity can access food support from our food bank on a weekly basis. Individuals can expect to receive 1-2 days of food and can select items based on their preference.  \n\n\n\nPlease arrive no later than 4:15 pm.  \n\n\n\nEligibility: \n\n\n\nAll are welcome \n\n\n\nContact Info:  \n\n\n\nEmail Foodbank@schcontario.ca  or call (416) 847-4147 for further information
URL:https://schcontario.ca/event/food-bank-2/2026-05-07/
LOCATION:4100 Lawrence Avenue East\, 4100 Lawrence Avenue East\, Scarborough\, Ontario\, M1E 2R9\, Canada
CATEGORIES:Food Bank and Meals
END:VEVENT
BEGIN:VEVENT
DTSTART;TZID=UTC:20260507T140000
DTEND;TZID=UTC:20260507T163000
DTSTAMP:20260421T081038
CREATED:20230418T194531Z
LAST-MODIFIED:20250523T182817Z
UID:10046289-1778162400-1778171400@schcontario.ca
SUMMARY:Food Bank
DESCRIPTION:Drop in program\, registration or appointment is not required. \n\n\n\nDescription:  \n\n\n\nIndividuals and families experiencing food insecurity can access food support from our food bank on a weekly basis. Individuals can expect to receive 1-2 days of food and can select items based on their preference.  \n\n\n\nPlease arrive no later than 4:15 pm.  \n\n\n\nEligibility: \n\n\n\nAll are welcome \n\n\n\nContact Info:  \n\n\n\nEmail Foodbank@schcontario.ca  or call (416) 847-4147 for further information
URL:https://schcontario.ca/event/food-bank-2/2026-05-07/
LOCATION:4100 Lawrence Avenue East\, 4100 Lawrence Avenue East\, Scarborough\, Ontario\, M1E 2R9\, Canada
CATEGORIES:Food Bank and Meals
END:VEVENT
BEGIN:VEVENT
DTSTART;TZID=UTC:20260507T140000
DTEND;TZID=UTC:20260507T163000
DTSTAMP:20260421T081038
CREATED:20230418T194531Z
LAST-MODIFIED:20250523T172951Z
UID:10030224-1778162400-1778171400@schcontario.ca
SUMMARY:Food Bank
DESCRIPTION:Drop in program\, registration or appointment is not required. \n\n\n\nDescription:  \n\n\n\nIndividuals and families experiencing food insecurity can access food support from our food bank on a weekly basis. Individuals can expect to receive 1-2 days of food and can select items based on their preference.  \n\n\n\nPlease arrive no later than 4:15 pm.  \n\n\n\nEligibility: \n\n\n\nAll are welcome \n\n\n\nContact Info:  \n\n\n\nEmail Foodbank@schcontario.ca  or call (416) 847-4147 for further information
URL:https://schcontario.ca/event/food-bank-2/2026-05-07/
LOCATION:4100 Lawrence Avenue East\, 4100 Lawrence Avenue East\, Scarborough\, Ontario\, M1E 2R9\, Canada
CATEGORIES:Food Bank and Meals
END:VEVENT
BEGIN:VEVENT
DTSTART;TZID=UTC:20260507T140000
DTEND;TZID=UTC:20260507T163000
DTSTAMP:20260421T081038
CREATED:20230418T194531Z
LAST-MODIFIED:20250523T175904Z
UID:10034566-1778162400-1778171400@schcontario.ca
SUMMARY:Food Bank
DESCRIPTION:Drop in program\, registration or appointment is not required. \n\n\n\nDescription:  \n\n\n\nIndividuals and families experiencing food insecurity can access food support from our food bank on a weekly basis. Individuals can expect to receive 1-2 days of food and can select items based on their preference.  \n\n\n\nPlease arrive no later than 4:15 pm.  \n\n\n\nEligibility: \n\n\n\nAll are welcome \n\n\n\nContact Info:  \n\n\n\nEmail Foodbank@schcontario.ca  or call (416) 847-4147 for further information
URL:https://schcontario.ca/event/food-bank-2/2026-05-07/
LOCATION:4100 Lawrence Avenue East\, 4100 Lawrence Avenue East\, Scarborough\, Ontario\, M1E 2R9\, Canada
CATEGORIES:Food Bank and Meals
END:VEVENT
BEGIN:VEVENT
DTSTART;TZID=UTC:20260507T140000
DTEND;TZID=UTC:20260507T163000
DTSTAMP:20260421T081038
CREATED:20230418T194531Z
LAST-MODIFIED:20250523T172932Z
UID:10027468-1778162400-1778171400@schcontario.ca
SUMMARY:Food Bank
DESCRIPTION:Drop in program\, registration or appointment is not required. \n\n\n\nDescription:  \n\n\n\nIndividuals and families experiencing food insecurity can access food support from our food bank on a weekly basis. Individuals can expect to receive 1-2 days of food and can select items based on their preference.  \n\n\n\nPlease arrive no later than 4:15 pm.  \n\n\n\nEligibility: \n\n\n\nAll are welcome \n\n\n\nContact Info:  \n\n\n\nEmail Foodbank@schcontario.ca  or call (416) 847-4147 for further information
URL:https://schcontario.ca/event/food-bank-2/2026-05-07/
LOCATION:4100 Lawrence Avenue East\, 4100 Lawrence Avenue East\, Scarborough\, Ontario\, M1E 2R9\, Canada
CATEGORIES:Food Bank and Meals
END:VEVENT
BEGIN:VEVENT
DTSTART;TZID=UTC:20260507T140000
DTEND;TZID=UTC:20260507T163000
DTSTAMP:20260421T081038
CREATED:20230418T194531Z
LAST-MODIFIED:20250523T152952Z
UID:10024648-1778162400-1778171400@schcontario.ca
SUMMARY:Food Bank
DESCRIPTION:Drop in program\, registration or appointment is not required. \n\n\n\nDescription:  \n\n\n\nIndividuals and families experiencing food insecurity can access food support from our food bank on a weekly basis. Individuals can expect to receive 1-2 days of food and can select items based on their preference.  \n\n\n\nPlease arrive no later than 4:15 pm.  \n\n\n\nEligibility: \n\n\n\nAll are welcome \n\n\n\nContact Info:  \n\n\n\nEmail Foodbank@schcontario.ca  or call (416) 847-4147 for further information
URL:https://schcontario.ca/event/food-bank-2/2026-05-07/
LOCATION:4100 Lawrence Avenue East\, 4100 Lawrence Avenue East\, Scarborough\, Ontario\, M1E 2R9\, Canada
CATEGORIES:Food Bank and Meals
END:VEVENT
BEGIN:VEVENT
DTSTART;TZID=UTC:20260507T140000
DTEND;TZID=UTC:20260507T163000
DTSTAMP:20260421T081038
CREATED:20230418T194531Z
LAST-MODIFIED:20250523T152954Z
UID:10026066-1778162400-1778171400@schcontario.ca
SUMMARY:Food Bank
DESCRIPTION:Drop in program\, registration or appointment is not required. \n\n\n\nDescription:  \n\n\n\nIndividuals and families experiencing food insecurity can access food support from our food bank on a weekly basis. Individuals can expect to receive 1-2 days of food and can select items based on their preference.  \n\n\n\nPlease arrive no later than 4:15 pm.  \n\n\n\nEligibility: \n\n\n\nAll are welcome \n\n\n\nContact Info:  \n\n\n\nEmail Foodbank@schcontario.ca  or call (416) 847-4147 for further information
URL:https://schcontario.ca/event/food-bank-2/2026-05-07/
LOCATION:4100 Lawrence Avenue East\, 4100 Lawrence Avenue East\, Scarborough\, Ontario\, M1E 2R9\, Canada
CATEGORIES:Food Bank and Meals
END:VEVENT
BEGIN:VEVENT
DTSTART;TZID=UTC:20260507T140000
DTEND;TZID=UTC:20260507T163000
DTSTAMP:20260421T081038
CREATED:20230418T194531Z
LAST-MODIFIED:20250523T182813Z
UID:10044829-1778162400-1778171400@schcontario.ca
SUMMARY:Food Bank
DESCRIPTION:Drop in program\, registration or appointment is not required. \n\n\n\nDescription:  \n\n\n\nIndividuals and families experiencing food insecurity can access food support from our food bank on a weekly basis. Individuals can expect to receive 1-2 days of food and can select items based on their preference.  \n\n\n\nPlease arrive no later than 4:15 pm.  \n\n\n\nEligibility: \n\n\n\nAll are welcome \n\n\n\nContact Info:  \n\n\n\nEmail Foodbank@schcontario.ca  or call (416) 847-4147 for further information
URL:https://schcontario.ca/event/food-bank-2/2026-05-07/
LOCATION:4100 Lawrence Avenue East\, 4100 Lawrence Avenue East\, Scarborough\, Ontario\, M1E 2R9\, Canada
CATEGORIES:Food Bank and Meals
END:VEVENT
BEGIN:VEVENT
DTSTART;TZID=UTC:20260507T140000
DTEND;TZID=UTC:20260507T163000
DTSTAMP:20260421T081038
CREATED:20230418T194531Z
LAST-MODIFIED:20250623T202755Z
UID:10052949-1778162400-1778171400@schcontario.ca
SUMMARY:Food Bank
DESCRIPTION:Drop in program\, registration or appointment is not required. \n\n\n\nDescription:  \n\n\n\nIndividuals and families experiencing food insecurity can access food support from our food bank on a weekly basis. Individuals can expect to receive 1-2 days of food and can select items based on their preference.  \n\n\n\nPlease arrive no later than 4:15 pm.  \n\n\n\nEligibility: \n\n\n\nAll are welcome \n\n\n\nContact Info:  \n\n\n\nEmail Foodbank@schcontario.ca  or call (416) 847-4147 for further information
URL:https://schcontario.ca/event/food-bank-2/2026-05-07/
LOCATION:4100 Lawrence Avenue East\, 4100 Lawrence Avenue East\, Scarborough\, Ontario\, M1E 2R9\, Canada
CATEGORIES:Food Bank and Meals
END:VEVENT
BEGIN:VEVENT
DTSTART;TZID=UTC:20260507T140000
DTEND;TZID=UTC:20260507T163000
DTSTAMP:20260421T081038
CREATED:20230418T194531Z
LAST-MODIFIED:20250523T182806Z
UID:10042441-1778162400-1778171400@schcontario.ca
SUMMARY:Food Bank
DESCRIPTION:Drop in program\, registration or appointment is not required. \n\n\n\nDescription:  \n\n\n\nIndividuals and families experiencing food insecurity can access food support from our food bank on a weekly basis. Individuals can expect to receive 1-2 days of food and can select items based on their preference.  \n\n\n\nPlease arrive no later than 4:15 pm.  \n\n\n\nEligibility: \n\n\n\nAll are welcome \n\n\n\nContact Info:  \n\n\n\nEmail Foodbank@schcontario.ca  or call (416) 847-4147 for further information
URL:https://schcontario.ca/event/food-bank-2/2026-05-07/
LOCATION:4100 Lawrence Avenue East\, 4100 Lawrence Avenue East\, Scarborough\, Ontario\, M1E 2R9\, Canada
CATEGORIES:Food Bank and Meals
END:VEVENT
BEGIN:VEVENT
DTSTART;TZID=UTC:20260507T140000
DTEND;TZID=UTC:20260507T163000
DTSTAMP:20260421T081038
CREATED:20230418T194531Z
LAST-MODIFIED:20250523T182849Z
UID:10050793-1778162400-1778171400@schcontario.ca
SUMMARY:Food Bank
DESCRIPTION:Drop in program\, registration or appointment is not required. \n\n\n\nDescription:  \n\n\n\nIndividuals and families experiencing food insecurity can access food support from our food bank on a weekly basis. Individuals can expect to receive 1-2 days of food and can select items based on their preference.  \n\n\n\nPlease arrive no later than 4:15 pm.  \n\n\n\nEligibility: \n\n\n\nAll are welcome \n\n\n\nContact Info:  \n\n\n\nEmail Foodbank@schcontario.ca  or call (416) 847-4147 for further information
URL:https://schcontario.ca/event/food-bank-2/2026-05-07/
LOCATION:4100 Lawrence Avenue East\, 4100 Lawrence Avenue East\, Scarborough\, Ontario\, M1E 2R9\, Canada
CATEGORIES:Food Bank and Meals
END:VEVENT
BEGIN:VEVENT
DTSTART;TZID=UTC:20260507T140000
DTEND;TZID=UTC:20260507T163000
DTSTAMP:20260421T081038
CREATED:20230418T194531Z
LAST-MODIFIED:20250523T182754Z
UID:10039678-1778162400-1778171400@schcontario.ca
SUMMARY:Food Bank
DESCRIPTION:Drop in program\, registration or appointment is not required. \n\n\n\nDescription:  \n\n\n\nIndividuals and families experiencing food insecurity can access food support from our food bank on a weekly basis. Individuals can expect to receive 1-2 days of food and can select items based on their preference.  \n\n\n\nPlease arrive no later than 4:15 pm.  \n\n\n\nEligibility: \n\n\n\nAll are welcome \n\n\n\nContact Info:  \n\n\n\nEmail Foodbank@schcontario.ca  or call (416) 847-4147 for further information
URL:https://schcontario.ca/event/food-bank-2/2026-05-07/
LOCATION:4100 Lawrence Avenue East\, 4100 Lawrence Avenue East\, Scarborough\, Ontario\, M1E 2R9\, Canada
CATEGORIES:Food Bank and Meals
END:VEVENT
BEGIN:VEVENT
DTSTART;TZID=UTC:20260507T140000
DTEND;TZID=UTC:20260507T163000
DTSTAMP:20260421T081038
CREATED:20230418T194531Z
LAST-MODIFIED:20250523T182808Z
UID:10043643-1778162400-1778171400@schcontario.ca
SUMMARY:Food Bank
DESCRIPTION:Drop in program\, registration or appointment is not required. \n\n\n\nDescription:  \n\n\n\nIndividuals and families experiencing food insecurity can access food support from our food bank on a weekly basis. Individuals can expect to receive 1-2 days of food and can select items based on their preference.  \n\n\n\nPlease arrive no later than 4:15 pm.  \n\n\n\nEligibility: \n\n\n\nAll are welcome \n\n\n\nContact Info:  \n\n\n\nEmail Foodbank@schcontario.ca  or call (416) 847-4147 for further information
URL:https://schcontario.ca/event/food-bank-2/2026-05-07/
LOCATION:4100 Lawrence Avenue East\, 4100 Lawrence Avenue East\, Scarborough\, Ontario\, M1E 2R9\, Canada
CATEGORIES:Food Bank and Meals
END:VEVENT
BEGIN:VEVENT
DTSTART;TZID=UTC:20260507T140000
DTEND;TZID=UTC:20260507T163000
DTSTAMP:20260421T081038
CREATED:20230418T194531Z
LAST-MODIFIED:20250523T182858Z
UID:10051879-1778162400-1778171400@schcontario.ca
SUMMARY:Food Bank
DESCRIPTION:Drop in program\, registration or appointment is not required. \n\n\n\nDescription:  \n\n\n\nIndividuals and families experiencing food insecurity can access food support from our food bank on a weekly basis. Individuals can expect to receive 1-2 days of food and can select items based on their preference.  \n\n\n\nPlease arrive no later than 4:15 pm.  \n\n\n\nEligibility: \n\n\n\nAll are welcome \n\n\n\nContact Info:  \n\n\n\nEmail Foodbank@schcontario.ca  or call (416) 847-4147 for further information
URL:https://schcontario.ca/event/food-bank-2/2026-05-07/
LOCATION:4100 Lawrence Avenue East\, 4100 Lawrence Avenue East\, Scarborough\, Ontario\, M1E 2R9\, Canada
CATEGORIES:Food Bank and Meals
END:VEVENT
BEGIN:VEVENT
DTSTART;TZID=UTC:20260507T140000
DTEND;TZID=UTC:20260507T163000
DTSTAMP:20260421T081038
CREATED:20230418T194531Z
LAST-MODIFIED:20250523T182759Z
UID:10040916-1778162400-1778171400@schcontario.ca
SUMMARY:Food Bank
DESCRIPTION:Drop in program\, registration or appointment is not required. \n\n\n\nDescription:  \n\n\n\nIndividuals and families experiencing food insecurity can access food support from our food bank on a weekly basis. Individuals can expect to receive 1-2 days of food and can select items based on their preference.  \n\n\n\nPlease arrive no later than 4:15 pm.  \n\n\n\nEligibility: \n\n\n\nAll are welcome \n\n\n\nContact Info:  \n\n\n\nEmail Foodbank@schcontario.ca  or call (416) 847-4147 for further information
URL:https://schcontario.ca/event/food-bank-2/2026-05-07/
LOCATION:4100 Lawrence Avenue East\, 4100 Lawrence Avenue East\, Scarborough\, Ontario\, M1E 2R9\, Canada
CATEGORIES:Food Bank and Meals
END:VEVENT
BEGIN:VEVENT
DTSTART;TZID=UTC:20260507T140000
DTEND;TZID=UTC:20260507T163000
DTSTAMP:20260421T081038
CREATED:20230418T194531Z
LAST-MODIFIED:20250523T175917Z
UID:10038108-1778162400-1778171400@schcontario.ca
SUMMARY:Food Bank
DESCRIPTION:Drop in program\, registration or appointment is not required. \n\n\n\nDescription:  \n\n\n\nIndividuals and families experiencing food insecurity can access food support from our food bank on a weekly basis. Individuals can expect to receive 1-2 days of food and can select items based on their preference.  \n\n\n\nPlease arrive no later than 4:15 pm.  \n\n\n\nEligibility: \n\n\n\nAll are welcome \n\n\n\nContact Info:  \n\n\n\nEmail Foodbank@schcontario.ca  or call (416) 847-4147 for further information
URL:https://schcontario.ca/event/food-bank-2/2026-05-07/
LOCATION:4100 Lawrence Avenue East\, 4100 Lawrence Avenue East\, Scarborough\, Ontario\, M1E 2R9\, Canada
CATEGORIES:Food Bank and Meals
END:VEVENT
BEGIN:VEVENT
DTSTART;TZID=UTC:20260507T140000
DTEND;TZID=UTC:20260507T163000
DTSTAMP:20260421T081038
CREATED:20230418T194531Z
LAST-MODIFIED:20250523T182819Z
UID:10047153-1778162400-1778171400@schcontario.ca
SUMMARY:Food Bank
DESCRIPTION:Drop in program\, registration or appointment is not required. \n\n\n\nDescription:  \n\n\n\nIndividuals and families experiencing food insecurity can access food support from our food bank on a weekly basis. Individuals can expect to receive 1-2 days of food and can select items based on their preference.  \n\n\n\nPlease arrive no later than 4:15 pm.  \n\n\n\nEligibility: \n\n\n\nAll are welcome \n\n\n\nContact Info:  \n\n\n\nEmail Foodbank@schcontario.ca  or call (416) 847-4147 for further information
URL:https://schcontario.ca/event/food-bank-2/2026-05-07/
LOCATION:4100 Lawrence Avenue East\, 4100 Lawrence Avenue East\, Scarborough\, Ontario\, M1E 2R9\, Canada
CATEGORIES:Food Bank and Meals
END:VEVENT
BEGIN:VEVENT
DTSTART;TZID=UTC:20260507T140000
DTEND;TZID=UTC:20260507T163000
DTSTAMP:20260421T081038
CREATED:20230418T194531Z
LAST-MODIFIED:20250523T175854Z
UID:10031241-1778162400-1778171400@schcontario.ca
SUMMARY:Food Bank
DESCRIPTION:Drop in program\, registration or appointment is not required. \n\n\n\nDescription:  \n\n\n\nIndividuals and families experiencing food insecurity can access food support from our food bank on a weekly basis. Individuals can expect to receive 1-2 days of food and can select items based on their preference.  \n\n\n\nPlease arrive no later than 4:15 pm.  \n\n\n\nEligibility: \n\n\n\nAll are welcome \n\n\n\nContact Info:  \n\n\n\nEmail Foodbank@schcontario.ca  or call (416) 847-4147 for further information
URL:https://schcontario.ca/event/food-bank-2/2026-05-07/
LOCATION:4100 Lawrence Avenue East\, 4100 Lawrence Avenue East\, Scarborough\, Ontario\, M1E 2R9\, Canada
CATEGORIES:Food Bank and Meals
END:VEVENT
BEGIN:VEVENT
DTSTART;TZID=UTC:20260507T140000
DTEND;TZID=UTC:20260507T163000
DTSTAMP:20260421T081038
CREATED:20230418T194531Z
LAST-MODIFIED:20250523T175906Z
UID:10035544-1778162400-1778171400@schcontario.ca
SUMMARY:Food Bank
DESCRIPTION:Drop in program\, registration or appointment is not required. \n\n\n\nDescription:  \n\n\n\nIndividuals and families experiencing food insecurity can access food support from our food bank on a weekly basis. Individuals can expect to receive 1-2 days of food and can select items based on their preference.  \n\n\n\nPlease arrive no later than 4:15 pm.  \n\n\n\nEligibility: \n\n\n\nAll are welcome \n\n\n\nContact Info:  \n\n\n\nEmail Foodbank@schcontario.ca  or call (416) 847-4147 for further information
URL:https://schcontario.ca/event/food-bank-2/2026-05-07/
LOCATION:4100 Lawrence Avenue East\, 4100 Lawrence Avenue East\, Scarborough\, Ontario\, M1E 2R9\, Canada
CATEGORIES:Food Bank and Meals
END:VEVENT
BEGIN:VEVENT
DTSTART;TZID=UTC:20260507T140000
DTEND;TZID=UTC:20260507T163000
DTSTAMP:20260421T081038
CREATED:20230418T194531Z
LAST-MODIFIED:20250523T172938Z
UID:10028509-1778162400-1778171400@schcontario.ca
SUMMARY:Food Bank
DESCRIPTION:Drop in program\, registration or appointment is not required. \n\n\n\nDescription:  \n\n\n\nIndividuals and families experiencing food insecurity can access food support from our food bank on a weekly basis. Individuals can expect to receive 1-2 days of food and can select items based on their preference.  \n\n\n\nPlease arrive no later than 4:15 pm.  \n\n\n\nEligibility: \n\n\n\nAll are welcome \n\n\n\nContact Info:  \n\n\n\nEmail Foodbank@schcontario.ca  or call (416) 847-4147 for further information
URL:https://schcontario.ca/event/food-bank-2/2026-05-07/
LOCATION:4100 Lawrence Avenue East\, 4100 Lawrence Avenue East\, Scarborough\, Ontario\, M1E 2R9\, Canada
CATEGORIES:Food Bank and Meals
END:VEVENT
BEGIN:VEVENT
DTSTART;TZID=UTC:20260507T140000
DTEND;TZID=UTC:20260507T163000
DTSTAMP:20260421T081038
CREATED:20230418T194531Z
LAST-MODIFIED:20250523T182847Z
UID:10050519-1778162400-1778171400@schcontario.ca
SUMMARY:Food Bank
DESCRIPTION:Drop in program\, registration or appointment is not required. \n\n\n\nDescription:  \n\n\n\nIndividuals and families experiencing food insecurity can access food support from our food bank on a weekly basis. Individuals can expect to receive 1-2 days of food and can select items based on their preference.  \n\n\n\nPlease arrive no later than 4:15 pm.  \n\n\n\nEligibility: \n\n\n\nAll are welcome \n\n\n\nContact Info:  \n\n\n\nEmail Foodbank@schcontario.ca  or call (416) 847-4147 for further information
URL:https://schcontario.ca/event/food-bank-2/2026-05-07/
LOCATION:4100 Lawrence Avenue East\, 4100 Lawrence Avenue East\, Scarborough\, Ontario\, M1E 2R9\, Canada
CATEGORIES:Food Bank and Meals
END:VEVENT
BEGIN:VEVENT
DTSTART;TZID=UTC:20260507T140000
DTEND;TZID=UTC:20260507T163000
DTSTAMP:20260421T081038
CREATED:20230418T194531Z
LAST-MODIFIED:20250523T182753Z
UID:10039366-1778162400-1778171400@schcontario.ca
SUMMARY:Food Bank
DESCRIPTION:Drop in program\, registration or appointment is not required. \n\n\n\nDescription:  \n\n\n\nIndividuals and families experiencing food insecurity can access food support from our food bank on a weekly basis. Individuals can expect to receive 1-2 days of food and can select items based on their preference.  \n\n\n\nPlease arrive no later than 4:15 pm.  \n\n\n\nEligibility: \n\n\n\nAll are welcome \n\n\n\nContact Info:  \n\n\n\nEmail Foodbank@schcontario.ca  or call (416) 847-4147 for further information
URL:https://schcontario.ca/event/food-bank-2/2026-05-07/
LOCATION:4100 Lawrence Avenue East\, 4100 Lawrence Avenue East\, Scarborough\, Ontario\, M1E 2R9\, Canada
CATEGORIES:Food Bank and Meals
END:VEVENT
BEGIN:VEVENT
DTSTART;TZID=UTC:20260507T140000
DTEND;TZID=UTC:20260507T163000
DTSTAMP:20260421T081038
CREATED:20230418T194531Z
LAST-MODIFIED:20250523T182826Z
UID:10048291-1778162400-1778171400@schcontario.ca
SUMMARY:Food Bank
DESCRIPTION:Drop in program\, registration or appointment is not required. \n\n\n\nDescription:  \n\n\n\nIndividuals and families experiencing food insecurity can access food support from our food bank on a weekly basis. Individuals can expect to receive 1-2 days of food and can select items based on their preference.  \n\n\n\nPlease arrive no later than 4:15 pm.  \n\n\n\nEligibility: \n\n\n\nAll are welcome \n\n\n\nContact Info:  \n\n\n\nEmail Foodbank@schcontario.ca  or call (416) 847-4147 for further information
URL:https://schcontario.ca/event/food-bank-2/2026-05-07/
LOCATION:4100 Lawrence Avenue East\, 4100 Lawrence Avenue East\, Scarborough\, Ontario\, M1E 2R9\, Canada
CATEGORIES:Food Bank and Meals
END:VEVENT
BEGIN:VEVENT
DTSTART;TZID=UTC:20260507T140000
DTEND;TZID=UTC:20260507T163000
DTSTAMP:20260421T081038
CREATED:20230418T194531Z
LAST-MODIFIED:20250523T175900Z
UID:10032583-1778162400-1778171400@schcontario.ca
SUMMARY:Food Bank
DESCRIPTION:Drop in program\, registration or appointment is not required. \n\n\n\nDescription:  \n\n\n\nIndividuals and families experiencing food insecurity can access food support from our food bank on a weekly basis. Individuals can expect to receive 1-2 days of food and can select items based on their preference.  \n\n\n\nPlease arrive no later than 4:15 pm.  \n\n\n\nEligibility: \n\n\n\nAll are welcome \n\n\n\nContact Info:  \n\n\n\nEmail Foodbank@schcontario.ca  or call (416) 847-4147 for further information
URL:https://schcontario.ca/event/food-bank-2/2026-05-07/
LOCATION:4100 Lawrence Avenue East\, 4100 Lawrence Avenue East\, Scarborough\, Ontario\, M1E 2R9\, Canada
CATEGORIES:Food Bank and Meals
END:VEVENT
BEGIN:VEVENT
DTSTART;TZID=UTC:20260507T140000
DTEND;TZID=UTC:20260507T163000
DTSTAMP:20260421T081038
CREATED:20230418T194531Z
LAST-MODIFIED:20250523T175912Z
UID:10036834-1778162400-1778171400@schcontario.ca
SUMMARY:Food Bank
DESCRIPTION:Drop in program\, registration or appointment is not required. \n\n\n\nDescription:  \n\n\n\nIndividuals and families experiencing food insecurity can access food support from our food bank on a weekly basis. Individuals can expect to receive 1-2 days of food and can select items based on their preference.  \n\n\n\nPlease arrive no later than 4:15 pm.  \n\n\n\nEligibility: \n\n\n\nAll are welcome \n\n\n\nContact Info:  \n\n\n\nEmail Foodbank@schcontario.ca  or call (416) 847-4147 for further information
URL:https://schcontario.ca/event/food-bank-2/2026-05-07/
LOCATION:4100 Lawrence Avenue East\, 4100 Lawrence Avenue East\, Scarborough\, Ontario\, M1E 2R9\, Canada
CATEGORIES:Food Bank and Meals
END:VEVENT
BEGIN:VEVENT
DTSTART;TZID=UTC:20260507T140000
DTEND;TZID=UTC:20260507T163000
DTSTAMP:20260421T081038
CREATED:20230418T194531Z
LAST-MODIFIED:20250523T182816Z
UID:10045999-1778162400-1778171400@schcontario.ca
SUMMARY:Food Bank
DESCRIPTION:Drop in program\, registration or appointment is not required. \n\n\n\nDescription:  \n\n\n\nIndividuals and families experiencing food insecurity can access food support from our food bank on a weekly basis. Individuals can expect to receive 1-2 days of food and can select items based on their preference.  \n\n\n\nPlease arrive no later than 4:15 pm.  \n\n\n\nEligibility: \n\n\n\nAll are welcome \n\n\n\nContact Info:  \n\n\n\nEmail Foodbank@schcontario.ca  or call (416) 847-4147 for further information
URL:https://schcontario.ca/event/food-bank-2/2026-05-07/
LOCATION:4100 Lawrence Avenue East\, 4100 Lawrence Avenue East\, Scarborough\, Ontario\, M1E 2R9\, Canada
CATEGORIES:Food Bank and Meals
END:VEVENT
BEGIN:VEVENT
DTSTART;TZID=UTC:20260507T140000
DTEND;TZID=UTC:20260507T163000
DTSTAMP:20260421T081038
CREATED:20230418T194531Z
LAST-MODIFIED:20250523T172949Z
UID:10029883-1778162400-1778171400@schcontario.ca
SUMMARY:Food Bank
DESCRIPTION:Drop in program\, registration or appointment is not required. \n\n\n\nDescription:  \n\n\n\nIndividuals and families experiencing food insecurity can access food support from our food bank on a weekly basis. Individuals can expect to receive 1-2 days of food and can select items based on their preference.  \n\n\n\nPlease arrive no later than 4:15 pm.  \n\n\n\nEligibility: \n\n\n\nAll are welcome \n\n\n\nContact Info:  \n\n\n\nEmail Foodbank@schcontario.ca  or call (416) 847-4147 for further information
URL:https://schcontario.ca/event/food-bank-2/2026-05-07/
LOCATION:4100 Lawrence Avenue East\, 4100 Lawrence Avenue East\, Scarborough\, Ontario\, M1E 2R9\, Canada
CATEGORIES:Food Bank and Meals
END:VEVENT
END:VCALENDAR