BEGIN:VCALENDAR
VERSION:2.0
PRODID:-//Scarborough Centre for Healthy Communities - ECPv6.15.20//NONSGML v1.0//EN
CALSCALE:GREGORIAN
METHOD:PUBLISH
X-ORIGINAL-URL:https://schcontario.ca
X-WR-CALDESC:Events for Scarborough Centre for Healthy Communities
REFRESH-INTERVAL;VALUE=DURATION:PT1H
X-Robots-Tag:noindex
X-PUBLISHED-TTL:PT1H
BEGIN:VTIMEZONE
TZID:UTC
BEGIN:STANDARD
TZOFFSETFROM:+0000
TZOFFSETTO:+0000
TZNAME:UTC
DTSTART:20250101T000000
END:STANDARD
END:VTIMEZONE
BEGIN:VTIMEZONE
TZID:America/Toronto
BEGIN:DAYLIGHT
TZOFFSETFROM:-0500
TZOFFSETTO:-0400
TZNAME:EDT
DTSTART:20250309T070000
END:DAYLIGHT
BEGIN:STANDARD
TZOFFSETFROM:-0400
TZOFFSETTO:-0500
TZNAME:EST
DTSTART:20251102T060000
END:STANDARD
BEGIN:DAYLIGHT
TZOFFSETFROM:-0500
TZOFFSETTO:-0400
TZNAME:EDT
DTSTART:20260308T070000
END:DAYLIGHT
BEGIN:STANDARD
TZOFFSETFROM:-0400
TZOFFSETTO:-0500
TZNAME:EST
DTSTART:20261101T060000
END:STANDARD
BEGIN:DAYLIGHT
TZOFFSETFROM:-0500
TZOFFSETTO:-0400
TZNAME:EDT
DTSTART:20270314T070000
END:DAYLIGHT
BEGIN:STANDARD
TZOFFSETFROM:-0400
TZOFFSETTO:-0500
TZNAME:EST
DTSTART:20271107T060000
END:STANDARD
END:VTIMEZONE
BEGIN:VEVENT
DTSTART;TZID=UTC:20260430T140000
DTEND;TZID=UTC:20260430T163000
DTSTAMP:20260421T154835
CREATED:20230418T194531Z
LAST-MODIFIED:20250523T175859Z
UID:10032248-1777557600-1777566600@schcontario.ca
SUMMARY:Food Bank
DESCRIPTION:Drop in program\, registration or appointment is not required. \n\n\n\nDescription:  \n\n\n\nIndividuals and families experiencing food insecurity can access food support from our food bank on a weekly basis. Individuals can expect to receive 1-2 days of food and can select items based on their preference.  \n\n\n\nPlease arrive no later than 4:15 pm.  \n\n\n\nEligibility: \n\n\n\nAll are welcome \n\n\n\nContact Info:  \n\n\n\nEmail Foodbank@schcontario.ca  or call (416) 847-4147 for further information
URL:https://schcontario.ca/event/food-bank-2/2026-04-30/
LOCATION:4100 Lawrence Avenue East\, 4100 Lawrence Avenue East\, Scarborough\, Ontario\, M1E 2R9\, Canada
CATEGORIES:Food Bank and Meals
END:VEVENT
BEGIN:VEVENT
DTSTART;TZID=UTC:20260430T140000
DTEND;TZID=UTC:20260430T163000
DTSTAMP:20260421T154835
CREATED:20230418T194531Z
LAST-MODIFIED:20250523T182804Z
UID:10041528-1777557600-1777566600@schcontario.ca
SUMMARY:Food Bank
DESCRIPTION:Drop in program\, registration or appointment is not required. \n\n\n\nDescription:  \n\n\n\nIndividuals and families experiencing food insecurity can access food support from our food bank on a weekly basis. Individuals can expect to receive 1-2 days of food and can select items based on their preference.  \n\n\n\nPlease arrive no later than 4:15 pm.  \n\n\n\nEligibility: \n\n\n\nAll are welcome \n\n\n\nContact Info:  \n\n\n\nEmail Foodbank@schcontario.ca  or call (416) 847-4147 for further information
URL:https://schcontario.ca/event/food-bank-2/2026-04-30/
LOCATION:4100 Lawrence Avenue East\, 4100 Lawrence Avenue East\, Scarborough\, Ontario\, M1E 2R9\, Canada
CATEGORIES:Food Bank and Meals
END:VEVENT
BEGIN:VEVENT
DTSTART;TZID=UTC:20260430T140000
DTEND;TZID=UTC:20260430T163000
DTSTAMP:20260421T154835
CREATED:20230418T194531Z
LAST-MODIFIED:20250523T172945Z
UID:10029540-1777557600-1777566600@schcontario.ca
SUMMARY:Food Bank
DESCRIPTION:Drop in program\, registration or appointment is not required. \n\n\n\nDescription:  \n\n\n\nIndividuals and families experiencing food insecurity can access food support from our food bank on a weekly basis. Individuals can expect to receive 1-2 days of food and can select items based on their preference.  \n\n\n\nPlease arrive no later than 4:15 pm.  \n\n\n\nEligibility: \n\n\n\nAll are welcome \n\n\n\nContact Info:  \n\n\n\nEmail Foodbank@schcontario.ca  or call (416) 847-4147 for further information
URL:https://schcontario.ca/event/food-bank-2/2026-04-30/
LOCATION:4100 Lawrence Avenue East\, 4100 Lawrence Avenue East\, Scarborough\, Ontario\, M1E 2R9\, Canada
CATEGORIES:Food Bank and Meals
END:VEVENT
BEGIN:VEVENT
DTSTART;TZID=UTC:20260430T140000
DTEND;TZID=UTC:20260430T163000
DTSTAMP:20260421T154835
CREATED:20230418T194531Z
LAST-MODIFIED:20250523T182814Z
UID:10045415-1777557600-1777566600@schcontario.ca
SUMMARY:Food Bank
DESCRIPTION:Drop in program\, registration or appointment is not required. \n\n\n\nDescription:  \n\n\n\nIndividuals and families experiencing food insecurity can access food support from our food bank on a weekly basis. Individuals can expect to receive 1-2 days of food and can select items based on their preference.  \n\n\n\nPlease arrive no later than 4:15 pm.  \n\n\n\nEligibility: \n\n\n\nAll are welcome \n\n\n\nContact Info:  \n\n\n\nEmail Foodbank@schcontario.ca  or call (416) 847-4147 for further information
URL:https://schcontario.ca/event/food-bank-2/2026-04-30/
LOCATION:4100 Lawrence Avenue East\, 4100 Lawrence Avenue East\, Scarborough\, Ontario\, M1E 2R9\, Canada
CATEGORIES:Food Bank and Meals
END:VEVENT
BEGIN:VEVENT
DTSTART;TZID=UTC:20260430T140000
DTEND;TZID=UTC:20260430T163000
DTSTAMP:20260421T154835
CREATED:20230418T194531Z
LAST-MODIFIED:20250623T202755Z
UID:10053477-1777557600-1777566600@schcontario.ca
SUMMARY:Food Bank
DESCRIPTION:Drop in program\, registration or appointment is not required. \n\n\n\nDescription:  \n\n\n\nIndividuals and families experiencing food insecurity can access food support from our food bank on a weekly basis. Individuals can expect to receive 1-2 days of food and can select items based on their preference.  \n\n\n\nPlease arrive no later than 4:15 pm.  \n\n\n\nEligibility: \n\n\n\nAll are welcome \n\n\n\nContact Info:  \n\n\n\nEmail Foodbank@schcontario.ca  or call (416) 847-4147 for further information
URL:https://schcontario.ca/event/food-bank-2/2026-04-30/
LOCATION:4100 Lawrence Avenue East\, 4100 Lawrence Avenue East\, Scarborough\, Ontario\, M1E 2R9\, Canada
CATEGORIES:Food Bank and Meals
END:VEVENT
BEGIN:VEVENT
DTSTART;TZID=UTC:20260430T140000
DTEND;TZID=UTC:20260430T163000
DTSTAMP:20260421T154835
CREATED:20230418T194531Z
LAST-MODIFIED:20250523T175902Z
UID:10033578-1777557600-1777566600@schcontario.ca
SUMMARY:Food Bank
DESCRIPTION:Drop in program\, registration or appointment is not required. \n\n\n\nDescription:  \n\n\n\nIndividuals and families experiencing food insecurity can access food support from our food bank on a weekly basis. Individuals can expect to receive 1-2 days of food and can select items based on their preference.  \n\n\n\nPlease arrive no later than 4:15 pm.  \n\n\n\nEligibility: \n\n\n\nAll are welcome \n\n\n\nContact Info:  \n\n\n\nEmail Foodbank@schcontario.ca  or call (416) 847-4147 for further information
URL:https://schcontario.ca/event/food-bank-2/2026-04-30/
LOCATION:4100 Lawrence Avenue East\, 4100 Lawrence Avenue East\, Scarborough\, Ontario\, M1E 2R9\, Canada
CATEGORIES:Food Bank and Meals
END:VEVENT
BEGIN:VEVENT
DTSTART;TZID=UTC:20260430T140000
DTEND;TZID=UTC:20260430T163000
DTSTAMP:20260421T154835
CREATED:20230418T194531Z
LAST-MODIFIED:20250523T182807Z
UID:10043043-1777557600-1777566600@schcontario.ca
SUMMARY:Food Bank
DESCRIPTION:Drop in program\, registration or appointment is not required. \n\n\n\nDescription:  \n\n\n\nIndividuals and families experiencing food insecurity can access food support from our food bank on a weekly basis. Individuals can expect to receive 1-2 days of food and can select items based on their preference.  \n\n\n\nPlease arrive no later than 4:15 pm.  \n\n\n\nEligibility: \n\n\n\nAll are welcome \n\n\n\nContact Info:  \n\n\n\nEmail Foodbank@schcontario.ca  or call (416) 847-4147 for further information
URL:https://schcontario.ca/event/food-bank-2/2026-04-30/
LOCATION:4100 Lawrence Avenue East\, 4100 Lawrence Avenue East\, Scarborough\, Ontario\, M1E 2R9\, Canada
CATEGORIES:Food Bank and Meals
END:VEVENT
BEGIN:VEVENT
DTSTART;TZID=UTC:20260430T140000
DTEND;TZID=UTC:20260430T163000
DTSTAMP:20260421T154835
CREATED:20230418T194531Z
LAST-MODIFIED:20250523T182853Z
UID:10051337-1777557600-1777566600@schcontario.ca
SUMMARY:Food Bank
DESCRIPTION:Drop in program\, registration or appointment is not required. \n\n\n\nDescription:  \n\n\n\nIndividuals and families experiencing food insecurity can access food support from our food bank on a weekly basis. Individuals can expect to receive 1-2 days of food and can select items based on their preference.  \n\n\n\nPlease arrive no later than 4:15 pm.  \n\n\n\nEligibility: \n\n\n\nAll are welcome \n\n\n\nContact Info:  \n\n\n\nEmail Foodbank@schcontario.ca  or call (416) 847-4147 for further information
URL:https://schcontario.ca/event/food-bank-2/2026-04-30/
LOCATION:4100 Lawrence Avenue East\, 4100 Lawrence Avenue East\, Scarborough\, Ontario\, M1E 2R9\, Canada
CATEGORIES:Food Bank and Meals
END:VEVENT
BEGIN:VEVENT
DTSTART;TZID=UTC:20260430T140000
DTEND;TZID=UTC:20260430T163000
DTSTAMP:20260421T154835
CREATED:20230418T194531Z
LAST-MODIFIED:20250523T175853Z
UID:10030902-1777557600-1777566600@schcontario.ca
SUMMARY:Food Bank
DESCRIPTION:Drop in program\, registration or appointment is not required. \n\n\n\nDescription:  \n\n\n\nIndividuals and families experiencing food insecurity can access food support from our food bank on a weekly basis. Individuals can expect to receive 1-2 days of food and can select items based on their preference.  \n\n\n\nPlease arrive no later than 4:15 pm.  \n\n\n\nEligibility: \n\n\n\nAll are welcome \n\n\n\nContact Info:  \n\n\n\nEmail Foodbank@schcontario.ca  or call (416) 847-4147 for further information
URL:https://schcontario.ca/event/food-bank-2/2026-04-30/
LOCATION:4100 Lawrence Avenue East\, 4100 Lawrence Avenue East\, Scarborough\, Ontario\, M1E 2R9\, Canada
CATEGORIES:Food Bank and Meals
END:VEVENT
BEGIN:VEVENT
DTSTART;TZID=UTC:20260430T140000
DTEND;TZID=UTC:20260430T163000
DTSTAMP:20260421T154835
CREATED:20230418T194531Z
LAST-MODIFIED:20250523T182756Z
UID:10040298-1777557600-1777566600@schcontario.ca
SUMMARY:Food Bank
DESCRIPTION:Drop in program\, registration or appointment is not required. \n\n\n\nDescription:  \n\n\n\nIndividuals and families experiencing food insecurity can access food support from our food bank on a weekly basis. Individuals can expect to receive 1-2 days of food and can select items based on their preference.  \n\n\n\nPlease arrive no later than 4:15 pm.  \n\n\n\nEligibility: \n\n\n\nAll are welcome \n\n\n\nContact Info:  \n\n\n\nEmail Foodbank@schcontario.ca  or call (416) 847-4147 for further information
URL:https://schcontario.ca/event/food-bank-2/2026-04-30/
LOCATION:4100 Lawrence Avenue East\, 4100 Lawrence Avenue East\, Scarborough\, Ontario\, M1E 2R9\, Canada
CATEGORIES:Food Bank and Meals
END:VEVENT
BEGIN:VEVENT
DTSTART;TZID=UTC:20260430T140000
DTEND;TZID=UTC:20260430T163000
DTSTAMP:20260421T154835
CREATED:20230418T194531Z
LAST-MODIFIED:20250523T152954Z
UID:10026065-1777557600-1777566600@schcontario.ca
SUMMARY:Food Bank
DESCRIPTION:Drop in program\, registration or appointment is not required. \n\n\n\nDescription:  \n\n\n\nIndividuals and families experiencing food insecurity can access food support from our food bank on a weekly basis. Individuals can expect to receive 1-2 days of food and can select items based on their preference.  \n\n\n\nPlease arrive no later than 4:15 pm.  \n\n\n\nEligibility: \n\n\n\nAll are welcome \n\n\n\nContact Info:  \n\n\n\nEmail Foodbank@schcontario.ca  or call (416) 847-4147 for further information
URL:https://schcontario.ca/event/food-bank-2/2026-04-30/
LOCATION:4100 Lawrence Avenue East\, 4100 Lawrence Avenue East\, Scarborough\, Ontario\, M1E 2R9\, Canada
CATEGORIES:Food Bank and Meals
END:VEVENT
BEGIN:VEVENT
DTSTART;TZID=UTC:20260430T140000
DTEND;TZID=UTC:20260430T163000
DTSTAMP:20260421T154835
CREATED:20230418T194531Z
LAST-MODIFIED:20250523T152952Z
UID:10024647-1777557600-1777566600@schcontario.ca
SUMMARY:Food Bank
DESCRIPTION:Drop in program\, registration or appointment is not required. \n\n\n\nDescription:  \n\n\n\nIndividuals and families experiencing food insecurity can access food support from our food bank on a weekly basis. Individuals can expect to receive 1-2 days of food and can select items based on their preference.  \n\n\n\nPlease arrive no later than 4:15 pm.  \n\n\n\nEligibility: \n\n\n\nAll are welcome \n\n\n\nContact Info:  \n\n\n\nEmail Foodbank@schcontario.ca  or call (416) 847-4147 for further information
URL:https://schcontario.ca/event/food-bank-2/2026-04-30/
LOCATION:4100 Lawrence Avenue East\, 4100 Lawrence Avenue East\, Scarborough\, Ontario\, M1E 2R9\, Canada
CATEGORIES:Food Bank and Meals
END:VEVENT
BEGIN:VEVENT
DTSTART;TZID=UTC:20260430T140000
DTEND;TZID=UTC:20260430T163000
DTSTAMP:20260421T154835
CREATED:20230418T194531Z
LAST-MODIFIED:20250523T175915Z
UID:10037472-1777557600-1777566600@schcontario.ca
SUMMARY:Food Bank
DESCRIPTION:Drop in program\, registration or appointment is not required. \n\n\n\nDescription:  \n\n\n\nIndividuals and families experiencing food insecurity can access food support from our food bank on a weekly basis. Individuals can expect to receive 1-2 days of food and can select items based on their preference.  \n\n\n\nPlease arrive no later than 4:15 pm.  \n\n\n\nEligibility: \n\n\n\nAll are welcome \n\n\n\nContact Info:  \n\n\n\nEmail Foodbank@schcontario.ca  or call (416) 847-4147 for further information
URL:https://schcontario.ca/event/food-bank-2/2026-04-30/
LOCATION:4100 Lawrence Avenue East\, 4100 Lawrence Avenue East\, Scarborough\, Ontario\, M1E 2R9\, Canada
CATEGORIES:Food Bank and Meals
END:VEVENT
BEGIN:VEVENT
DTSTART;TZID=UTC:20260430T140000
DTEND;TZID=UTC:20260430T163000
DTSTAMP:20260421T154835
CREATED:20230418T194531Z
LAST-MODIFIED:20250523T182818Z
UID:10046577-1777557600-1777566600@schcontario.ca
SUMMARY:Food Bank
DESCRIPTION:Drop in program\, registration or appointment is not required. \n\n\n\nDescription:  \n\n\n\nIndividuals and families experiencing food insecurity can access food support from our food bank on a weekly basis. Individuals can expect to receive 1-2 days of food and can select items based on their preference.  \n\n\n\nPlease arrive no later than 4:15 pm.  \n\n\n\nEligibility: \n\n\n\nAll are welcome \n\n\n\nContact Info:  \n\n\n\nEmail Foodbank@schcontario.ca  or call (416) 847-4147 for further information
URL:https://schcontario.ca/event/food-bank-2/2026-04-30/
LOCATION:4100 Lawrence Avenue East\, 4100 Lawrence Avenue East\, Scarborough\, Ontario\, M1E 2R9\, Canada
CATEGORIES:Food Bank and Meals
END:VEVENT
BEGIN:VEVENT
DTSTART;TZID=UTC:20260430T140000
DTEND;TZID=UTC:20260430T163000
DTSTAMP:20260421T154835
CREATED:20230418T194531Z
LAST-MODIFIED:20250523T175904Z
UID:10034892-1777557600-1777566600@schcontario.ca
SUMMARY:Food Bank
DESCRIPTION:Drop in program\, registration or appointment is not required. \n\n\n\nDescription:  \n\n\n\nIndividuals and families experiencing food insecurity can access food support from our food bank on a weekly basis. Individuals can expect to receive 1-2 days of food and can select items based on their preference.  \n\n\n\nPlease arrive no later than 4:15 pm.  \n\n\n\nEligibility: \n\n\n\nAll are welcome \n\n\n\nContact Info:  \n\n\n\nEmail Foodbank@schcontario.ca  or call (416) 847-4147 for further information
URL:https://schcontario.ca/event/food-bank-2/2026-04-30/
LOCATION:4100 Lawrence Avenue East\, 4100 Lawrence Avenue East\, Scarborough\, Ontario\, M1E 2R9\, Canada
CATEGORIES:Food Bank and Meals
END:VEVENT
BEGIN:VEVENT
DTSTART;TZID=UTC:20260430T140000
DTEND;TZID=UTC:20260430T163000
DTSTAMP:20260421T154835
CREATED:20230418T194531Z
LAST-MODIFIED:20250523T182840Z
UID:10049967-1777557600-1777566600@schcontario.ca
SUMMARY:Food Bank
DESCRIPTION:Drop in program\, registration or appointment is not required. \n\n\n\nDescription:  \n\n\n\nIndividuals and families experiencing food insecurity can access food support from our food bank on a weekly basis. Individuals can expect to receive 1-2 days of food and can select items based on their preference.  \n\n\n\nPlease arrive no later than 4:15 pm.  \n\n\n\nEligibility: \n\n\n\nAll are welcome \n\n\n\nContact Info:  \n\n\n\nEmail Foodbank@schcontario.ca  or call (416) 847-4147 for further information
URL:https://schcontario.ca/event/food-bank-2/2026-04-30/
LOCATION:4100 Lawrence Avenue East\, 4100 Lawrence Avenue East\, Scarborough\, Ontario\, M1E 2R9\, Canada
CATEGORIES:Food Bank and Meals
END:VEVENT
BEGIN:VEVENT
DTSTART;TZID=UTC:20260430T140000
DTEND;TZID=UTC:20260430T163000
DTSTAMP:20260421T154835
CREATED:20230418T194531Z
LAST-MODIFIED:20250523T182752Z
UID:10038738-1777557600-1777566600@schcontario.ca
SUMMARY:Food Bank
DESCRIPTION:Drop in program\, registration or appointment is not required. \n\n\n\nDescription:  \n\n\n\nIndividuals and families experiencing food insecurity can access food support from our food bank on a weekly basis. Individuals can expect to receive 1-2 days of food and can select items based on their preference.  \n\n\n\nPlease arrive no later than 4:15 pm.  \n\n\n\nEligibility: \n\n\n\nAll are welcome \n\n\n\nContact Info:  \n\n\n\nEmail Foodbank@schcontario.ca  or call (416) 847-4147 for further information
URL:https://schcontario.ca/event/food-bank-2/2026-04-30/
LOCATION:4100 Lawrence Avenue East\, 4100 Lawrence Avenue East\, Scarborough\, Ontario\, M1E 2R9\, Canada
CATEGORIES:Food Bank and Meals
END:VEVENT
BEGIN:VEVENT
DTSTART;TZID=UTC:20260430T140000
DTEND;TZID=UTC:20260430T163000
DTSTAMP:20260421T154835
CREATED:20230418T194531Z
LAST-MODIFIED:20250523T182821Z
UID:10047723-1777557600-1777566600@schcontario.ca
SUMMARY:Food Bank
DESCRIPTION:Drop in program\, registration or appointment is not required. \n\n\n\nDescription:  \n\n\n\nIndividuals and families experiencing food insecurity can access food support from our food bank on a weekly basis. Individuals can expect to receive 1-2 days of food and can select items based on their preference.  \n\n\n\nPlease arrive no later than 4:15 pm.  \n\n\n\nEligibility: \n\n\n\nAll are welcome \n\n\n\nContact Info:  \n\n\n\nEmail Foodbank@schcontario.ca  or call (416) 847-4147 for further information
URL:https://schcontario.ca/event/food-bank-2/2026-04-30/
LOCATION:4100 Lawrence Avenue East\, 4100 Lawrence Avenue East\, Scarborough\, Ontario\, M1E 2R9\, Canada
CATEGORIES:Food Bank and Meals
END:VEVENT
BEGIN:VEVENT
DTSTART;TZID=UTC:20260430T140000
DTEND;TZID=UTC:20260430T163000
DTSTAMP:20260421T154835
CREATED:20230418T194531Z
LAST-MODIFIED:20250523T175908Z
UID:10036190-1777557600-1777566600@schcontario.ca
SUMMARY:Food Bank
DESCRIPTION:Drop in program\, registration or appointment is not required. \n\n\n\nDescription:  \n\n\n\nIndividuals and families experiencing food insecurity can access food support from our food bank on a weekly basis. Individuals can expect to receive 1-2 days of food and can select items based on their preference.  \n\n\n\nPlease arrive no later than 4:15 pm.  \n\n\n\nEligibility: \n\n\n\nAll are welcome \n\n\n\nContact Info:  \n\n\n\nEmail Foodbank@schcontario.ca  or call (416) 847-4147 for further information
URL:https://schcontario.ca/event/food-bank-2/2026-04-30/
LOCATION:4100 Lawrence Avenue East\, 4100 Lawrence Avenue East\, Scarborough\, Ontario\, M1E 2R9\, Canada
CATEGORIES:Food Bank and Meals
END:VEVENT
BEGIN:VEVENT
DTSTART;TZID=UTC:20260430T140000
DTEND;TZID=UTC:20260430T163000
DTSTAMP:20260421T154835
CREATED:20230418T194531Z
LAST-MODIFIED:20250523T182830Z
UID:10048853-1777557600-1777566600@schcontario.ca
SUMMARY:Food Bank
DESCRIPTION:Drop in program\, registration or appointment is not required. \n\n\n\nDescription:  \n\n\n\nIndividuals and families experiencing food insecurity can access food support from our food bank on a weekly basis. Individuals can expect to receive 1-2 days of food and can select items based on their preference.  \n\n\n\nPlease arrive no later than 4:15 pm.  \n\n\n\nEligibility: \n\n\n\nAll are welcome \n\n\n\nContact Info:  \n\n\n\nEmail Foodbank@schcontario.ca  or call (416) 847-4147 for further information
URL:https://schcontario.ca/event/food-bank-2/2026-04-30/
LOCATION:4100 Lawrence Avenue East\, 4100 Lawrence Avenue East\, Scarborough\, Ontario\, M1E 2R9\, Canada
CATEGORIES:Food Bank and Meals
END:VEVENT
BEGIN:VEVENT
DTSTART;TZID=UTC:20260501T100000
DTEND;TZID=UTC:20260501T110000
DTSTAMP:20260421T154835
CREATED:20230906T190635Z
LAST-MODIFIED:20230906T190654Z
UID:10017387-1777629600-1777633200@schcontario.ca
SUMMARY:Sit Yoga (In-Person) (65 Green Crest - Residents Only)
DESCRIPTION:Sitting yoga is a gentle form of yoga that can be done while sitting\, it is especially good forseniors and people who sit in a chair at work. \n\n\n\nProgram at 65 Green Crest – Residents Only. \n\n\n\nPlease contact our Client Intake Registration Team for more details or to register.Tel: 416-847-4134Email: cssintake@schcontario.ca
URL:https://schcontario.ca/event/sit-yoga-in-person-65-green-crest-residents-only/2026-05-01/
LOCATION:Ontario
CATEGORIES:Active Living Centre
END:VEVENT
BEGIN:VEVENT
DTSTART;TZID=UTC:20260501T100000
DTEND;TZID=UTC:20260501T110000
DTSTAMP:20260421T154835
CREATED:20230906T190934Z
LAST-MODIFIED:20230906T190937Z
UID:10017649-1777629600-1777633200@schcontario.ca
SUMMARY:Mood Walk (Birkdale Ravine) (FREE - Register now)
DESCRIPTION:Mood Walks is a province wide initiative that promotes physical activity in nature\, or “green exercise\,” as a way to improve both physical and mental health. \n\n\n\nPlease contact our Client Intake Registration Team for more details or to register.Tel: 416-847-4134Email: cssintake@schcontario.ca
URL:https://schcontario.ca/event/mood-walk-birkdale-ravine-free-register-now/2026-05-01/
LOCATION:SCHC Active Living Centre\, 3600 Kingston Rd\, Scarborough\, M1M 1R9\, Canada
CATEGORIES:Active Living Centre
END:VEVENT
BEGIN:VEVENT
DTSTART;TZID=America/Toronto:20260501T120000
DTEND;TZID=America/Toronto:20260501T130000
DTSTAMP:20260421T154835
CREATED:20250311T184327Z
LAST-MODIFIED:20250311T184332Z
UID:10022566-1777636800-1777640400@schcontario.ca
SUMMARY:Mobile Health Unit - Gordonridge
DESCRIPTION:The Mobile Health Unit provides Harm Reduction supplies and health information for residents in their community making information and supplies as accessible as possible.  When supplies allow we have clothing\, hygiene supplies and snacks. Residents can learn about and get connected to programs and services like Hep C screening\, Mental health and other social and health services. \n\n\n\nLearn more https://schcontario.ca/programs/community-partner-initiatives/mobile-health-van/
URL:https://schcontario.ca/event/mobile-health-unit-gordonridge/2026-05-01/
LOCATION:40 Gordonridge Place\, 40 Gordonridge Place\, Toronto\, Ontario\, M1K 4H8\, Canada
CATEGORIES:Health and Well-Being
ATTACH;FMTTYPE=image/png:https://schcontario.ca/wp-content/uploads/2025/03/MHU-.png
END:VEVENT
BEGIN:VEVENT
DTSTART;TZID=UTC:20260504T080000
DTEND;TZID=UTC:20260504T170000
DTSTAMP:20260421T154835
CREATED:20230906T185058Z
LAST-MODIFIED:20230906T185101Z
UID:10016082-1777881600-1777914000@schcontario.ca
SUMMARY:Art Class (In-Person)
DESCRIPTION:Please contact our Client Intake Registration Team for more details or to register.Tel: 416-847-4134Email: cssintake@schcontario.ca
URL:https://schcontario.ca/event/art-class-in-person/2026-05-04/
LOCATION:SCHC Active Living Centre\, 3600 Kingston Rd\, Scarborough\, M1M 1R9\, Canada
CATEGORIES:Active Living Centre
END:VEVENT
BEGIN:VEVENT
DTSTART;TZID=UTC:20260504T103000
DTEND;TZID=UTC:20260504T113000
DTSTAMP:20260421T154835
CREATED:20220613T175707Z
LAST-MODIFIED:20230906T184801Z
UID:10015821-1777890600-1777894200@schcontario.ca
SUMMARY:Active Yoga (In Person)
DESCRIPTION:Active Yoga is a hybrid form of yoga that focuses on building strength and endurance. \n\n\n\nPlease contact our Client Intake Registration Team for more details or to register.Tel: 416-847-4134Email: cssintake@schcontario.ca
URL:https://schcontario.ca/event/active-yoga/2026-05-04/
LOCATION:SCHC Active Living Centre\, 3600 Kingston Rd\, Scarborough\, M1M 1R9\, Canada
CATEGORIES:Active Living Centre
END:VEVENT
BEGIN:VEVENT
DTSTART;TZID=America/Toronto:20260504T130000
DTEND;TZID=America/Toronto:20260504T140000
DTSTAMP:20260421T154835
CREATED:20250311T181401Z
LAST-MODIFIED:20250311T181406Z
UID:10022125-1777899600-1777903200@schcontario.ca
SUMMARY:Mobile Health Unit - LEPP
DESCRIPTION:Working with the LEPP team the Mobile Health Unit provides Harm Reduction supplies and health information for residents in their community making information and supplies as accessible as possible.  When supplies allow we have clothing\, hygiene supplies and snacks. Residents can learn about and get connected to programs and services like Hep C screening\, Mental health and other social and health services. \n\n\n\nLearn more https://schcontario.ca/programs/community-partner-initiatives/mobile-health-van/
URL:https://schcontario.ca/event/mobile-health-unit-lepp/2026-05-04/
LOCATION:4175 Lawrence Ave East – LEPP\, 4175 Lawrence Ave East\, scarborough\, Ontario\, M1E 4T7\, Canada
CATEGORIES:Health and Well-Being
ATTACH;FMTTYPE=image/png:https://schcontario.ca/wp-content/uploads/2025/03/MHU-.png
END:VEVENT
BEGIN:VEVENT
DTSTART;TZID=UTC:20260504T130000
DTEND;TZID=UTC:20260504T160000
DTSTAMP:20260421T154835
CREATED:20250506T170019Z
LAST-MODIFIED:20250506T170028Z
UID:10023146-1777899600-1777910400@schcontario.ca
SUMMARY:Afghan Seniors Program
DESCRIPTION:Registration is not required.  This is a drop-in program. \n\n\n\nDescription:  \n\n\n\nThis program aims to assist Afghan seniors with peer support and social engagement\, and provide innovative ways for seniors to continue to play an important role in their community.   \n\n\n\nEligibility: \n\n\n\nAdults/seniors \n\n\n\nContact Info: \n\n\n\nEmail hubadmin@schcontario.ca  or call 416-642-9445 ext. 7555
URL:https://schcontario.ca/event/afghan-seniors-program-2/2026-05-04/
LOCATION:The Hub – Mid Scarborough\, 2660 Eglinton Ave East\, Scarborough\, Ontario\, M1K 2S3\, Canada
CATEGORIES:Hub Mid Scarborough
ORGANIZER;CN="The Hub Mid-Scarborough":MAILTO:hubadmin@schcontario.ca 
END:VEVENT
BEGIN:VEVENT
DTSTART;TZID=UTC:20260505T100000
DTEND;TZID=UTC:20260505T110000
DTSTAMP:20260421T154835
CREATED:20230906T183246Z
LAST-MODIFIED:20230906T183248Z
UID:10014971-1777975200-1777978800@schcontario.ca
SUMMARY:Sit Yoga (In-Person)
DESCRIPTION:Sitting yoga is a gentle form of yoga that can be done while sitting\, it is especially good for seniors and people who sit in a chair at work. \n\n\n\nPlease contact our Client Intake Registration Team for more details or to register.Tel: 416-847-4134Email: cssintake@schcontario.ca
URL:https://schcontario.ca/event/sit-yoga-in-person/2026-05-05/
LOCATION:SCHC Seniors Active Living Centre\, 3600 Kingston Rd\, Scarborough\, ON\, M1M 1R9\, Canada
CATEGORIES:Active Living Centre
END:VEVENT
BEGIN:VEVENT
DTSTART;TZID=UTC:20260505T113000
DTEND;TZID=UTC:20260505T123000
DTSTAMP:20260421T154835
CREATED:20230906T183948Z
LAST-MODIFIED:20230906T183950Z
UID:10015233-1777980600-1777984200@schcontario.ca
SUMMARY:Gentle Fitness (In-Person)
DESCRIPTION:Please contact our Client Intake Registration Team for more details or to register.Tel: 416-847-4134Email: cssintake@schcontario.ca
URL:https://schcontario.ca/event/gentle-fitness-in-person/2026-05-05/
LOCATION:SCHC Seniors Active Living Centre\, 3600 Kingston Rd\, Scarborough\, ON\, M1M 1R9\, Canada
CATEGORIES:Active Living Centre
END:VEVENT
BEGIN:VEVENT
DTSTART;TZID=UTC:20260505T130000
DTEND;TZID=UTC:20260505T150000
DTSTAMP:20260421T154835
CREATED:20230906T184509Z
LAST-MODIFIED:20230906T184511Z
UID:10015495-1777986000-1777993200@schcontario.ca
SUMMARY:Bingo (In-Person)
DESCRIPTION:Please contact our Client Intake Registration Team for more details or to register.Tel: 416-847-4134Email: cssintake@schcontario.ca
URL:https://schcontario.ca/event/bingo-in-person/2026-05-05/
LOCATION:SCHC Seniors Active Living Centre\, 3600 Kingston Rd\, Scarborough\, ON\, M1M 1R9\, Canada
CATEGORIES:Active Living Centre
END:VEVENT
END:VCALENDAR