BEGIN:VCALENDAR
VERSION:2.0
PRODID:-//Scarborough Centre for Healthy Communities - ECPv6.15.20//NONSGML v1.0//EN
CALSCALE:GREGORIAN
METHOD:PUBLISH
X-ORIGINAL-URL:https://schcontario.ca
X-WR-CALDESC:Events for Scarborough Centre for Healthy Communities
REFRESH-INTERVAL;VALUE=DURATION:PT1H
X-Robots-Tag:noindex
X-PUBLISHED-TTL:PT1H
BEGIN:VTIMEZONE
TZID:UTC
BEGIN:STANDARD
TZOFFSETFROM:+0000
TZOFFSETTO:+0000
TZNAME:UTC
DTSTART:20240101T000000
END:STANDARD
END:VTIMEZONE
BEGIN:VTIMEZONE
TZID:America/Toronto
BEGIN:DAYLIGHT
TZOFFSETFROM:-0500
TZOFFSETTO:-0400
TZNAME:EDT
DTSTART:20240310T070000
END:DAYLIGHT
BEGIN:STANDARD
TZOFFSETFROM:-0400
TZOFFSETTO:-0500
TZNAME:EST
DTSTART:20241103T060000
END:STANDARD
BEGIN:DAYLIGHT
TZOFFSETFROM:-0500
TZOFFSETTO:-0400
TZNAME:EDT
DTSTART:20250309T070000
END:DAYLIGHT
BEGIN:STANDARD
TZOFFSETFROM:-0400
TZOFFSETTO:-0500
TZNAME:EST
DTSTART:20251102T060000
END:STANDARD
BEGIN:DAYLIGHT
TZOFFSETFROM:-0500
TZOFFSETTO:-0400
TZNAME:EDT
DTSTART:20260308T070000
END:DAYLIGHT
BEGIN:STANDARD
TZOFFSETFROM:-0400
TZOFFSETTO:-0500
TZNAME:EST
DTSTART:20261101T060000
END:STANDARD
END:VTIMEZONE
BEGIN:VEVENT
DTSTART;TZID=UTC:20250710T140000
DTEND;TZID=UTC:20250710T163000
DTSTAMP:20260421T110108
CREATED:20230418T194531Z
LAST-MODIFIED:20250523T182816Z
UID:10045956-1752156000-1752165000@schcontario.ca
SUMMARY:Food Bank
DESCRIPTION:Drop in program\, registration or appointment is not required. \n\n\n\nDescription:  \n\n\n\nIndividuals and families experiencing food insecurity can access food support from our food bank on a weekly basis. Individuals can expect to receive 1-2 days of food and can select items based on their preference.  \n\n\n\nPlease arrive no later than 4:15 pm.  \n\n\n\nEligibility: \n\n\n\nAll are welcome \n\n\n\nContact Info:  \n\n\n\nEmail Foodbank@schcontario.ca  or call (416) 847-4147 for further information
URL:https://schcontario.ca/event/food-bank-2/2025-07-10/
LOCATION:4100 Lawrence Avenue East\, 4100 Lawrence Avenue East\, Scarborough\, Ontario\, M1E 2R9\, Canada
CATEGORIES:Food Bank and Meals
END:VEVENT
BEGIN:VEVENT
DTSTART;TZID=UTC:20250710T140000
DTEND;TZID=UTC:20250710T163000
DTSTAMP:20260421T110108
CREATED:20230418T194531Z
LAST-MODIFIED:20250523T182826Z
UID:10048248-1752156000-1752165000@schcontario.ca
SUMMARY:Food Bank
DESCRIPTION:Drop in program\, registration or appointment is not required. \n\n\n\nDescription:  \n\n\n\nIndividuals and families experiencing food insecurity can access food support from our food bank on a weekly basis. Individuals can expect to receive 1-2 days of food and can select items based on their preference.  \n\n\n\nPlease arrive no later than 4:15 pm.  \n\n\n\nEligibility: \n\n\n\nAll are welcome \n\n\n\nContact Info:  \n\n\n\nEmail Foodbank@schcontario.ca  or call (416) 847-4147 for further information
URL:https://schcontario.ca/event/food-bank-2/2025-07-10/
LOCATION:4100 Lawrence Avenue East\, 4100 Lawrence Avenue East\, Scarborough\, Ontario\, M1E 2R9\, Canada
CATEGORIES:Food Bank and Meals
END:VEVENT
BEGIN:VEVENT
DTSTART;TZID=UTC:20250710T140000
DTEND;TZID=UTC:20250710T163000
DTSTAMP:20260421T110108
CREATED:20230418T194531Z
LAST-MODIFIED:20250523T150038Z
UID:10023531-1752156000-1752165000@schcontario.ca
SUMMARY:Food Bank
DESCRIPTION:Drop in program\, registration or appointment is not required. \n\n\n\nDescription:  \n\n\n\nIndividuals and families experiencing food insecurity can access food support from our food bank on a weekly basis. Individuals can expect to receive 1-2 days of food and can select items based on their preference.  \n\n\n\nPlease arrive no later than 4:15 pm.  \n\n\n\nEligibility: \n\n\n\nAll are welcome \n\n\n\nContact Info:  \n\n\n\nEmail Foodbank@schcontario.ca  or call (416) 847-4147 for further information
URL:https://schcontario.ca/event/food-bank-2/2025-07-10/
LOCATION:4100 Lawrence Avenue East\, 4100 Lawrence Avenue East\, Scarborough\, Ontario\, M1E 2R9\, Canada
CATEGORIES:Food Bank and Meals
END:VEVENT
BEGIN:VEVENT
DTSTART;TZID=UTC:20250710T140000
DTEND;TZID=UTC:20250710T163000
DTSTAMP:20260421T110108
CREATED:20230418T194531Z
LAST-MODIFIED:20250523T182802Z
UID:10041180-1752156000-1752165000@schcontario.ca
SUMMARY:Food Bank
DESCRIPTION:Drop in program\, registration or appointment is not required. \n\n\n\nDescription:  \n\n\n\nIndividuals and families experiencing food insecurity can access food support from our food bank on a weekly basis. Individuals can expect to receive 1-2 days of food and can select items based on their preference.  \n\n\n\nPlease arrive no later than 4:15 pm.  \n\n\n\nEligibility: \n\n\n\nAll are welcome \n\n\n\nContact Info:  \n\n\n\nEmail Foodbank@schcontario.ca  or call (416) 847-4147 for further information
URL:https://schcontario.ca/event/food-bank-2/2025-07-10/
LOCATION:4100 Lawrence Avenue East\, 4100 Lawrence Avenue East\, Scarborough\, Ontario\, M1E 2R9\, Canada
CATEGORIES:Food Bank and Meals
END:VEVENT
BEGIN:VEVENT
DTSTART;TZID=UTC:20250710T140000
DTEND;TZID=UTC:20250710T163000
DTSTAMP:20260421T110108
CREATED:20230418T194531Z
LAST-MODIFIED:20250523T182809Z
UID:10043898-1752156000-1752165000@schcontario.ca
SUMMARY:Food Bank
DESCRIPTION:Drop in program\, registration or appointment is not required. \n\n\n\nDescription:  \n\n\n\nIndividuals and families experiencing food insecurity can access food support from our food bank on a weekly basis. Individuals can expect to receive 1-2 days of food and can select items based on their preference.  \n\n\n\nPlease arrive no later than 4:15 pm.  \n\n\n\nEligibility: \n\n\n\nAll are welcome \n\n\n\nContact Info:  \n\n\n\nEmail Foodbank@schcontario.ca  or call (416) 847-4147 for further information
URL:https://schcontario.ca/event/food-bank-2/2025-07-10/
LOCATION:4100 Lawrence Avenue East\, 4100 Lawrence Avenue East\, Scarborough\, Ontario\, M1E 2R9\, Canada
CATEGORIES:Food Bank and Meals
END:VEVENT
BEGIN:VEVENT
DTSTART;TZID=UTC:20250710T140000
DTEND;TZID=UTC:20250710T163000
DTSTAMP:20260421T110108
CREATED:20230418T194531Z
LAST-MODIFIED:20250523T182804Z
UID:10041486-1752156000-1752165000@schcontario.ca
SUMMARY:Food Bank
DESCRIPTION:Drop in program\, registration or appointment is not required. \n\n\n\nDescription:  \n\n\n\nIndividuals and families experiencing food insecurity can access food support from our food bank on a weekly basis. Individuals can expect to receive 1-2 days of food and can select items based on their preference.  \n\n\n\nPlease arrive no later than 4:15 pm.  \n\n\n\nEligibility: \n\n\n\nAll are welcome \n\n\n\nContact Info:  \n\n\n\nEmail Foodbank@schcontario.ca  or call (416) 847-4147 for further information
URL:https://schcontario.ca/event/food-bank-2/2025-07-10/
LOCATION:4100 Lawrence Avenue East\, 4100 Lawrence Avenue East\, Scarborough\, Ontario\, M1E 2R9\, Canada
CATEGORIES:Food Bank and Meals
END:VEVENT
BEGIN:VEVENT
DTSTART;TZID=UTC:20250710T140000
DTEND;TZID=UTC:20250710T163000
DTSTAMP:20260421T110108
CREATED:20230418T194531Z
LAST-MODIFIED:20250523T182810Z
UID:10044195-1752156000-1752165000@schcontario.ca
SUMMARY:Food Bank
DESCRIPTION:Drop in program\, registration or appointment is not required. \n\n\n\nDescription:  \n\n\n\nIndividuals and families experiencing food insecurity can access food support from our food bank on a weekly basis. Individuals can expect to receive 1-2 days of food and can select items based on their preference.  \n\n\n\nPlease arrive no later than 4:15 pm.  \n\n\n\nEligibility: \n\n\n\nAll are welcome \n\n\n\nContact Info:  \n\n\n\nEmail Foodbank@schcontario.ca  or call (416) 847-4147 for further information
URL:https://schcontario.ca/event/food-bank-2/2025-07-10/
LOCATION:4100 Lawrence Avenue East\, 4100 Lawrence Avenue East\, Scarborough\, Ontario\, M1E 2R9\, Canada
CATEGORIES:Food Bank and Meals
END:VEVENT
BEGIN:VEVENT
DTSTART;TZID=UTC:20250710T140000
DTEND;TZID=UTC:20250710T163000
DTSTAMP:20260421T110108
CREATED:20230418T194531Z
LAST-MODIFIED:20250523T175914Z
UID:10037111-1752156000-1752165000@schcontario.ca
SUMMARY:Food Bank
DESCRIPTION:Drop in program\, registration or appointment is not required. \n\n\n\nDescription:  \n\n\n\nIndividuals and families experiencing food insecurity can access food support from our food bank on a weekly basis. Individuals can expect to receive 1-2 days of food and can select items based on their preference.  \n\n\n\nPlease arrive no later than 4:15 pm.  \n\n\n\nEligibility: \n\n\n\nAll are welcome \n\n\n\nContact Info:  \n\n\n\nEmail Foodbank@schcontario.ca  or call (416) 847-4147 for further information
URL:https://schcontario.ca/event/food-bank-2/2025-07-10/
LOCATION:4100 Lawrence Avenue East\, 4100 Lawrence Avenue East\, Scarborough\, Ontario\, M1E 2R9\, Canada
CATEGORIES:Food Bank and Meals
END:VEVENT
BEGIN:VEVENT
DTSTART;TZID=UTC:20250710T140000
DTEND;TZID=UTC:20250710T163000
DTSTAMP:20260421T110108
CREATED:20230418T194531Z
LAST-MODIFIED:20250523T182754Z
UID:10039635-1752156000-1752165000@schcontario.ca
SUMMARY:Food Bank
DESCRIPTION:Drop in program\, registration or appointment is not required. \n\n\n\nDescription:  \n\n\n\nIndividuals and families experiencing food insecurity can access food support from our food bank on a weekly basis. Individuals can expect to receive 1-2 days of food and can select items based on their preference.  \n\n\n\nPlease arrive no later than 4:15 pm.  \n\n\n\nEligibility: \n\n\n\nAll are welcome \n\n\n\nContact Info:  \n\n\n\nEmail Foodbank@schcontario.ca  or call (416) 847-4147 for further information
URL:https://schcontario.ca/event/food-bank-2/2025-07-10/
LOCATION:4100 Lawrence Avenue East\, 4100 Lawrence Avenue East\, Scarborough\, Ontario\, M1E 2R9\, Canada
CATEGORIES:Food Bank and Meals
END:VEVENT
BEGIN:VEVENT
DTSTART;TZID=UTC:20250710T140000
DTEND;TZID=UTC:20250710T163000
DTSTAMP:20260421T110108
CREATED:20230418T194531Z
LAST-MODIFIED:20250523T175859Z
UID:10032206-1752156000-1752165000@schcontario.ca
SUMMARY:Food Bank
DESCRIPTION:Drop in program\, registration or appointment is not required. \n\n\n\nDescription:  \n\n\n\nIndividuals and families experiencing food insecurity can access food support from our food bank on a weekly basis. Individuals can expect to receive 1-2 days of food and can select items based on their preference.  \n\n\n\nPlease arrive no later than 4:15 pm.  \n\n\n\nEligibility: \n\n\n\nAll are welcome \n\n\n\nContact Info:  \n\n\n\nEmail Foodbank@schcontario.ca  or call (416) 847-4147 for further information
URL:https://schcontario.ca/event/food-bank-2/2025-07-10/
LOCATION:4100 Lawrence Avenue East\, 4100 Lawrence Avenue East\, Scarborough\, Ontario\, M1E 2R9\, Canada
CATEGORIES:Food Bank and Meals
END:VEVENT
BEGIN:VEVENT
DTSTART;TZID=UTC:20250710T140000
DTEND;TZID=UTC:20250710T163000
DTSTAMP:20260421T110108
CREATED:20230418T194531Z
LAST-MODIFIED:20250523T175904Z
UID:10034850-1752156000-1752165000@schcontario.ca
SUMMARY:Food Bank
DESCRIPTION:Drop in program\, registration or appointment is not required. \n\n\n\nDescription:  \n\n\n\nIndividuals and families experiencing food insecurity can access food support from our food bank on a weekly basis. Individuals can expect to receive 1-2 days of food and can select items based on their preference.  \n\n\n\nPlease arrive no later than 4:15 pm.  \n\n\n\nEligibility: \n\n\n\nAll are welcome \n\n\n\nContact Info:  \n\n\n\nEmail Foodbank@schcontario.ca  or call (416) 847-4147 for further information
URL:https://schcontario.ca/event/food-bank-2/2025-07-10/
LOCATION:4100 Lawrence Avenue East\, 4100 Lawrence Avenue East\, Scarborough\, Ontario\, M1E 2R9\, Canada
CATEGORIES:Food Bank and Meals
END:VEVENT
BEGIN:VEVENT
DTSTART;TZID=UTC:20250710T140000
DTEND;TZID=UTC:20250710T163000
DTSTAMP:20260421T110108
CREATED:20230418T194531Z
LAST-MODIFIED:20250523T172932Z
UID:10027425-1752156000-1752165000@schcontario.ca
SUMMARY:Food Bank
DESCRIPTION:Drop in program\, registration or appointment is not required. \n\n\n\nDescription:  \n\n\n\nIndividuals and families experiencing food insecurity can access food support from our food bank on a weekly basis. Individuals can expect to receive 1-2 days of food and can select items based on their preference.  \n\n\n\nPlease arrive no later than 4:15 pm.  \n\n\n\nEligibility: \n\n\n\nAll are welcome \n\n\n\nContact Info:  \n\n\n\nEmail Foodbank@schcontario.ca  or call (416) 847-4147 for further information
URL:https://schcontario.ca/event/food-bank-2/2025-07-10/
LOCATION:4100 Lawrence Avenue East\, 4100 Lawrence Avenue East\, Scarborough\, Ontario\, M1E 2R9\, Canada
CATEGORIES:Food Bank and Meals
END:VEVENT
BEGIN:VEVENT
DTSTART;TZID=UTC:20250710T140000
DTEND;TZID=UTC:20250710T163000
DTSTAMP:20260421T110108
CREATED:20230418T194531Z
LAST-MODIFIED:20250523T172951Z
UID:10030181-1752156000-1752165000@schcontario.ca
SUMMARY:Food Bank
DESCRIPTION:Drop in program\, registration or appointment is not required. \n\n\n\nDescription:  \n\n\n\nIndividuals and families experiencing food insecurity can access food support from our food bank on a weekly basis. Individuals can expect to receive 1-2 days of food and can select items based on their preference.  \n\n\n\nPlease arrive no later than 4:15 pm.  \n\n\n\nEligibility: \n\n\n\nAll are welcome \n\n\n\nContact Info:  \n\n\n\nEmail Foodbank@schcontario.ca  or call (416) 847-4147 for further information
URL:https://schcontario.ca/event/food-bank-2/2025-07-10/
LOCATION:4100 Lawrence Avenue East\, 4100 Lawrence Avenue East\, Scarborough\, Ontario\, M1E 2R9\, Canada
CATEGORIES:Food Bank and Meals
END:VEVENT
BEGIN:VEVENT
DTSTART;TZID=UTC:20250710T140000
DTEND;TZID=UTC:20250710T163000
DTSTAMP:20260421T110108
CREATED:20230418T194531Z
LAST-MODIFIED:20250523T182853Z
UID:10051295-1752156000-1752165000@schcontario.ca
SUMMARY:Food Bank
DESCRIPTION:Drop in program\, registration or appointment is not required. \n\n\n\nDescription:  \n\n\n\nIndividuals and families experiencing food insecurity can access food support from our food bank on a weekly basis. Individuals can expect to receive 1-2 days of food and can select items based on their preference.  \n\n\n\nPlease arrive no later than 4:15 pm.  \n\n\n\nEligibility: \n\n\n\nAll are welcome \n\n\n\nContact Info:  \n\n\n\nEmail Foodbank@schcontario.ca  or call (416) 847-4147 for further information
URL:https://schcontario.ca/event/food-bank-2/2025-07-10/
LOCATION:4100 Lawrence Avenue East\, 4100 Lawrence Avenue East\, Scarborough\, Ontario\, M1E 2R9\, Canada
CATEGORIES:Food Bank and Meals
END:VEVENT
BEGIN:VEVENT
DTSTART;TZID=UTC:20250710T140000
DTEND;TZID=UTC:20250710T163000
DTSTAMP:20260421T110108
CREATED:20230418T194531Z
LAST-MODIFIED:20250623T202755Z
UID:10053435-1752156000-1752165000@schcontario.ca
SUMMARY:Food Bank
DESCRIPTION:Drop in program\, registration or appointment is not required. \n\n\n\nDescription:  \n\n\n\nIndividuals and families experiencing food insecurity can access food support from our food bank on a weekly basis. Individuals can expect to receive 1-2 days of food and can select items based on their preference.  \n\n\n\nPlease arrive no later than 4:15 pm.  \n\n\n\nEligibility: \n\n\n\nAll are welcome \n\n\n\nContact Info:  \n\n\n\nEmail Foodbank@schcontario.ca  or call (416) 847-4147 for further information
URL:https://schcontario.ca/event/food-bank-2/2025-07-10/
LOCATION:4100 Lawrence Avenue East\, 4100 Lawrence Avenue East\, Scarborough\, Ontario\, M1E 2R9\, Canada
CATEGORIES:Food Bank and Meals
END:VEVENT
BEGIN:VEVENT
DTSTART;TZID=UTC:20250710T140000
DTEND;TZID=UTC:20250710T163000
DTSTAMP:20260421T110108
CREATED:20230418T194531Z
LAST-MODIFIED:20250523T182817Z
UID:10046246-1752156000-1752165000@schcontario.ca
SUMMARY:Food Bank
DESCRIPTION:Drop in program\, registration or appointment is not required. \n\n\n\nDescription:  \n\n\n\nIndividuals and families experiencing food insecurity can access food support from our food bank on a weekly basis. Individuals can expect to receive 1-2 days of food and can select items based on their preference.  \n\n\n\nPlease arrive no later than 4:15 pm.  \n\n\n\nEligibility: \n\n\n\nAll are welcome \n\n\n\nContact Info:  \n\n\n\nEmail Foodbank@schcontario.ca  or call (416) 847-4147 for further information
URL:https://schcontario.ca/event/food-bank-2/2025-07-10/
LOCATION:4100 Lawrence Avenue East\, 4100 Lawrence Avenue East\, Scarborough\, Ontario\, M1E 2R9\, Canada
CATEGORIES:Food Bank and Meals
END:VEVENT
BEGIN:VEVENT
DTSTART;TZID=UTC:20250710T140000
DTEND;TZID=UTC:20250710T163000
DTSTAMP:20260421T110108
CREATED:20230418T194531Z
LAST-MODIFIED:20250523T182827Z
UID:10048530-1752156000-1752165000@schcontario.ca
SUMMARY:Food Bank
DESCRIPTION:Drop in program\, registration or appointment is not required. \n\n\n\nDescription:  \n\n\n\nIndividuals and families experiencing food insecurity can access food support from our food bank on a weekly basis. Individuals can expect to receive 1-2 days of food and can select items based on their preference.  \n\n\n\nPlease arrive no later than 4:15 pm.  \n\n\n\nEligibility: \n\n\n\nAll are welcome \n\n\n\nContact Info:  \n\n\n\nEmail Foodbank@schcontario.ca  or call (416) 847-4147 for further information
URL:https://schcontario.ca/event/food-bank-2/2025-07-10/
LOCATION:4100 Lawrence Avenue East\, 4100 Lawrence Avenue East\, Scarborough\, Ontario\, M1E 2R9\, Canada
CATEGORIES:Food Bank and Meals
END:VEVENT
BEGIN:VEVENT
DTSTART;TZID=UTC:20250710T140000
DTEND;TZID=UTC:20250710T163000
DTSTAMP:20260421T110108
CREATED:20230418T194531Z
LAST-MODIFIED:20250523T150043Z
UID:10023890-1752156000-1752165000@schcontario.ca
SUMMARY:Food Bank
DESCRIPTION:Drop in program\, registration or appointment is not required. \n\n\n\nDescription:  \n\n\n\nIndividuals and families experiencing food insecurity can access food support from our food bank on a weekly basis. Individuals can expect to receive 1-2 days of food and can select items based on their preference.  \n\n\n\nPlease arrive no later than 4:15 pm.  \n\n\n\nEligibility: \n\n\n\nAll are welcome \n\n\n\nContact Info:  \n\n\n\nEmail Foodbank@schcontario.ca  or call (416) 847-4147 for further information
URL:https://schcontario.ca/event/food-bank-2/2025-07-10/
LOCATION:4100 Lawrence Avenue East\, 4100 Lawrence Avenue East\, Scarborough\, Ontario\, M1E 2R9\, Canada
CATEGORIES:Food Bank and Meals
END:VEVENT
BEGIN:VEVENT
DTSTART;TZID=America/Toronto:20250711T080000
DTEND;TZID=America/Toronto:20250711T170000
DTSTAMP:20260421T110108
CREATED:20241206T200328Z
LAST-MODIFIED:20241206T200331Z
UID:10021185-1752220800-1752253200@schcontario.ca
SUMMARY:YMCA Employment & Community Service
DESCRIPTION:Drop-in program\, registration is not required.  \n\n\n\nDescription:  \n\n\n\nCome for free help with resume development\, mock interviews\, job search and cover letter development.  The program runs every week on Tuesday and Wednesday 9:00 am – 5:00 pm\, and Thursday 9:00 am – 4:00 pm. \n\n\n\nEligibility: \n\n\n\nAll are welcome \n\n\n\nContact Info:  \n\n\n\nCall 416-916-1100 for more information
URL:https://schcontario.ca/event/ymca-employment-community-service-4/2025-07-11/
LOCATION:The Hub – Mid Scarborough\, 2660 Eglinton Ave East\, Scarborough\, Ontario\, M1K 2S3\, Canada
CATEGORIES:Hub Mid Scarborough
ORGANIZER;CN="The Hub Mid-Scarborough":MAILTO:hubadmin@schcontario.ca 
END:VEVENT
BEGIN:VEVENT
DTSTART;TZID=America/Toronto:20250711T093000
DTEND;TZID=America/Toronto:20250711T120000
DTSTAMP:20260421T110108
CREATED:20250702T200754Z
LAST-MODIFIED:20250702T200757Z
UID:10054158-1752226200-1752235200@schcontario.ca
SUMMARY:Drop-in (in person)
DESCRIPTION:Drop-In is a Play-based program providing learning experiences such as early literacy skills in storytelling\, circles with songs\, rhythm & movement\, expressive arts\, science & tech\, engineering\, math\, and nature & outdoor explore opportunities.
URL:https://schcontario.ca/event/drop-in-in-person-10/2025-07-11/
LOCATION:EarlyON Child and Family Centre\, 4110 Lawrence Avenue East\, Scarborough\, Ontario\, M1E 2S2\, Canada
CATEGORIES:EarlyON Child and Family Centre
ORGANIZER;CN="SCHC EarlyON":MAILTO:earlyon@schcontario.ca 
END:VEVENT
BEGIN:VEVENT
DTSTART;TZID=UTC:20250711T100000
DTEND;TZID=UTC:20250711T110000
DTSTAMP:20260421T110108
CREATED:20230906T190635Z
LAST-MODIFIED:20230906T190654Z
UID:10017345-1752228000-1752231600@schcontario.ca
SUMMARY:Sit Yoga (In-Person) (65 Green Crest - Residents Only)
DESCRIPTION:Sitting yoga is a gentle form of yoga that can be done while sitting\, it is especially good forseniors and people who sit in a chair at work. \n\n\n\nProgram at 65 Green Crest – Residents Only. \n\n\n\nPlease contact our Client Intake Registration Team for more details or to register.Tel: 416-847-4134Email: cssintake@schcontario.ca
URL:https://schcontario.ca/event/sit-yoga-in-person-65-green-crest-residents-only/2025-07-11/
LOCATION:Ontario
CATEGORIES:Active Living Centre
END:VEVENT
BEGIN:VEVENT
DTSTART;TZID=UTC:20250711T100000
DTEND;TZID=UTC:20250711T110000
DTSTAMP:20260421T110108
CREATED:20230906T190934Z
LAST-MODIFIED:20230906T190937Z
UID:10017607-1752228000-1752231600@schcontario.ca
SUMMARY:Mood Walk (Birkdale Ravine) (FREE - Register now)
DESCRIPTION:Mood Walks is a province wide initiative that promotes physical activity in nature\, or “green exercise\,” as a way to improve both physical and mental health. \n\n\n\nPlease contact our Client Intake Registration Team for more details or to register.Tel: 416-847-4134Email: cssintake@schcontario.ca
URL:https://schcontario.ca/event/mood-walk-birkdale-ravine-free-register-now/2025-07-11/
LOCATION:SCHC Active Living Centre\, 3600 Kingston Rd\, Scarborough\, M1M 1R9\, Canada
CATEGORIES:Active Living Centre
END:VEVENT
BEGIN:VEVENT
DTSTART;TZID=America/Toronto:20250711T120000
DTEND;TZID=America/Toronto:20250711T130000
DTSTAMP:20260421T110108
CREATED:20250311T184327Z
LAST-MODIFIED:20250311T184332Z
UID:10022524-1752235200-1752238800@schcontario.ca
SUMMARY:Mobile Health Unit - Gordonridge
DESCRIPTION:The Mobile Health Unit provides Harm Reduction supplies and health information for residents in their community making information and supplies as accessible as possible.  When supplies allow we have clothing\, hygiene supplies and snacks. Residents can learn about and get connected to programs and services like Hep C screening\, Mental health and other social and health services. \n\n\n\nLearn more https://schcontario.ca/programs/community-partner-initiatives/mobile-health-van/
URL:https://schcontario.ca/event/mobile-health-unit-gordonridge/2025-07-11/
LOCATION:40 Gordonridge Place\, 40 Gordonridge Place\, Toronto\, Ontario\, M1K 4H8\, Canada
CATEGORIES:Health and Well-Being
ATTACH;FMTTYPE=image/png:https://schcontario.ca/wp-content/uploads/2025/03/MHU-.png
END:VEVENT
BEGIN:VEVENT
DTSTART;TZID=America/Toronto:20250711T130000
DTEND;TZID=America/Toronto:20250711T150000
DTSTAMP:20260421T110108
CREATED:20241106T193913Z
LAST-MODIFIED:20241106T193916Z
UID:10021297-1752238800-1752246000@schcontario.ca
SUMMARY:Latin Line Dancing
DESCRIPTION:Description: \n\n\n\nLearn Latin line dancing \n\n\n\nEligibility: \n\n\n\nAdults and seniors \n\n\n\nContact Info:  \n\n\n\nEmail hubadmin@schcontario.ca or 416-642-9445 Ext. 7555 to register \n\n\n\nFree
URL:https://schcontario.ca/event/latin-line-dancing-14/2025-07-11/
LOCATION:The Hub – Mid Scarborough\, 2660 Eglinton Ave East\, Scarborough\, Ontario\, M1K 2S3\, Canada
CATEGORIES:Hub Mid Scarborough
ORGANIZER;CN="The Hub Mid-Scarborough":MAILTO:hubadmin@schcontario.ca 
END:VEVENT
BEGIN:VEVENT
DTSTART;TZID=America/Toronto:20250711T140000
DTEND;TZID=America/Toronto:20250711T160000
DTSTAMP:20260421T110108
CREATED:20250702T205805Z
LAST-MODIFIED:20250702T205807Z
UID:10054171-1752242400-1752249600@schcontario.ca
SUMMARY:Kindergarten Readiness
DESCRIPTION:For children entering Junior Kindergarten September 2025 \n\n\n\nParent Caregiver workshop by Strides Toronto \n\n\n\n\nSnacks provided\n\n\n\nEvery child receives free books & $25 gift card\n\n\n\n\n\n\n\nChildminding offered\n\n\n\nParents & Caregivers involved in workshop group in separate space presented by Abiona Centre (Kuumba Project\, StridesTorontoSiblings welcome
URL:https://schcontario.ca/event/kindergarten-readiness-3/
LOCATION:EarlyON Child and Family Centre\, 4110 Lawrence Avenue East\, Scarborough\, Ontario\, M1E 2S2\, Canada
CATEGORIES:EarlyON Child and Family Centre
ORGANIZER;CN="SCHC EarlyON":MAILTO:earlyon@schcontario.ca 
END:VEVENT
BEGIN:VEVENT
DTSTART;TZID=America/Toronto:20250712T003000
DTEND;TZID=America/Toronto:20250712T143000
DTSTAMP:20260421T110108
CREATED:20250506T164050Z
LAST-MODIFIED:20250801T162532Z
UID:10023050-1752280200-1752330600@schcontario.ca
SUMMARY:Vasantham Addiction Group 2
DESCRIPTION:Registration is required for this event. Please contact the organizer.  \n\n\n\nDescription: \n\n\n\nCounselling and support to Tamil men with substance use and gambling problems \n\n\n\nEligibility: \n\n\n\nTamil speaking adult males \n\n\n\nContact Info: \n\n\n\nEmail info@vasantham.ca or call 416-847-4172 – Paid program
URL:https://schcontario.ca/event/vasantham-addiction-group-2-2/2025-07-12/
LOCATION:The Hub – Mid Scarborough\, 2660 Eglinton Ave East\, Scarborough\, Ontario\, M1K 2S3\, Canada
CATEGORIES:Hub Mid Scarborough
ORGANIZER;CN="The Hub Mid-Scarborough":MAILTO:hubadmin@schcontario.ca 
END:VEVENT
BEGIN:VEVENT
DTSTART;TZID=America/Toronto:20250712T100000
DTEND;TZID=America/Toronto:20250712T120000
DTSTAMP:20260421T110108
CREATED:20250506T164314Z
LAST-MODIFIED:20250801T162349Z
UID:10023015-1752314400-1752321600@schcontario.ca
SUMMARY:Vasantham Addiction Group 1
DESCRIPTION:Registration is required for this event. Please contact the organizer. \n\n\n\nDescription: \n\n\n\nCounselling and support to Tamil men with substance use and gambling problems \n\n\n\nEligibility: \n\n\n\nTamil speaking adult males \n\n\n\nContact Info: \n\n\n\nEmail info@vasantham.ca or call 416-847-4172
URL:https://schcontario.ca/event/vasantham-addiction-group-1-2/2025-07-12/
LOCATION:The Hub – Mid Scarborough\, 2660 Eglinton Ave East\, Scarborough\, Ontario\, M1K 2S3\, Canada
CATEGORIES:Hub Mid Scarborough
ORGANIZER;CN="The Hub Mid-Scarborough":MAILTO:hubadmin@schcontario.ca 
END:VEVENT
BEGIN:VEVENT
DTSTART;TZID=America/Toronto:20250712T103000
DTEND;TZID=America/Toronto:20250712T123000
DTSTAMP:20260421T110108
CREATED:20250506T155424Z
LAST-MODIFIED:20250506T155428Z
UID:10023097-1752316200-1752323400@schcontario.ca
SUMMARY:Free Monthly Repair Cafe
DESCRIPTION:We repair appliances\, clothes\, computers\, bikes & more.  \n\n\n\nAny questions or want to get involved? email us at scarbenvasc@gmail.com  \n\n\n\nor call The Hub: 416-642-9445 ext 7555
URL:https://schcontario.ca/event/free-monthly-repair-cafe/2025-07-12/
LOCATION:The Hub – Mid Scarborough\, 2660 Eglinton Ave East\, Scarborough\, Ontario\, M1K 2S3\, Canada
CATEGORIES:Hub Mid Scarborough
ORGANIZER;CN="The Hub Mid-Scarborough":MAILTO:hubadmin@schcontario.ca 
END:VEVENT
BEGIN:VEVENT
DTSTART;TZID=UTC:20250712T130000
DTEND;TZID=UTC:20250712T150000
DTSTAMP:20260421T110108
CREATED:20230207T024019Z
LAST-MODIFIED:20250731T204241Z
UID:10022727-1752325200-1752332400@schcontario.ca
SUMMARY:Latin Line Dancing
DESCRIPTION:Registration is required for this program.  See contact info for registration information. \n\n\n\nDescription:  \n\n\n\nLearn Latin line dancing \n\n\n\nEligibility: \n\n\n\nAdults and seniors \n\n\n\nContact Info:  \n\n\n\nEmail hubadmin@schcontario.ca  or 416-642-9445 Ext. 7555 to register
URL:https://schcontario.ca/event/latin-line-dancing/2025-07-12/
LOCATION:The Hub – Mid Scarborough\, 2660 Eglinton Ave East\, Scarborough\, Ontario\, M1K 2S3\, Canada
CATEGORIES:Hub Mid Scarborough
ORGANIZER;CN="The Hub Mid-Scarborough":MAILTO:hubadmin@schcontario.ca 
END:VEVENT
BEGIN:VEVENT
DTSTART;TZID=UTC:20250714T080000
DTEND;TZID=UTC:20250714T170000
DTSTAMP:20260421T110108
CREATED:20230906T185058Z
LAST-MODIFIED:20230906T185101Z
UID:10016040-1752480000-1752512400@schcontario.ca
SUMMARY:Art Class (In-Person)
DESCRIPTION:Please contact our Client Intake Registration Team for more details or to register.Tel: 416-847-4134Email: cssintake@schcontario.ca
URL:https://schcontario.ca/event/art-class-in-person/2025-07-14/
LOCATION:SCHC Active Living Centre\, 3600 Kingston Rd\, Scarborough\, M1M 1R9\, Canada
CATEGORIES:Active Living Centre
END:VEVENT
END:VCALENDAR