BEGIN:VCALENDAR
VERSION:2.0
PRODID:-//Scarborough Centre for Healthy Communities - ECPv6.15.20//NONSGML v1.0//EN
CALSCALE:GREGORIAN
METHOD:PUBLISH
X-ORIGINAL-URL:https://schcontario.ca
X-WR-CALDESC:Events for Scarborough Centre for Healthy Communities
REFRESH-INTERVAL;VALUE=DURATION:PT1H
X-Robots-Tag:noindex
X-PUBLISHED-TTL:PT1H
BEGIN:VTIMEZONE
TZID:UTC
BEGIN:STANDARD
TZOFFSETFROM:+0000
TZOFFSETTO:+0000
TZNAME:UTC
DTSTART:20240101T000000
END:STANDARD
END:VTIMEZONE
BEGIN:VEVENT
DTSTART;TZID=UTC:20250529T140000
DTEND;TZID=UTC:20250529T163000
DTSTAMP:20260419T175758
CREATED:20230418T194531Z
LAST-MODIFIED:20250523T152954Z
UID:10026017-1748527200-1748536200@schcontario.ca
SUMMARY:Food Bank
DESCRIPTION:Drop in program\, registration or appointment is not required. \n\n\n\nDescription:  \n\n\n\nIndividuals and families experiencing food insecurity can access food support from our food bank on a weekly basis. Individuals can expect to receive 1-2 days of food and can select items based on their preference.  \n\n\n\nPlease arrive no later than 4:15 pm.  \n\n\n\nEligibility: \n\n\n\nAll are welcome \n\n\n\nContact Info:  \n\n\n\nEmail Foodbank@schcontario.ca  or call (416) 847-4147 for further information
URL:https://schcontario.ca/event/food-bank-2/2025-05-29/
LOCATION:4100 Lawrence Avenue East\, 4100 Lawrence Avenue East\, Scarborough\, Ontario\, M1E 2R9\, Canada
CATEGORIES:Food Bank and Meals
END:VEVENT
BEGIN:VEVENT
DTSTART;TZID=UTC:20250529T140000
DTEND;TZID=UTC:20250529T163000
DTSTAMP:20260419T175758
CREATED:20230418T194531Z
LAST-MODIFIED:20250523T172939Z
UID:10028805-1748527200-1748536200@schcontario.ca
SUMMARY:Food Bank
DESCRIPTION:Drop in program\, registration or appointment is not required. \n\n\n\nDescription:  \n\n\n\nIndividuals and families experiencing food insecurity can access food support from our food bank on a weekly basis. Individuals can expect to receive 1-2 days of food and can select items based on their preference.  \n\n\n\nPlease arrive no later than 4:15 pm.  \n\n\n\nEligibility: \n\n\n\nAll are welcome \n\n\n\nContact Info:  \n\n\n\nEmail Foodbank@schcontario.ca  or call (416) 847-4147 for further information
URL:https://schcontario.ca/event/food-bank-2/2025-05-29/
LOCATION:4100 Lawrence Avenue East\, 4100 Lawrence Avenue East\, Scarborough\, Ontario\, M1E 2R9\, Canada
CATEGORIES:Food Bank and Meals
END:VEVENT
BEGIN:VEVENT
DTSTART;TZID=UTC:20250529T140000
DTEND;TZID=UTC:20250529T163000
DTSTAMP:20260419T175758
CREATED:20230418T194531Z
LAST-MODIFIED:20250523T175854Z
UID:10031192-1748527200-1748536200@schcontario.ca
SUMMARY:Food Bank
DESCRIPTION:Drop in program\, registration or appointment is not required. \n\n\n\nDescription:  \n\n\n\nIndividuals and families experiencing food insecurity can access food support from our food bank on a weekly basis. Individuals can expect to receive 1-2 days of food and can select items based on their preference.  \n\n\n\nPlease arrive no later than 4:15 pm.  \n\n\n\nEligibility: \n\n\n\nAll are welcome \n\n\n\nContact Info:  \n\n\n\nEmail Foodbank@schcontario.ca  or call (416) 847-4147 for further information
URL:https://schcontario.ca/event/food-bank-2/2025-05-29/
LOCATION:4100 Lawrence Avenue East\, 4100 Lawrence Avenue East\, Scarborough\, Ontario\, M1E 2R9\, Canada
CATEGORIES:Food Bank and Meals
END:VEVENT
BEGIN:VEVENT
DTSTART;TZID=UTC:20250529T140000
DTEND;TZID=UTC:20250529T163000
DTSTAMP:20260419T175758
CREATED:20230418T194531Z
LAST-MODIFIED:20250523T182849Z
UID:10050744-1748527200-1748536200@schcontario.ca
SUMMARY:Food Bank
DESCRIPTION:Drop in program\, registration or appointment is not required. \n\n\n\nDescription:  \n\n\n\nIndividuals and families experiencing food insecurity can access food support from our food bank on a weekly basis. Individuals can expect to receive 1-2 days of food and can select items based on their preference.  \n\n\n\nPlease arrive no later than 4:15 pm.  \n\n\n\nEligibility: \n\n\n\nAll are welcome \n\n\n\nContact Info:  \n\n\n\nEmail Foodbank@schcontario.ca  or call (416) 847-4147 for further information
URL:https://schcontario.ca/event/food-bank-2/2025-05-29/
LOCATION:4100 Lawrence Avenue East\, 4100 Lawrence Avenue East\, Scarborough\, Ontario\, M1E 2R9\, Canada
CATEGORIES:Food Bank and Meals
END:VEVENT
BEGIN:VEVENT
DTSTART;TZID=UTC:20250529T140000
DTEND;TZID=UTC:20250529T163000
DTSTAMP:20260419T175758
CREATED:20230418T194531Z
LAST-MODIFIED:20250523T175903Z
UID:10033860-1748527200-1748536200@schcontario.ca
SUMMARY:Food Bank
DESCRIPTION:Drop in program\, registration or appointment is not required. \n\n\n\nDescription:  \n\n\n\nIndividuals and families experiencing food insecurity can access food support from our food bank on a weekly basis. Individuals can expect to receive 1-2 days of food and can select items based on their preference.  \n\n\n\nPlease arrive no later than 4:15 pm.  \n\n\n\nEligibility: \n\n\n\nAll are welcome \n\n\n\nContact Info:  \n\n\n\nEmail Foodbank@schcontario.ca  or call (416) 847-4147 for further information
URL:https://schcontario.ca/event/food-bank-2/2025-05-29/
LOCATION:4100 Lawrence Avenue East\, 4100 Lawrence Avenue East\, Scarborough\, Ontario\, M1E 2R9\, Canada
CATEGORIES:Food Bank and Meals
END:VEVENT
BEGIN:VEVENT
DTSTART;TZID=UTC:20250529T140000
DTEND;TZID=UTC:20250529T163000
DTSTAMP:20260419T175758
CREATED:20230418T194531Z
LAST-MODIFIED:20250623T202755Z
UID:10052900-1748527200-1748536200@schcontario.ca
SUMMARY:Food Bank
DESCRIPTION:Drop in program\, registration or appointment is not required. \n\n\n\nDescription:  \n\n\n\nIndividuals and families experiencing food insecurity can access food support from our food bank on a weekly basis. Individuals can expect to receive 1-2 days of food and can select items based on their preference.  \n\n\n\nPlease arrive no later than 4:15 pm.  \n\n\n\nEligibility: \n\n\n\nAll are welcome \n\n\n\nContact Info:  \n\n\n\nEmail Foodbank@schcontario.ca  or call (416) 847-4147 for further information
URL:https://schcontario.ca/event/food-bank-2/2025-05-29/
LOCATION:4100 Lawrence Avenue East\, 4100 Lawrence Avenue East\, Scarborough\, Ontario\, M1E 2R9\, Canada
CATEGORIES:Food Bank and Meals
END:VEVENT
BEGIN:VEVENT
DTSTART;TZID=UTC:20250529T140000
DTEND;TZID=UTC:20250529T163000
DTSTAMP:20260419T175758
CREATED:20230418T194531Z
LAST-MODIFIED:20250523T175912Z
UID:10036785-1748527200-1748536200@schcontario.ca
SUMMARY:Food Bank
DESCRIPTION:Drop in program\, registration or appointment is not required. \n\n\n\nDescription:  \n\n\n\nIndividuals and families experiencing food insecurity can access food support from our food bank on a weekly basis. Individuals can expect to receive 1-2 days of food and can select items based on their preference.  \n\n\n\nPlease arrive no later than 4:15 pm.  \n\n\n\nEligibility: \n\n\n\nAll are welcome \n\n\n\nContact Info:  \n\n\n\nEmail Foodbank@schcontario.ca  or call (416) 847-4147 for further information
URL:https://schcontario.ca/event/food-bank-2/2025-05-29/
LOCATION:4100 Lawrence Avenue East\, 4100 Lawrence Avenue East\, Scarborough\, Ontario\, M1E 2R9\, Canada
CATEGORIES:Food Bank and Meals
END:VEVENT
BEGIN:VEVENT
DTSTART;TZID=UTC:20250529T140000
DTEND;TZID=UTC:20250529T163000
DTSTAMP:20260419T175758
CREATED:20230418T194531Z
LAST-MODIFIED:20250523T182819Z
UID:10047104-1748527200-1748536200@schcontario.ca
SUMMARY:Food Bank
DESCRIPTION:Drop in program\, registration or appointment is not required. \n\n\n\nDescription:  \n\n\n\nIndividuals and families experiencing food insecurity can access food support from our food bank on a weekly basis. Individuals can expect to receive 1-2 days of food and can select items based on their preference.  \n\n\n\nPlease arrive no later than 4:15 pm.  \n\n\n\nEligibility: \n\n\n\nAll are welcome \n\n\n\nContact Info:  \n\n\n\nEmail Foodbank@schcontario.ca  or call (416) 847-4147 for further information
URL:https://schcontario.ca/event/food-bank-2/2025-05-29/
LOCATION:4100 Lawrence Avenue East\, 4100 Lawrence Avenue East\, Scarborough\, Ontario\, M1E 2R9\, Canada
CATEGORIES:Food Bank and Meals
END:VEVENT
BEGIN:VEVENT
DTSTART;TZID=UTC:20250529T140000
DTEND;TZID=UTC:20250529T163000
DTSTAMP:20260419T175758
CREATED:20230418T194531Z
LAST-MODIFIED:20250523T182753Z
UID:10039317-1748527200-1748536200@schcontario.ca
SUMMARY:Food Bank
DESCRIPTION:Drop in program\, registration or appointment is not required. \n\n\n\nDescription:  \n\n\n\nIndividuals and families experiencing food insecurity can access food support from our food bank on a weekly basis. Individuals can expect to receive 1-2 days of food and can select items based on their preference.  \n\n\n\nPlease arrive no later than 4:15 pm.  \n\n\n\nEligibility: \n\n\n\nAll are welcome \n\n\n\nContact Info:  \n\n\n\nEmail Foodbank@schcontario.ca  or call (416) 847-4147 for further information
URL:https://schcontario.ca/event/food-bank-2/2025-05-29/
LOCATION:4100 Lawrence Avenue East\, 4100 Lawrence Avenue East\, Scarborough\, Ontario\, M1E 2R9\, Canada
CATEGORIES:Food Bank and Meals
END:VEVENT
BEGIN:VEVENT
DTSTART;TZID=UTC:20250529T140000
DTEND;TZID=UTC:20250529T163000
DTSTAMP:20260419T175758
CREATED:20230418T194531Z
LAST-MODIFIED:20250523T150043Z
UID:10023884-1748527200-1748536200@schcontario.ca
SUMMARY:Food Bank
DESCRIPTION:Drop in program\, registration or appointment is not required. \n\n\n\nDescription:  \n\n\n\nIndividuals and families experiencing food insecurity can access food support from our food bank on a weekly basis. Individuals can expect to receive 1-2 days of food and can select items based on their preference.  \n\n\n\nPlease arrive no later than 4:15 pm.  \n\n\n\nEligibility: \n\n\n\nAll are welcome \n\n\n\nContact Info:  \n\n\n\nEmail Foodbank@schcontario.ca  or call (416) 847-4147 for further information
URL:https://schcontario.ca/event/food-bank-2/2025-05-29/
LOCATION:4100 Lawrence Avenue East\, 4100 Lawrence Avenue East\, Scarborough\, Ontario\, M1E 2R9\, Canada
CATEGORIES:Food Bank and Meals
END:VEVENT
BEGIN:VEVENT
DTSTART;TZID=UTC:20250529T140000
DTEND;TZID=UTC:20250529T163000
DTSTAMP:20260419T175758
CREATED:20230418T194531Z
LAST-MODIFIED:20250523T175906Z
UID:10035495-1748527200-1748536200@schcontario.ca
SUMMARY:Food Bank
DESCRIPTION:Drop in program\, registration or appointment is not required. \n\n\n\nDescription:  \n\n\n\nIndividuals and families experiencing food insecurity can access food support from our food bank on a weekly basis. Individuals can expect to receive 1-2 days of food and can select items based on their preference.  \n\n\n\nPlease arrive no later than 4:15 pm.  \n\n\n\nEligibility: \n\n\n\nAll are welcome \n\n\n\nContact Info:  \n\n\n\nEmail Foodbank@schcontario.ca  or call (416) 847-4147 for further information
URL:https://schcontario.ca/event/food-bank-2/2025-05-29/
LOCATION:4100 Lawrence Avenue East\, 4100 Lawrence Avenue East\, Scarborough\, Ontario\, M1E 2R9\, Canada
CATEGORIES:Food Bank and Meals
END:VEVENT
BEGIN:VEVENT
DTSTART;TZID=UTC:20250529T140000
DTEND;TZID=UTC:20250529T163000
DTSTAMP:20260419T175758
CREATED:20230418T194531Z
LAST-MODIFIED:20250523T182816Z
UID:10045950-1748527200-1748536200@schcontario.ca
SUMMARY:Food Bank
DESCRIPTION:Drop in program\, registration or appointment is not required. \n\n\n\nDescription:  \n\n\n\nIndividuals and families experiencing food insecurity can access food support from our food bank on a weekly basis. Individuals can expect to receive 1-2 days of food and can select items based on their preference.  \n\n\n\nPlease arrive no later than 4:15 pm.  \n\n\n\nEligibility: \n\n\n\nAll are welcome \n\n\n\nContact Info:  \n\n\n\nEmail Foodbank@schcontario.ca  or call (416) 847-4147 for further information
URL:https://schcontario.ca/event/food-bank-2/2025-05-29/
LOCATION:4100 Lawrence Avenue East\, 4100 Lawrence Avenue East\, Scarborough\, Ontario\, M1E 2R9\, Canada
CATEGORIES:Food Bank and Meals
END:VEVENT
BEGIN:VEVENT
DTSTART;TZID=UTC:20250529T140000
DTEND;TZID=UTC:20250529T163000
DTSTAMP:20260419T175758
CREATED:20230418T194531Z
LAST-MODIFIED:20250523T175917Z
UID:10038059-1748527200-1748536200@schcontario.ca
SUMMARY:Food Bank
DESCRIPTION:Drop in program\, registration or appointment is not required. \n\n\n\nDescription:  \n\n\n\nIndividuals and families experiencing food insecurity can access food support from our food bank on a weekly basis. Individuals can expect to receive 1-2 days of food and can select items based on their preference.  \n\n\n\nPlease arrive no later than 4:15 pm.  \n\n\n\nEligibility: \n\n\n\nAll are welcome \n\n\n\nContact Info:  \n\n\n\nEmail Foodbank@schcontario.ca  or call (416) 847-4147 for further information
URL:https://schcontario.ca/event/food-bank-2/2025-05-29/
LOCATION:4100 Lawrence Avenue East\, 4100 Lawrence Avenue East\, Scarborough\, Ontario\, M1E 2R9\, Canada
CATEGORIES:Food Bank and Meals
END:VEVENT
BEGIN:VEVENT
DTSTART;TZID=UTC:20250529T140000
DTEND;TZID=UTC:20250529T163000
DTSTAMP:20260419T175758
CREATED:20230418T194531Z
LAST-MODIFIED:20250523T182826Z
UID:10048242-1748527200-1748536200@schcontario.ca
SUMMARY:Food Bank
DESCRIPTION:Drop in program\, registration or appointment is not required. \n\n\n\nDescription:  \n\n\n\nIndividuals and families experiencing food insecurity can access food support from our food bank on a weekly basis. Individuals can expect to receive 1-2 days of food and can select items based on their preference.  \n\n\n\nPlease arrive no later than 4:15 pm.  \n\n\n\nEligibility: \n\n\n\nAll are welcome \n\n\n\nContact Info:  \n\n\n\nEmail Foodbank@schcontario.ca  or call (416) 847-4147 for further information
URL:https://schcontario.ca/event/food-bank-2/2025-05-29/
LOCATION:4100 Lawrence Avenue East\, 4100 Lawrence Avenue East\, Scarborough\, Ontario\, M1E 2R9\, Canada
CATEGORIES:Food Bank and Meals
END:VEVENT
BEGIN:VEVENT
DTSTART;TZID=UTC:20250529T140000
DTEND;TZID=UTC:20250529T163000
DTSTAMP:20260419T175758
CREATED:20230418T194531Z
LAST-MODIFIED:20250523T182805Z
UID:10053733-1748527200-1748536200@schcontario.ca
SUMMARY:Food Bank
DESCRIPTION:Drop in program\, registration or appointment is not required. \n\n\n\nDescription:  \n\n\n\nIndividuals and families experiencing food insecurity can access food support from our food bank on a weekly basis. Individuals can expect to receive 1-2 days of food and can select items based on their preference.  \n\n\n\nPlease arrive no later than 4:15 pm.  \n\n\n\nEligibility: \n\n\n\nAll are welcome \n\n\n\nContact Info:  \n\n\n\nEmail Foodbank@schcontario.ca  or call (416) 847-4147 for further information
URL:https://schcontario.ca/event/food-bank-2/2025-05-29/
LOCATION:4100 Lawrence Avenue East\, 4100 Lawrence Avenue East\, Scarborough\, Ontario\, M1E 2R9\, Canada
CATEGORIES:Food Bank and Meals
END:VEVENT
BEGIN:VEVENT
DTSTART;TZID=UTC:20250529T140000
DTEND;TZID=UTC:20250529T163000
DTSTAMP:20260419T175758
CREATED:20230418T194531Z
LAST-MODIFIED:20250523T182759Z
UID:10040867-1748527200-1748536200@schcontario.ca
SUMMARY:Food Bank
DESCRIPTION:Drop in program\, registration or appointment is not required. \n\n\n\nDescription:  \n\n\n\nIndividuals and families experiencing food insecurity can access food support from our food bank on a weekly basis. Individuals can expect to receive 1-2 days of food and can select items based on their preference.  \n\n\n\nPlease arrive no later than 4:15 pm.  \n\n\n\nEligibility: \n\n\n\nAll are welcome \n\n\n\nContact Info:  \n\n\n\nEmail Foodbank@schcontario.ca  or call (416) 847-4147 for further information
URL:https://schcontario.ca/event/food-bank-2/2025-05-29/
LOCATION:4100 Lawrence Avenue East\, 4100 Lawrence Avenue East\, Scarborough\, Ontario\, M1E 2R9\, Canada
CATEGORIES:Food Bank and Meals
END:VEVENT
BEGIN:VEVENT
DTSTART;TZID=UTC:20250529T140000
DTEND;TZID=UTC:20250529T163000
DTSTAMP:20260419T175758
CREATED:20230418T194531Z
LAST-MODIFIED:20250523T182808Z
UID:10043594-1748527200-1748536200@schcontario.ca
SUMMARY:Food Bank
DESCRIPTION:Drop in program\, registration or appointment is not required. \n\n\n\nDescription:  \n\n\n\nIndividuals and families experiencing food insecurity can access food support from our food bank on a weekly basis. Individuals can expect to receive 1-2 days of food and can select items based on their preference.  \n\n\n\nPlease arrive no later than 4:15 pm.  \n\n\n\nEligibility: \n\n\n\nAll are welcome \n\n\n\nContact Info:  \n\n\n\nEmail Foodbank@schcontario.ca  or call (416) 847-4147 for further information
URL:https://schcontario.ca/event/food-bank-2/2025-05-29/
LOCATION:4100 Lawrence Avenue East\, 4100 Lawrence Avenue East\, Scarborough\, Ontario\, M1E 2R9\, Canada
CATEGORIES:Food Bank and Meals
END:VEVENT
BEGIN:VEVENT
DTSTART;TZID=UTC:20250529T140000
DTEND;TZID=UTC:20250529T163000
DTSTAMP:20260419T175758
CREATED:20230418T194531Z
LAST-MODIFIED:20250523T182806Z
UID:10042392-1748527200-1748536200@schcontario.ca
SUMMARY:Food Bank
DESCRIPTION:Drop in program\, registration or appointment is not required. \n\n\n\nDescription:  \n\n\n\nIndividuals and families experiencing food insecurity can access food support from our food bank on a weekly basis. Individuals can expect to receive 1-2 days of food and can select items based on their preference.  \n\n\n\nPlease arrive no later than 4:15 pm.  \n\n\n\nEligibility: \n\n\n\nAll are welcome \n\n\n\nContact Info:  \n\n\n\nEmail Foodbank@schcontario.ca  or call (416) 847-4147 for further information
URL:https://schcontario.ca/event/food-bank-2/2025-05-29/
LOCATION:4100 Lawrence Avenue East\, 4100 Lawrence Avenue East\, Scarborough\, Ontario\, M1E 2R9\, Canada
CATEGORIES:Food Bank and Meals
END:VEVENT
BEGIN:VEVENT
DTSTART;TZID=UTC:20250529T140000
DTEND;TZID=UTC:20250529T163000
DTSTAMP:20260419T175758
CREATED:20230418T194531Z
LAST-MODIFIED:20250523T182813Z
UID:10044780-1748527200-1748536200@schcontario.ca
SUMMARY:Food Bank
DESCRIPTION:Drop in program\, registration or appointment is not required. \n\n\n\nDescription:  \n\n\n\nIndividuals and families experiencing food insecurity can access food support from our food bank on a weekly basis. Individuals can expect to receive 1-2 days of food and can select items based on their preference.  \n\n\n\nPlease arrive no later than 4:15 pm.  \n\n\n\nEligibility: \n\n\n\nAll are welcome \n\n\n\nContact Info:  \n\n\n\nEmail Foodbank@schcontario.ca  or call (416) 847-4147 for further information
URL:https://schcontario.ca/event/food-bank-2/2025-05-29/
LOCATION:4100 Lawrence Avenue East\, 4100 Lawrence Avenue East\, Scarborough\, Ontario\, M1E 2R9\, Canada
CATEGORIES:Food Bank and Meals
END:VEVENT
BEGIN:VEVENT
DTSTART;TZID=UTC:20250529T140000
DTEND;TZID=UTC:20250529T163000
DTSTAMP:20260419T175758
CREATED:20230418T194531Z
LAST-MODIFIED:20250523T172929Z
UID:10027070-1748527200-1748536200@schcontario.ca
SUMMARY:Food Bank
DESCRIPTION:Drop in program\, registration or appointment is not required. \n\n\n\nDescription:  \n\n\n\nIndividuals and families experiencing food insecurity can access food support from our food bank on a weekly basis. Individuals can expect to receive 1-2 days of food and can select items based on their preference.  \n\n\n\nPlease arrive no later than 4:15 pm.  \n\n\n\nEligibility: \n\n\n\nAll are welcome \n\n\n\nContact Info:  \n\n\n\nEmail Foodbank@schcontario.ca  or call (416) 847-4147 for further information
URL:https://schcontario.ca/event/food-bank-2/2025-05-29/
LOCATION:4100 Lawrence Avenue East\, 4100 Lawrence Avenue East\, Scarborough\, Ontario\, M1E 2R9\, Canada
CATEGORIES:Food Bank and Meals
END:VEVENT
BEGIN:VEVENT
DTSTART;TZID=UTC:20250529T140000
DTEND;TZID=UTC:20250529T163000
DTSTAMP:20260419T175758
CREATED:20230418T194531Z
LAST-MODIFIED:20250523T182833Z
UID:10049364-1748527200-1748536200@schcontario.ca
SUMMARY:Food Bank
DESCRIPTION:Drop in program\, registration or appointment is not required. \n\n\n\nDescription:  \n\n\n\nIndividuals and families experiencing food insecurity can access food support from our food bank on a weekly basis. Individuals can expect to receive 1-2 days of food and can select items based on their preference.  \n\n\n\nPlease arrive no later than 4:15 pm.  \n\n\n\nEligibility: \n\n\n\nAll are welcome \n\n\n\nContact Info:  \n\n\n\nEmail Foodbank@schcontario.ca  or call (416) 847-4147 for further information
URL:https://schcontario.ca/event/food-bank-2/2025-05-29/
LOCATION:4100 Lawrence Avenue East\, 4100 Lawrence Avenue East\, Scarborough\, Ontario\, M1E 2R9\, Canada
CATEGORIES:Food Bank and Meals
END:VEVENT
BEGIN:VEVENT
DTSTART;TZID=UTC:20250529T140000
DTEND;TZID=UTC:20250529T163000
DTSTAMP:20260419T175758
CREATED:20230418T194531Z
LAST-MODIFIED:20250523T172949Z
UID:10029834-1748527200-1748536200@schcontario.ca
SUMMARY:Food Bank
DESCRIPTION:Drop in program\, registration or appointment is not required. \n\n\n\nDescription:  \n\n\n\nIndividuals and families experiencing food insecurity can access food support from our food bank on a weekly basis. Individuals can expect to receive 1-2 days of food and can select items based on their preference.  \n\n\n\nPlease arrive no later than 4:15 pm.  \n\n\n\nEligibility: \n\n\n\nAll are welcome \n\n\n\nContact Info:  \n\n\n\nEmail Foodbank@schcontario.ca  or call (416) 847-4147 for further information
URL:https://schcontario.ca/event/food-bank-2/2025-05-29/
LOCATION:4100 Lawrence Avenue East\, 4100 Lawrence Avenue East\, Scarborough\, Ontario\, M1E 2R9\, Canada
CATEGORIES:Food Bank and Meals
END:VEVENT
BEGIN:VEVENT
DTSTART;TZID=UTC:20250529T140000
DTEND;TZID=UTC:20250529T163000
DTSTAMP:20260419T175758
CREATED:20230418T194531Z
LAST-MODIFIED:20250523T175859Z
UID:10032200-1748527200-1748536200@schcontario.ca
SUMMARY:Food Bank
DESCRIPTION:Drop in program\, registration or appointment is not required. \n\n\n\nDescription:  \n\n\n\nIndividuals and families experiencing food insecurity can access food support from our food bank on a weekly basis. Individuals can expect to receive 1-2 days of food and can select items based on their preference.  \n\n\n\nPlease arrive no later than 4:15 pm.  \n\n\n\nEligibility: \n\n\n\nAll are welcome \n\n\n\nContact Info:  \n\n\n\nEmail Foodbank@schcontario.ca  or call (416) 847-4147 for further information
URL:https://schcontario.ca/event/food-bank-2/2025-05-29/
LOCATION:4100 Lawrence Avenue East\, 4100 Lawrence Avenue East\, Scarborough\, Ontario\, M1E 2R9\, Canada
CATEGORIES:Food Bank and Meals
END:VEVENT
BEGIN:VEVENT
DTSTART;TZID=UTC:20250529T140000
DTEND;TZID=UTC:20250529T163000
DTSTAMP:20260419T175758
CREATED:20230418T194531Z
LAST-MODIFIED:20250523T182856Z
UID:10051560-1748527200-1748536200@schcontario.ca
SUMMARY:Food Bank
DESCRIPTION:Drop in program\, registration or appointment is not required. \n\n\n\nDescription:  \n\n\n\nIndividuals and families experiencing food insecurity can access food support from our food bank on a weekly basis. Individuals can expect to receive 1-2 days of food and can select items based on their preference.  \n\n\n\nPlease arrive no later than 4:15 pm.  \n\n\n\nEligibility: \n\n\n\nAll are welcome \n\n\n\nContact Info:  \n\n\n\nEmail Foodbank@schcontario.ca  or call (416) 847-4147 for further information
URL:https://schcontario.ca/event/food-bank-2/2025-05-29/
LOCATION:4100 Lawrence Avenue East\, 4100 Lawrence Avenue East\, Scarborough\, Ontario\, M1E 2R9\, Canada
CATEGORIES:Food Bank and Meals
END:VEVENT
BEGIN:VEVENT
DTSTART;TZID=UTC:20250529T140000
DTEND;TZID=UTC:20250529T163000
DTSTAMP:20260419T175758
CREATED:20230418T194531Z
LAST-MODIFIED:20250523T175904Z
UID:10034844-1748527200-1748536200@schcontario.ca
SUMMARY:Food Bank
DESCRIPTION:Drop in program\, registration or appointment is not required. \n\n\n\nDescription:  \n\n\n\nIndividuals and families experiencing food insecurity can access food support from our food bank on a weekly basis. Individuals can expect to receive 1-2 days of food and can select items based on their preference.  \n\n\n\nPlease arrive no later than 4:15 pm.  \n\n\n\nEligibility: \n\n\n\nAll are welcome \n\n\n\nContact Info:  \n\n\n\nEmail Foodbank@schcontario.ca  or call (416) 847-4147 for further information
URL:https://schcontario.ca/event/food-bank-2/2025-05-29/
LOCATION:4100 Lawrence Avenue East\, 4100 Lawrence Avenue East\, Scarborough\, Ontario\, M1E 2R9\, Canada
CATEGORIES:Food Bank and Meals
END:VEVENT
BEGIN:VEVENT
DTSTART;TZID=UTC:20250529T140000
DTEND;TZID=UTC:20250529T163000
DTSTAMP:20260419T175758
CREATED:20230418T194531Z
LAST-MODIFIED:20250523T152954Z
UID:10025664-1748527200-1748536200@schcontario.ca
SUMMARY:Food Bank
DESCRIPTION:Drop in program\, registration or appointment is not required. \n\n\n\nDescription:  \n\n\n\nIndividuals and families experiencing food insecurity can access food support from our food bank on a weekly basis. Individuals can expect to receive 1-2 days of food and can select items based on their preference.  \n\n\n\nPlease arrive no later than 4:15 pm.  \n\n\n\nEligibility: \n\n\n\nAll are welcome \n\n\n\nContact Info:  \n\n\n\nEmail Foodbank@schcontario.ca  or call (416) 847-4147 for further information
URL:https://schcontario.ca/event/food-bank-2/2025-05-29/
LOCATION:4100 Lawrence Avenue East\, 4100 Lawrence Avenue East\, Scarborough\, Ontario\, M1E 2R9\, Canada
CATEGORIES:Food Bank and Meals
END:VEVENT
BEGIN:VEVENT
DTSTART;TZID=UTC:20250529T140000
DTEND;TZID=UTC:20250529T163000
DTSTAMP:20260419T175758
CREATED:20230418T194531Z
LAST-MODIFIED:20250523T172938Z
UID:10028460-1748527200-1748536200@schcontario.ca
SUMMARY:Food Bank
DESCRIPTION:Drop in program\, registration or appointment is not required. \n\n\n\nDescription:  \n\n\n\nIndividuals and families experiencing food insecurity can access food support from our food bank on a weekly basis. Individuals can expect to receive 1-2 days of food and can select items based on their preference.  \n\n\n\nPlease arrive no later than 4:15 pm.  \n\n\n\nEligibility: \n\n\n\nAll are welcome \n\n\n\nContact Info:  \n\n\n\nEmail Foodbank@schcontario.ca  or call (416) 847-4147 for further information
URL:https://schcontario.ca/event/food-bank-2/2025-05-29/
LOCATION:4100 Lawrence Avenue East\, 4100 Lawrence Avenue East\, Scarborough\, Ontario\, M1E 2R9\, Canada
CATEGORIES:Food Bank and Meals
END:VEVENT
BEGIN:VEVENT
DTSTART;TZID=UTC:20250529T140000
DTEND;TZID=UTC:20250529T163000
DTSTAMP:20260419T175758
CREATED:20230418T194531Z
LAST-MODIFIED:20250523T175853Z
UID:10030854-1748527200-1748536200@schcontario.ca
SUMMARY:Food Bank
DESCRIPTION:Drop in program\, registration or appointment is not required. \n\n\n\nDescription:  \n\n\n\nIndividuals and families experiencing food insecurity can access food support from our food bank on a weekly basis. Individuals can expect to receive 1-2 days of food and can select items based on their preference.  \n\n\n\nPlease arrive no later than 4:15 pm.  \n\n\n\nEligibility: \n\n\n\nAll are welcome \n\n\n\nContact Info:  \n\n\n\nEmail Foodbank@schcontario.ca  or call (416) 847-4147 for further information
URL:https://schcontario.ca/event/food-bank-2/2025-05-29/
LOCATION:4100 Lawrence Avenue East\, 4100 Lawrence Avenue East\, Scarborough\, Ontario\, M1E 2R9\, Canada
CATEGORIES:Food Bank and Meals
END:VEVENT
BEGIN:VEVENT
DTSTART;TZID=UTC:20250529T140000
DTEND;TZID=UTC:20250529T163000
DTSTAMP:20260419T175758
CREATED:20230418T194531Z
LAST-MODIFIED:20250523T182847Z
UID:10050470-1748527200-1748536200@schcontario.ca
SUMMARY:Food Bank
DESCRIPTION:Drop in program\, registration or appointment is not required. \n\n\n\nDescription:  \n\n\n\nIndividuals and families experiencing food insecurity can access food support from our food bank on a weekly basis. Individuals can expect to receive 1-2 days of food and can select items based on their preference.  \n\n\n\nPlease arrive no later than 4:15 pm.  \n\n\n\nEligibility: \n\n\n\nAll are welcome \n\n\n\nContact Info:  \n\n\n\nEmail Foodbank@schcontario.ca  or call (416) 847-4147 for further information
URL:https://schcontario.ca/event/food-bank-2/2025-05-29/
LOCATION:4100 Lawrence Avenue East\, 4100 Lawrence Avenue East\, Scarborough\, Ontario\, M1E 2R9\, Canada
CATEGORIES:Food Bank and Meals
END:VEVENT
BEGIN:VEVENT
DTSTART;TZID=UTC:20250529T140000
DTEND;TZID=UTC:20250529T163000
DTSTAMP:20260419T175758
CREATED:20230418T194531Z
LAST-MODIFIED:20250523T175902Z
UID:10033530-1748527200-1748536200@schcontario.ca
SUMMARY:Food Bank
DESCRIPTION:Drop in program\, registration or appointment is not required. \n\n\n\nDescription:  \n\n\n\nIndividuals and families experiencing food insecurity can access food support from our food bank on a weekly basis. Individuals can expect to receive 1-2 days of food and can select items based on their preference.  \n\n\n\nPlease arrive no later than 4:15 pm.  \n\n\n\nEligibility: \n\n\n\nAll are welcome \n\n\n\nContact Info:  \n\n\n\nEmail Foodbank@schcontario.ca  or call (416) 847-4147 for further information
URL:https://schcontario.ca/event/food-bank-2/2025-05-29/
LOCATION:4100 Lawrence Avenue East\, 4100 Lawrence Avenue East\, Scarborough\, Ontario\, M1E 2R9\, Canada
CATEGORIES:Food Bank and Meals
END:VEVENT
END:VCALENDAR