BEGIN:VCALENDAR
VERSION:2.0
PRODID:-//Scarborough Centre for Healthy Communities - ECPv6.15.20//NONSGML v1.0//EN
CALSCALE:GREGORIAN
METHOD:PUBLISH
X-WR-CALNAME:Scarborough Centre for Healthy Communities
X-ORIGINAL-URL:https://schcontario.ca
X-WR-CALDESC:Events for Scarborough Centre for Healthy Communities
REFRESH-INTERVAL;VALUE=DURATION:PT1H
X-Robots-Tag:noindex
X-PUBLISHED-TTL:PT1H
BEGIN:VTIMEZONE
TZID:UTC
BEGIN:STANDARD
TZOFFSETFROM:+0000
TZOFFSETTO:+0000
TZNAME:UTC
DTSTART:20240101T000000
END:STANDARD
END:VTIMEZONE
BEGIN:VEVENT
DTSTART;TZID=UTC:20250501T140000
DTEND;TZID=UTC:20250501T163000
DTSTAMP:20260421T145720
CREATED:20230418T194531Z
LAST-MODIFIED:20250523T175902Z
UID:10033195-1746108000-1746117000@schcontario.ca
SUMMARY:Food Bank
DESCRIPTION:Drop in program\, registration or appointment is not required. \n\n\n\nDescription:  \n\n\n\nIndividuals and families experiencing food insecurity can access food support from our food bank on a weekly basis. Individuals can expect to receive 1-2 days of food and can select items based on their preference.  \n\n\n\nPlease arrive no later than 4:15 pm.  \n\n\n\nEligibility: \n\n\n\nAll are welcome \n\n\n\nContact Info:  \n\n\n\nEmail Foodbank@schcontario.ca  or call (416) 847-4147 for further information
URL:https://schcontario.ca/event/food-bank-2/2025-05-01/
LOCATION:4100 Lawrence Avenue East\, 4100 Lawrence Avenue East\, Scarborough\, Ontario\, M1E 2R9\, Canada
CATEGORIES:Food Bank and Meals
END:VEVENT
BEGIN:VEVENT
DTSTART;TZID=UTC:20250501T140000
DTEND;TZID=UTC:20250501T163000
DTSTAMP:20260421T145720
CREATED:20230418T194531Z
LAST-MODIFIED:20250523T175857Z
UID:10031861-1746108000-1746117000@schcontario.ca
SUMMARY:Food Bank
DESCRIPTION:Drop in program\, registration or appointment is not required. \n\n\n\nDescription:  \n\n\n\nIndividuals and families experiencing food insecurity can access food support from our food bank on a weekly basis. Individuals can expect to receive 1-2 days of food and can select items based on their preference.  \n\n\n\nPlease arrive no later than 4:15 pm.  \n\n\n\nEligibility: \n\n\n\nAll are welcome \n\n\n\nContact Info:  \n\n\n\nEmail Foodbank@schcontario.ca  or call (416) 847-4147 for further information
URL:https://schcontario.ca/event/food-bank-2/2025-05-01/
LOCATION:4100 Lawrence Avenue East\, 4100 Lawrence Avenue East\, Scarborough\, Ontario\, M1E 2R9\, Canada
CATEGORIES:Food Bank and Meals
END:VEVENT
BEGIN:VEVENT
DTSTART;TZID=UTC:20250501T140000
DTEND;TZID=UTC:20250501T163000
DTSTAMP:20260421T145720
CREATED:20230418T194531Z
LAST-MODIFIED:20250523T175904Z
UID:10034513-1746108000-1746117000@schcontario.ca
SUMMARY:Food Bank
DESCRIPTION:Drop in program\, registration or appointment is not required. \n\n\n\nDescription:  \n\n\n\nIndividuals and families experiencing food insecurity can access food support from our food bank on a weekly basis. Individuals can expect to receive 1-2 days of food and can select items based on their preference.  \n\n\n\nPlease arrive no later than 4:15 pm.  \n\n\n\nEligibility: \n\n\n\nAll are welcome \n\n\n\nContact Info:  \n\n\n\nEmail Foodbank@schcontario.ca  or call (416) 847-4147 for further information
URL:https://schcontario.ca/event/food-bank-2/2025-05-01/
LOCATION:4100 Lawrence Avenue East\, 4100 Lawrence Avenue East\, Scarborough\, Ontario\, M1E 2R9\, Canada
CATEGORIES:Food Bank and Meals
END:VEVENT
BEGIN:VEVENT
DTSTART;TZID=UTC:20250501T140000
DTEND;TZID=UTC:20250501T163000
DTSTAMP:20260421T145720
CREATED:20230418T194531Z
LAST-MODIFIED:20250523T182833Z
UID:10049360-1746108000-1746117000@schcontario.ca
SUMMARY:Food Bank
DESCRIPTION:Drop in program\, registration or appointment is not required. \n\n\n\nDescription:  \n\n\n\nIndividuals and families experiencing food insecurity can access food support from our food bank on a weekly basis. Individuals can expect to receive 1-2 days of food and can select items based on their preference.  \n\n\n\nPlease arrive no later than 4:15 pm.  \n\n\n\nEligibility: \n\n\n\nAll are welcome \n\n\n\nContact Info:  \n\n\n\nEmail Foodbank@schcontario.ca  or call (416) 847-4147 for further information
URL:https://schcontario.ca/event/food-bank-2/2025-05-01/
LOCATION:4100 Lawrence Avenue East\, 4100 Lawrence Avenue East\, Scarborough\, Ontario\, M1E 2R9\, Canada
CATEGORIES:Food Bank and Meals
END:VEVENT
BEGIN:VEVENT
DTSTART;TZID=UTC:20250501T140000
DTEND;TZID=UTC:20250501T163000
DTSTAMP:20260421T145720
CREATED:20230418T194531Z
LAST-MODIFIED:20250523T182856Z
UID:10051556-1746108000-1746117000@schcontario.ca
SUMMARY:Food Bank
DESCRIPTION:Drop in program\, registration or appointment is not required. \n\n\n\nDescription:  \n\n\n\nIndividuals and families experiencing food insecurity can access food support from our food bank on a weekly basis. Individuals can expect to receive 1-2 days of food and can select items based on their preference.  \n\n\n\nPlease arrive no later than 4:15 pm.  \n\n\n\nEligibility: \n\n\n\nAll are welcome \n\n\n\nContact Info:  \n\n\n\nEmail Foodbank@schcontario.ca  or call (416) 847-4147 for further information
URL:https://schcontario.ca/event/food-bank-2/2025-05-01/
LOCATION:4100 Lawrence Avenue East\, 4100 Lawrence Avenue East\, Scarborough\, Ontario\, M1E 2R9\, Canada
CATEGORIES:Food Bank and Meals
END:VEVENT
BEGIN:VEVENT
DTSTART;TZID=UTC:20250501T140000
DTEND;TZID=UTC:20250501T163000
DTSTAMP:20260421T145720
CREATED:20230418T194531Z
LAST-MODIFIED:20250523T152953Z
UID:10024951-1746108000-1746117000@schcontario.ca
SUMMARY:Food Bank
DESCRIPTION:Drop in program\, registration or appointment is not required. \n\n\n\nDescription:  \n\n\n\nIndividuals and families experiencing food insecurity can access food support from our food bank on a weekly basis. Individuals can expect to receive 1-2 days of food and can select items based on their preference.  \n\n\n\nPlease arrive no later than 4:15 pm.  \n\n\n\nEligibility: \n\n\n\nAll are welcome \n\n\n\nContact Info:  \n\n\n\nEmail Foodbank@schcontario.ca  or call (416) 847-4147 for further information
URL:https://schcontario.ca/event/food-bank-2/2025-05-01/
LOCATION:4100 Lawrence Avenue East\, 4100 Lawrence Avenue East\, Scarborough\, Ontario\, M1E 2R9\, Canada
CATEGORIES:Food Bank and Meals
END:VEVENT
BEGIN:VEVENT
DTSTART;TZID=UTC:20250501T140000
DTEND;TZID=UTC:20250501T163000
DTSTAMP:20260421T145720
CREATED:20230418T194531Z
LAST-MODIFIED:20250523T172934Z
UID:10027763-1746108000-1746117000@schcontario.ca
SUMMARY:Food Bank
DESCRIPTION:Drop in program\, registration or appointment is not required. \n\n\n\nDescription:  \n\n\n\nIndividuals and families experiencing food insecurity can access food support from our food bank on a weekly basis. Individuals can expect to receive 1-2 days of food and can select items based on their preference.  \n\n\n\nPlease arrive no later than 4:15 pm.  \n\n\n\nEligibility: \n\n\n\nAll are welcome \n\n\n\nContact Info:  \n\n\n\nEmail Foodbank@schcontario.ca  or call (416) 847-4147 for further information
URL:https://schcontario.ca/event/food-bank-2/2025-05-01/
LOCATION:4100 Lawrence Avenue East\, 4100 Lawrence Avenue East\, Scarborough\, Ontario\, M1E 2R9\, Canada
CATEGORIES:Food Bank and Meals
END:VEVENT
BEGIN:VEVENT
DTSTART;TZID=UTC:20250501T140000
DTEND;TZID=UTC:20250501T163000
DTSTAMP:20260421T145720
CREATED:20230418T194531Z
LAST-MODIFIED:20230515T172934Z
UID:10012977-1746108000-1746117000@schcontario.ca
SUMMARY:Food Bank
DESCRIPTION:Drop in program\, registration or appointment is not required. \n\n\n\nDescription:  \n\n\n\nIndividuals and families experiencing food insecurity can access food support from our food bank on a weekly basis. Individuals can expect to receive 1-2 days of food and can select items based on their preference.  \n\n\n\nPlease arrive no later than 4:15 pm.  \n\n\n\nEligibility: \n\n\n\nAll are welcome \n\n\n\nContact Info:  \n\n\n\nEmail Foodbank@schcontario.ca  or call (416) 847-4147 for further information
URL:https://schcontario.ca/event/food-bank-2/2025-05-01/
LOCATION:4100 Lawrence Avenue East\, 4100 Lawrence Avenue East\, Scarborough\, Ontario\, M1E 2R9\, Canada
CATEGORIES:Food Bank and Meals
END:VEVENT
BEGIN:VEVENT
DTSTART;TZID=UTC:20250501T140000
DTEND;TZID=UTC:20250501T163000
DTSTAMP:20260421T145720
CREATED:20230418T194531Z
LAST-MODIFIED:20250523T182847Z
UID:10050466-1746108000-1746117000@schcontario.ca
SUMMARY:Food Bank
DESCRIPTION:Drop in program\, registration or appointment is not required. \n\n\n\nDescription:  \n\n\n\nIndividuals and families experiencing food insecurity can access food support from our food bank on a weekly basis. Individuals can expect to receive 1-2 days of food and can select items based on their preference.  \n\n\n\nPlease arrive no later than 4:15 pm.  \n\n\n\nEligibility: \n\n\n\nAll are welcome \n\n\n\nContact Info:  \n\n\n\nEmail Foodbank@schcontario.ca  or call (416) 847-4147 for further information
URL:https://schcontario.ca/event/food-bank-2/2025-05-01/
LOCATION:4100 Lawrence Avenue East\, 4100 Lawrence Avenue East\, Scarborough\, Ontario\, M1E 2R9\, Canada
CATEGORIES:Food Bank and Meals
END:VEVENT
BEGIN:VEVENT
DTSTART;TZID=UTC:20250501T140000
DTEND;TZID=UTC:20250501T163000
DTSTAMP:20260421T145720
CREATED:20230418T194531Z
LAST-MODIFIED:20250623T202754Z
UID:10052630-1746108000-1746117000@schcontario.ca
SUMMARY:Food Bank
DESCRIPTION:Drop in program\, registration or appointment is not required. \n\n\n\nDescription:  \n\n\n\nIndividuals and families experiencing food insecurity can access food support from our food bank on a weekly basis. Individuals can expect to receive 1-2 days of food and can select items based on their preference.  \n\n\n\nPlease arrive no later than 4:15 pm.  \n\n\n\nEligibility: \n\n\n\nAll are welcome \n\n\n\nContact Info:  \n\n\n\nEmail Foodbank@schcontario.ca  or call (416) 847-4147 for further information
URL:https://schcontario.ca/event/food-bank-2/2025-05-01/
LOCATION:4100 Lawrence Avenue East\, 4100 Lawrence Avenue East\, Scarborough\, Ontario\, M1E 2R9\, Canada
CATEGORIES:Food Bank and Meals
END:VEVENT
BEGIN:VEVENT
DTSTART;TZID=UTC:20250501T140000
DTEND;TZID=UTC:20250501T163000
DTSTAMP:20260421T145720
CREATED:20230418T194531Z
LAST-MODIFIED:20250523T152955Z
UID:10026365-1746108000-1746117000@schcontario.ca
SUMMARY:Food Bank
DESCRIPTION:Drop in program\, registration or appointment is not required. \n\n\n\nDescription:  \n\n\n\nIndividuals and families experiencing food insecurity can access food support from our food bank on a weekly basis. Individuals can expect to receive 1-2 days of food and can select items based on their preference.  \n\n\n\nPlease arrive no later than 4:15 pm.  \n\n\n\nEligibility: \n\n\n\nAll are welcome \n\n\n\nContact Info:  \n\n\n\nEmail Foodbank@schcontario.ca  or call (416) 847-4147 for further information
URL:https://schcontario.ca/event/food-bank-2/2025-05-01/
LOCATION:4100 Lawrence Avenue East\, 4100 Lawrence Avenue East\, Scarborough\, Ontario\, M1E 2R9\, Canada
CATEGORIES:Food Bank and Meals
END:VEVENT
BEGIN:VEVENT
DTSTART;TZID=UTC:20250501T140000
DTEND;TZID=UTC:20250501T163000
DTSTAMP:20260421T145720
CREATED:20230418T194531Z
LAST-MODIFIED:20250523T172943Z
UID:10029145-1746108000-1746117000@schcontario.ca
SUMMARY:Food Bank
DESCRIPTION:Drop in program\, registration or appointment is not required. \n\n\n\nDescription:  \n\n\n\nIndividuals and families experiencing food insecurity can access food support from our food bank on a weekly basis. Individuals can expect to receive 1-2 days of food and can select items based on their preference.  \n\n\n\nPlease arrive no later than 4:15 pm.  \n\n\n\nEligibility: \n\n\n\nAll are welcome \n\n\n\nContact Info:  \n\n\n\nEmail Foodbank@schcontario.ca  or call (416) 847-4147 for further information
URL:https://schcontario.ca/event/food-bank-2/2025-05-01/
LOCATION:4100 Lawrence Avenue East\, 4100 Lawrence Avenue East\, Scarborough\, Ontario\, M1E 2R9\, Canada
CATEGORIES:Food Bank and Meals
END:VEVENT
BEGIN:VEVENT
DTSTART;TZID=UTC:20250501T140000
DTEND;TZID=UTC:20250501T163000
DTSTAMP:20260421T145720
CREATED:20230418T194531Z
LAST-MODIFIED:20250523T182812Z
UID:10044481-1746108000-1746117000@schcontario.ca
SUMMARY:Food Bank
DESCRIPTION:Drop in program\, registration or appointment is not required. \n\n\n\nDescription:  \n\n\n\nIndividuals and families experiencing food insecurity can access food support from our food bank on a weekly basis. Individuals can expect to receive 1-2 days of food and can select items based on their preference.  \n\n\n\nPlease arrive no later than 4:15 pm.  \n\n\n\nEligibility: \n\n\n\nAll are welcome \n\n\n\nContact Info:  \n\n\n\nEmail Foodbank@schcontario.ca  or call (416) 847-4147 for further information
URL:https://schcontario.ca/event/food-bank-2/2025-05-01/
LOCATION:4100 Lawrence Avenue East\, 4100 Lawrence Avenue East\, Scarborough\, Ontario\, M1E 2R9\, Canada
CATEGORIES:Food Bank and Meals
END:VEVENT
BEGIN:VEVENT
DTSTART;TZID=UTC:20250501T140000
DTEND;TZID=UTC:20250501T163000
DTSTAMP:20260421T145720
CREATED:20230418T194531Z
LAST-MODIFIED:20250523T182818Z
UID:10046813-1746108000-1746117000@schcontario.ca
SUMMARY:Food Bank
DESCRIPTION:Drop in program\, registration or appointment is not required. \n\n\n\nDescription:  \n\n\n\nIndividuals and families experiencing food insecurity can access food support from our food bank on a weekly basis. Individuals can expect to receive 1-2 days of food and can select items based on their preference.  \n\n\n\nPlease arrive no later than 4:15 pm.  \n\n\n\nEligibility: \n\n\n\nAll are welcome \n\n\n\nContact Info:  \n\n\n\nEmail Foodbank@schcontario.ca  or call (416) 847-4147 for further information
URL:https://schcontario.ca/event/food-bank-2/2025-05-01/
LOCATION:4100 Lawrence Avenue East\, 4100 Lawrence Avenue East\, Scarborough\, Ontario\, M1E 2R9\, Canada
CATEGORIES:Food Bank and Meals
END:VEVENT
BEGIN:VEVENT
DTSTART;TZID=UTC:20250501T140000
DTEND;TZID=UTC:20250501T163000
DTSTAMP:20260421T145720
CREATED:20230418T194531Z
LAST-MODIFIED:20250523T175914Z
UID:10037101-1746108000-1746117000@schcontario.ca
SUMMARY:Food Bank
DESCRIPTION:Drop in program\, registration or appointment is not required. \n\n\n\nDescription:  \n\n\n\nIndividuals and families experiencing food insecurity can access food support from our food bank on a weekly basis. Individuals can expect to receive 1-2 days of food and can select items based on their preference.  \n\n\n\nPlease arrive no later than 4:15 pm.  \n\n\n\nEligibility: \n\n\n\nAll are welcome \n\n\n\nContact Info:  \n\n\n\nEmail Foodbank@schcontario.ca  or call (416) 847-4147 for further information
URL:https://schcontario.ca/event/food-bank-2/2025-05-01/
LOCATION:4100 Lawrence Avenue East\, 4100 Lawrence Avenue East\, Scarborough\, Ontario\, M1E 2R9\, Canada
CATEGORIES:Food Bank and Meals
END:VEVENT
BEGIN:VEVENT
DTSTART;TZID=UTC:20250501T140000
DTEND;TZID=UTC:20250501T163000
DTSTAMP:20260421T145720
CREATED:20230418T194531Z
LAST-MODIFIED:20250523T182815Z
UID:10045655-1746108000-1746117000@schcontario.ca
SUMMARY:Food Bank
DESCRIPTION:Drop in program\, registration or appointment is not required. \n\n\n\nDescription:  \n\n\n\nIndividuals and families experiencing food insecurity can access food support from our food bank on a weekly basis. Individuals can expect to receive 1-2 days of food and can select items based on their preference.  \n\n\n\nPlease arrive no later than 4:15 pm.  \n\n\n\nEligibility: \n\n\n\nAll are welcome \n\n\n\nContact Info:  \n\n\n\nEmail Foodbank@schcontario.ca  or call (416) 847-4147 for further information
URL:https://schcontario.ca/event/food-bank-2/2025-05-01/
LOCATION:4100 Lawrence Avenue East\, 4100 Lawrence Avenue East\, Scarborough\, Ontario\, M1E 2R9\, Canada
CATEGORIES:Food Bank and Meals
END:VEVENT
BEGIN:VEVENT
DTSTART;TZID=UTC:20250501T140000
DTEND;TZID=UTC:20250501T163000
DTSTAMP:20260421T145720
CREATED:20230418T194531Z
LAST-MODIFIED:20250523T182824Z
UID:10047955-1746108000-1746117000@schcontario.ca
SUMMARY:Food Bank
DESCRIPTION:Drop in program\, registration or appointment is not required. \n\n\n\nDescription:  \n\n\n\nIndividuals and families experiencing food insecurity can access food support from our food bank on a weekly basis. Individuals can expect to receive 1-2 days of food and can select items based on their preference.  \n\n\n\nPlease arrive no later than 4:15 pm.  \n\n\n\nEligibility: \n\n\n\nAll are welcome \n\n\n\nContact Info:  \n\n\n\nEmail Foodbank@schcontario.ca  or call (416) 847-4147 for further information
URL:https://schcontario.ca/event/food-bank-2/2025-05-01/
LOCATION:4100 Lawrence Avenue East\, 4100 Lawrence Avenue East\, Scarborough\, Ontario\, M1E 2R9\, Canada
CATEGORIES:Food Bank and Meals
END:VEVENT
BEGIN:VEVENT
DTSTART;TZID=UTC:20250501T140000
DTEND;TZID=UTC:20250501T163000
DTSTAMP:20260421T145720
CREATED:20230418T194531Z
LAST-MODIFIED:20250523T175907Z
UID:10035815-1746108000-1746117000@schcontario.ca
SUMMARY:Food Bank
DESCRIPTION:Drop in program\, registration or appointment is not required. \n\n\n\nDescription:  \n\n\n\nIndividuals and families experiencing food insecurity can access food support from our food bank on a weekly basis. Individuals can expect to receive 1-2 days of food and can select items based on their preference.  \n\n\n\nPlease arrive no later than 4:15 pm.  \n\n\n\nEligibility: \n\n\n\nAll are welcome \n\n\n\nContact Info:  \n\n\n\nEmail Foodbank@schcontario.ca  or call (416) 847-4147 for further information
URL:https://schcontario.ca/event/food-bank-2/2025-05-01/
LOCATION:4100 Lawrence Avenue East\, 4100 Lawrence Avenue East\, Scarborough\, Ontario\, M1E 2R9\, Canada
CATEGORIES:Food Bank and Meals
END:VEVENT
BEGIN:VEVENT
DTSTART;TZID=UTC:20250501T140000
DTEND;TZID=UTC:20250501T163000
DTSTAMP:20260421T145720
CREATED:20230418T194531Z
LAST-MODIFIED:20250523T175918Z
UID:10038371-1746108000-1746117000@schcontario.ca
SUMMARY:Food Bank
DESCRIPTION:Drop in program\, registration or appointment is not required. \n\n\n\nDescription:  \n\n\n\nIndividuals and families experiencing food insecurity can access food support from our food bank on a weekly basis. Individuals can expect to receive 1-2 days of food and can select items based on their preference.  \n\n\n\nPlease arrive no later than 4:15 pm.  \n\n\n\nEligibility: \n\n\n\nAll are welcome \n\n\n\nContact Info:  \n\n\n\nEmail Foodbank@schcontario.ca  or call (416) 847-4147 for further information
URL:https://schcontario.ca/event/food-bank-2/2025-05-01/
LOCATION:4100 Lawrence Avenue East\, 4100 Lawrence Avenue East\, Scarborough\, Ontario\, M1E 2R9\, Canada
CATEGORIES:Food Bank and Meals
END:VEVENT
BEGIN:VEVENT
DTSTART;TZID=UTC:20250501T140000
DTEND;TZID=UTC:20250501T163000
DTSTAMP:20260421T145720
CREATED:20230418T194531Z
LAST-MODIFIED:20250523T182759Z
UID:10040863-1746108000-1746117000@schcontario.ca
SUMMARY:Food Bank
DESCRIPTION:Drop in program\, registration or appointment is not required. \n\n\n\nDescription:  \n\n\n\nIndividuals and families experiencing food insecurity can access food support from our food bank on a weekly basis. Individuals can expect to receive 1-2 days of food and can select items based on their preference.  \n\n\n\nPlease arrive no later than 4:15 pm.  \n\n\n\nEligibility: \n\n\n\nAll are welcome \n\n\n\nContact Info:  \n\n\n\nEmail Foodbank@schcontario.ca  or call (416) 847-4147 for further information
URL:https://schcontario.ca/event/food-bank-2/2025-05-01/
LOCATION:4100 Lawrence Avenue East\, 4100 Lawrence Avenue East\, Scarborough\, Ontario\, M1E 2R9\, Canada
CATEGORIES:Food Bank and Meals
END:VEVENT
BEGIN:VEVENT
DTSTART;TZID=UTC:20250501T140000
DTEND;TZID=UTC:20250501T163000
DTSTAMP:20260421T145720
CREATED:20230418T194531Z
LAST-MODIFIED:20250523T182808Z
UID:10043590-1746108000-1746117000@schcontario.ca
SUMMARY:Food Bank
DESCRIPTION:Drop in program\, registration or appointment is not required. \n\n\n\nDescription:  \n\n\n\nIndividuals and families experiencing food insecurity can access food support from our food bank on a weekly basis. Individuals can expect to receive 1-2 days of food and can select items based on their preference.  \n\n\n\nPlease arrive no later than 4:15 pm.  \n\n\n\nEligibility: \n\n\n\nAll are welcome \n\n\n\nContact Info:  \n\n\n\nEmail Foodbank@schcontario.ca  or call (416) 847-4147 for further information
URL:https://schcontario.ca/event/food-bank-2/2025-05-01/
LOCATION:4100 Lawrence Avenue East\, 4100 Lawrence Avenue East\, Scarborough\, Ontario\, M1E 2R9\, Canada
CATEGORIES:Food Bank and Meals
END:VEVENT
BEGIN:VEVENT
DTSTART;TZID=UTC:20250501T140000
DTEND;TZID=UTC:20250501T163000
DTSTAMP:20260421T145720
CREATED:20230418T194531Z
LAST-MODIFIED:20250523T150048Z
UID:10024238-1746108000-1746117000@schcontario.ca
SUMMARY:Food Bank
DESCRIPTION:Drop in program\, registration or appointment is not required. \n\n\n\nDescription:  \n\n\n\nIndividuals and families experiencing food insecurity can access food support from our food bank on a weekly basis. Individuals can expect to receive 1-2 days of food and can select items based on their preference.  \n\n\n\nPlease arrive no later than 4:15 pm.  \n\n\n\nEligibility: \n\n\n\nAll are welcome \n\n\n\nContact Info:  \n\n\n\nEmail Foodbank@schcontario.ca  or call (416) 847-4147 for further information
URL:https://schcontario.ca/event/food-bank-2/2025-05-01/
LOCATION:4100 Lawrence Avenue East\, 4100 Lawrence Avenue East\, Scarborough\, Ontario\, M1E 2R9\, Canada
CATEGORIES:Food Bank and Meals
END:VEVENT
BEGIN:VEVENT
DTSTART;TZID=UTC:20250501T140000
DTEND;TZID=UTC:20250501T163000
DTSTAMP:20260421T145720
CREATED:20230418T194531Z
LAST-MODIFIED:20250523T182754Z
UID:10039625-1746108000-1746117000@schcontario.ca
SUMMARY:Food Bank
DESCRIPTION:Drop in program\, registration or appointment is not required. \n\n\n\nDescription:  \n\n\n\nIndividuals and families experiencing food insecurity can access food support from our food bank on a weekly basis. Individuals can expect to receive 1-2 days of food and can select items based on their preference.  \n\n\n\nPlease arrive no later than 4:15 pm.  \n\n\n\nEligibility: \n\n\n\nAll are welcome \n\n\n\nContact Info:  \n\n\n\nEmail Foodbank@schcontario.ca  or call (416) 847-4147 for further information
URL:https://schcontario.ca/event/food-bank-2/2025-05-01/
LOCATION:4100 Lawrence Avenue East\, 4100 Lawrence Avenue East\, Scarborough\, Ontario\, M1E 2R9\, Canada
CATEGORIES:Food Bank and Meals
END:VEVENT
BEGIN:VEVENT
DTSTART;TZID=UTC:20250501T140000
DTEND;TZID=UTC:20250501T163000
DTSTAMP:20260421T145720
CREATED:20230418T194531Z
LAST-MODIFIED:20250523T182806Z
UID:10042388-1746108000-1746117000@schcontario.ca
SUMMARY:Food Bank
DESCRIPTION:Drop in program\, registration or appointment is not required. \n\n\n\nDescription:  \n\n\n\nIndividuals and families experiencing food insecurity can access food support from our food bank on a weekly basis. Individuals can expect to receive 1-2 days of food and can select items based on their preference.  \n\n\n\nPlease arrive no later than 4:15 pm.  \n\n\n\nEligibility: \n\n\n\nAll are welcome \n\n\n\nContact Info:  \n\n\n\nEmail Foodbank@schcontario.ca  or call (416) 847-4147 for further information
URL:https://schcontario.ca/event/food-bank-2/2025-05-01/
LOCATION:4100 Lawrence Avenue East\, 4100 Lawrence Avenue East\, Scarborough\, Ontario\, M1E 2R9\, Canada
CATEGORIES:Food Bank and Meals
END:VEVENT
BEGIN:VEVENT
DTSTART;TZID=UTC:20250501T140000
DTEND;TZID=UTC:20250501T163000
DTSTAMP:20260421T145720
CREATED:20230418T194531Z
LAST-MODIFIED:20250523T175853Z
UID:10030850-1746108000-1746117000@schcontario.ca
SUMMARY:Food Bank
DESCRIPTION:Drop in program\, registration or appointment is not required. \n\n\n\nDescription:  \n\n\n\nIndividuals and families experiencing food insecurity can access food support from our food bank on a weekly basis. Individuals can expect to receive 1-2 days of food and can select items based on their preference.  \n\n\n\nPlease arrive no later than 4:15 pm.  \n\n\n\nEligibility: \n\n\n\nAll are welcome \n\n\n\nContact Info:  \n\n\n\nEmail Foodbank@schcontario.ca  or call (416) 847-4147 for further information
URL:https://schcontario.ca/event/food-bank-2/2025-05-01/
LOCATION:4100 Lawrence Avenue East\, 4100 Lawrence Avenue East\, Scarborough\, Ontario\, M1E 2R9\, Canada
CATEGORIES:Food Bank and Meals
END:VEVENT
BEGIN:VEVENT
DTSTART;TZID=UTC:20250501T140000
DTEND;TZID=UTC:20250501T163000
DTSTAMP:20260421T145720
CREATED:20230418T194531Z
LAST-MODIFIED:20250523T175902Z
UID:10033526-1746108000-1746117000@schcontario.ca
SUMMARY:Food Bank
DESCRIPTION:Drop in program\, registration or appointment is not required. \n\n\n\nDescription:  \n\n\n\nIndividuals and families experiencing food insecurity can access food support from our food bank on a weekly basis. Individuals can expect to receive 1-2 days of food and can select items based on their preference.  \n\n\n\nPlease arrive no later than 4:15 pm.  \n\n\n\nEligibility: \n\n\n\nAll are welcome \n\n\n\nContact Info:  \n\n\n\nEmail Foodbank@schcontario.ca  or call (416) 847-4147 for further information
URL:https://schcontario.ca/event/food-bank-2/2025-05-01/
LOCATION:4100 Lawrence Avenue East\, 4100 Lawrence Avenue East\, Scarborough\, Ontario\, M1E 2R9\, Canada
CATEGORIES:Food Bank and Meals
END:VEVENT
BEGIN:VEVENT
DTSTART;TZID=UTC:20250501T140000
DTEND;TZID=UTC:20250501T163000
DTSTAMP:20260421T145720
CREATED:20230418T194531Z
LAST-MODIFIED:20250523T175859Z
UID:10032196-1746108000-1746117000@schcontario.ca
SUMMARY:Food Bank
DESCRIPTION:Drop in program\, registration or appointment is not required. \n\n\n\nDescription:  \n\n\n\nIndividuals and families experiencing food insecurity can access food support from our food bank on a weekly basis. Individuals can expect to receive 1-2 days of food and can select items based on their preference.  \n\n\n\nPlease arrive no later than 4:15 pm.  \n\n\n\nEligibility: \n\n\n\nAll are welcome \n\n\n\nContact Info:  \n\n\n\nEmail Foodbank@schcontario.ca  or call (416) 847-4147 for further information
URL:https://schcontario.ca/event/food-bank-2/2025-05-01/
LOCATION:4100 Lawrence Avenue East\, 4100 Lawrence Avenue East\, Scarborough\, Ontario\, M1E 2R9\, Canada
CATEGORIES:Food Bank and Meals
END:VEVENT
BEGIN:VEVENT
DTSTART;TZID=UTC:20250501T140000
DTEND;TZID=UTC:20250501T163000
DTSTAMP:20260421T145720
CREATED:20230418T194531Z
LAST-MODIFIED:20250523T172925Z
UID:10026716-1746108000-1746117000@schcontario.ca
SUMMARY:Food Bank
DESCRIPTION:Drop in program\, registration or appointment is not required. \n\n\n\nDescription:  \n\n\n\nIndividuals and families experiencing food insecurity can access food support from our food bank on a weekly basis. Individuals can expect to receive 1-2 days of food and can select items based on their preference.  \n\n\n\nPlease arrive no later than 4:15 pm.  \n\n\n\nEligibility: \n\n\n\nAll are welcome \n\n\n\nContact Info:  \n\n\n\nEmail Foodbank@schcontario.ca  or call (416) 847-4147 for further information
URL:https://schcontario.ca/event/food-bank-2/2025-05-01/
LOCATION:4100 Lawrence Avenue East\, 4100 Lawrence Avenue East\, Scarborough\, Ontario\, M1E 2R9\, Canada
CATEGORIES:Food Bank and Meals
END:VEVENT
BEGIN:VEVENT
DTSTART;TZID=UTC:20250501T140000
DTEND;TZID=UTC:20250501T163000
DTSTAMP:20260421T145720
CREATED:20230418T194531Z
LAST-MODIFIED:20250523T172945Z
UID:10029488-1746108000-1746117000@schcontario.ca
SUMMARY:Food Bank
DESCRIPTION:Drop in program\, registration or appointment is not required. \n\n\n\nDescription:  \n\n\n\nIndividuals and families experiencing food insecurity can access food support from our food bank on a weekly basis. Individuals can expect to receive 1-2 days of food and can select items based on their preference.  \n\n\n\nPlease arrive no later than 4:15 pm.  \n\n\n\nEligibility: \n\n\n\nAll are welcome \n\n\n\nContact Info:  \n\n\n\nEmail Foodbank@schcontario.ca  or call (416) 847-4147 for further information
URL:https://schcontario.ca/event/food-bank-2/2025-05-01/
LOCATION:4100 Lawrence Avenue East\, 4100 Lawrence Avenue East\, Scarborough\, Ontario\, M1E 2R9\, Canada
CATEGORIES:Food Bank and Meals
END:VEVENT
BEGIN:VEVENT
DTSTART;TZID=UTC:20250501T140000
DTEND;TZID=UTC:20250501T163000
DTSTAMP:20260421T145720
CREATED:20230418T194531Z
LAST-MODIFIED:20250523T182837Z
UID:10049638-1746108000-1746117000@schcontario.ca
SUMMARY:Food Bank
DESCRIPTION:Drop in program\, registration or appointment is not required. \n\n\n\nDescription:  \n\n\n\nIndividuals and families experiencing food insecurity can access food support from our food bank on a weekly basis. Individuals can expect to receive 1-2 days of food and can select items based on their preference.  \n\n\n\nPlease arrive no later than 4:15 pm.  \n\n\n\nEligibility: \n\n\n\nAll are welcome \n\n\n\nContact Info:  \n\n\n\nEmail Foodbank@schcontario.ca  or call (416) 847-4147 for further information
URL:https://schcontario.ca/event/food-bank-2/2025-05-01/
LOCATION:4100 Lawrence Avenue East\, 4100 Lawrence Avenue East\, Scarborough\, Ontario\, M1E 2R9\, Canada
CATEGORIES:Food Bank and Meals
END:VEVENT
END:VCALENDAR