BEGIN:VCALENDAR
VERSION:2.0
PRODID:-//Scarborough Centre for Healthy Communities - ECPv6.15.20//NONSGML v1.0//EN
CALSCALE:GREGORIAN
METHOD:PUBLISH
X-ORIGINAL-URL:https://schcontario.ca
X-WR-CALDESC:Events for Scarborough Centre for Healthy Communities
REFRESH-INTERVAL;VALUE=DURATION:PT1H
X-Robots-Tag:noindex
X-PUBLISHED-TTL:PT1H
BEGIN:VTIMEZONE
TZID:UTC
BEGIN:STANDARD
TZOFFSETFROM:+0000
TZOFFSETTO:+0000
TZNAME:UTC
DTSTART:20240101T000000
END:STANDARD
END:VTIMEZONE
BEGIN:VEVENT
DTSTART;TZID=UTC:20250710T140000
DTEND;TZID=UTC:20250710T163000
DTSTAMP:20260421T083934
CREATED:20230418T194531Z
LAST-MODIFIED:20250523T182813Z
UID:10044786-1752156000-1752165000@schcontario.ca
SUMMARY:Food Bank
DESCRIPTION:Drop in program\, registration or appointment is not required. \n\n\n\nDescription:  \n\n\n\nIndividuals and families experiencing food insecurity can access food support from our food bank on a weekly basis. Individuals can expect to receive 1-2 days of food and can select items based on their preference.  \n\n\n\nPlease arrive no later than 4:15 pm.  \n\n\n\nEligibility: \n\n\n\nAll are welcome \n\n\n\nContact Info:  \n\n\n\nEmail Foodbank@schcontario.ca  or call (416) 847-4147 for further information
URL:https://schcontario.ca/event/food-bank-2/2025-07-10/
LOCATION:4100 Lawrence Avenue East\, 4100 Lawrence Avenue East\, Scarborough\, Ontario\, M1E 2R9\, Canada
CATEGORIES:Food Bank and Meals
END:VEVENT
BEGIN:VEVENT
DTSTART;TZID=UTC:20250710T140000
DTEND;TZID=UTC:20250710T163000
DTSTAMP:20260421T083934
CREATED:20230418T194531Z
LAST-MODIFIED:20250523T182856Z
UID:10051566-1752156000-1752165000@schcontario.ca
SUMMARY:Food Bank
DESCRIPTION:Drop in program\, registration or appointment is not required. \n\n\n\nDescription:  \n\n\n\nIndividuals and families experiencing food insecurity can access food support from our food bank on a weekly basis. Individuals can expect to receive 1-2 days of food and can select items based on their preference.  \n\n\n\nPlease arrive no later than 4:15 pm.  \n\n\n\nEligibility: \n\n\n\nAll are welcome \n\n\n\nContact Info:  \n\n\n\nEmail Foodbank@schcontario.ca  or call (416) 847-4147 for further information
URL:https://schcontario.ca/event/food-bank-2/2025-07-10/
LOCATION:4100 Lawrence Avenue East\, 4100 Lawrence Avenue East\, Scarborough\, Ontario\, M1E 2R9\, Canada
CATEGORIES:Food Bank and Meals
END:VEVENT
BEGIN:VEVENT
DTSTART;TZID=UTC:20250710T140000
DTEND;TZID=UTC:20250710T163000
DTSTAMP:20260421T083934
CREATED:20230418T194531Z
LAST-MODIFIED:20250523T182805Z
UID:10053739-1752156000-1752165000@schcontario.ca
SUMMARY:Food Bank
DESCRIPTION:Drop in program\, registration or appointment is not required. \n\n\n\nDescription:  \n\n\n\nIndividuals and families experiencing food insecurity can access food support from our food bank on a weekly basis. Individuals can expect to receive 1-2 days of food and can select items based on their preference.  \n\n\n\nPlease arrive no later than 4:15 pm.  \n\n\n\nEligibility: \n\n\n\nAll are welcome \n\n\n\nContact Info:  \n\n\n\nEmail Foodbank@schcontario.ca  or call (416) 847-4147 for further information
URL:https://schcontario.ca/event/food-bank-2/2025-07-10/
LOCATION:4100 Lawrence Avenue East\, 4100 Lawrence Avenue East\, Scarborough\, Ontario\, M1E 2R9\, Canada
CATEGORIES:Food Bank and Meals
END:VEVENT
BEGIN:VEVENT
DTSTART;TZID=UTC:20250710T140000
DTEND;TZID=UTC:20250710T163000
DTSTAMP:20260421T083934
CREATED:20230418T194531Z
LAST-MODIFIED:20250523T182807Z
UID:10042700-1752156000-1752165000@schcontario.ca
SUMMARY:Food Bank
DESCRIPTION:Drop in program\, registration or appointment is not required. \n\n\n\nDescription:  \n\n\n\nIndividuals and families experiencing food insecurity can access food support from our food bank on a weekly basis. Individuals can expect to receive 1-2 days of food and can select items based on their preference.  \n\n\n\nPlease arrive no later than 4:15 pm.  \n\n\n\nEligibility: \n\n\n\nAll are welcome \n\n\n\nContact Info:  \n\n\n\nEmail Foodbank@schcontario.ca  or call (416) 847-4147 for further information
URL:https://schcontario.ca/event/food-bank-2/2025-07-10/
LOCATION:4100 Lawrence Avenue East\, 4100 Lawrence Avenue East\, Scarborough\, Ontario\, M1E 2R9\, Canada
CATEGORIES:Food Bank and Meals
END:VEVENT
BEGIN:VEVENT
DTSTART;TZID=UTC:20250710T140000
DTEND;TZID=UTC:20250710T163000
DTSTAMP:20260421T083934
CREATED:20230418T194531Z
LAST-MODIFIED:20250523T182814Z
UID:10045080-1752156000-1752165000@schcontario.ca
SUMMARY:Food Bank
DESCRIPTION:Drop in program\, registration or appointment is not required. \n\n\n\nDescription:  \n\n\n\nIndividuals and families experiencing food insecurity can access food support from our food bank on a weekly basis. Individuals can expect to receive 1-2 days of food and can select items based on their preference.  \n\n\n\nPlease arrive no later than 4:15 pm.  \n\n\n\nEligibility: \n\n\n\nAll are welcome \n\n\n\nContact Info:  \n\n\n\nEmail Foodbank@schcontario.ca  or call (416) 847-4147 for further information
URL:https://schcontario.ca/event/food-bank-2/2025-07-10/
LOCATION:4100 Lawrence Avenue East\, 4100 Lawrence Avenue East\, Scarborough\, Ontario\, M1E 2R9\, Canada
CATEGORIES:Food Bank and Meals
END:VEVENT
BEGIN:VEVENT
DTSTART;TZID=UTC:20250710T140000
DTEND;TZID=UTC:20250710T163000
DTSTAMP:20260421T083934
CREATED:20230418T194531Z
LAST-MODIFIED:20250523T182858Z
UID:10051836-1752156000-1752165000@schcontario.ca
SUMMARY:Food Bank
DESCRIPTION:Drop in program\, registration or appointment is not required. \n\n\n\nDescription:  \n\n\n\nIndividuals and families experiencing food insecurity can access food support from our food bank on a weekly basis. Individuals can expect to receive 1-2 days of food and can select items based on their preference.  \n\n\n\nPlease arrive no later than 4:15 pm.  \n\n\n\nEligibility: \n\n\n\nAll are welcome \n\n\n\nContact Info:  \n\n\n\nEmail Foodbank@schcontario.ca  or call (416) 847-4147 for further information
URL:https://schcontario.ca/event/food-bank-2/2025-07-10/
LOCATION:4100 Lawrence Avenue East\, 4100 Lawrence Avenue East\, Scarborough\, Ontario\, M1E 2R9\, Canada
CATEGORIES:Food Bank and Meals
END:VEVENT
BEGIN:VEVENT
DTSTART;TZID=UTC:20250710T140000
DTEND;TZID=UTC:20250710T163000
DTSTAMP:20260421T083934
CREATED:20230418T194531Z
LAST-MODIFIED:20250523T182807Z
UID:10043001-1752156000-1752165000@schcontario.ca
SUMMARY:Food Bank
DESCRIPTION:Drop in program\, registration or appointment is not required. \n\n\n\nDescription:  \n\n\n\nIndividuals and families experiencing food insecurity can access food support from our food bank on a weekly basis. Individuals can expect to receive 1-2 days of food and can select items based on their preference.  \n\n\n\nPlease arrive no later than 4:15 pm.  \n\n\n\nEligibility: \n\n\n\nAll are welcome \n\n\n\nContact Info:  \n\n\n\nEmail Foodbank@schcontario.ca  or call (416) 847-4147 for further information
URL:https://schcontario.ca/event/food-bank-2/2025-07-10/
LOCATION:4100 Lawrence Avenue East\, 4100 Lawrence Avenue East\, Scarborough\, Ontario\, M1E 2R9\, Canada
CATEGORIES:Food Bank and Meals
END:VEVENT
BEGIN:VEVENT
DTSTART;TZID=UTC:20250710T140000
DTEND;TZID=UTC:20250710T163000
DTSTAMP:20260421T083934
CREATED:20230418T194531Z
LAST-MODIFIED:20250523T182814Z
UID:10045373-1752156000-1752165000@schcontario.ca
SUMMARY:Food Bank
DESCRIPTION:Drop in program\, registration or appointment is not required. \n\n\n\nDescription:  \n\n\n\nIndividuals and families experiencing food insecurity can access food support from our food bank on a weekly basis. Individuals can expect to receive 1-2 days of food and can select items based on their preference.  \n\n\n\nPlease arrive no later than 4:15 pm.  \n\n\n\nEligibility: \n\n\n\nAll are welcome \n\n\n\nContact Info:  \n\n\n\nEmail Foodbank@schcontario.ca  or call (416) 847-4147 for further information
URL:https://schcontario.ca/event/food-bank-2/2025-07-10/
LOCATION:4100 Lawrence Avenue East\, 4100 Lawrence Avenue East\, Scarborough\, Ontario\, M1E 2R9\, Canada
CATEGORIES:Food Bank and Meals
END:VEVENT
BEGIN:VEVENT
DTSTART;TZID=UTC:20250710T140000
DTEND;TZID=UTC:20250710T163000
DTSTAMP:20260421T083934
CREATED:20230418T194531Z
LAST-MODIFIED:20250523T182901Z
UID:10052105-1752156000-1752165000@schcontario.ca
SUMMARY:Food Bank
DESCRIPTION:Drop in program\, registration or appointment is not required. \n\n\n\nDescription:  \n\n\n\nIndividuals and families experiencing food insecurity can access food support from our food bank on a weekly basis. Individuals can expect to receive 1-2 days of food and can select items based on their preference.  \n\n\n\nPlease arrive no later than 4:15 pm.  \n\n\n\nEligibility: \n\n\n\nAll are welcome \n\n\n\nContact Info:  \n\n\n\nEmail Foodbank@schcontario.ca  or call (416) 847-4147 for further information
URL:https://schcontario.ca/event/food-bank-2/2025-07-10/
LOCATION:4100 Lawrence Avenue East\, 4100 Lawrence Avenue East\, Scarborough\, Ontario\, M1E 2R9\, Canada
CATEGORIES:Food Bank and Meals
END:VEVENT
BEGIN:VEVENT
DTSTART;TZID=UTC:20250710T140000
DTEND;TZID=UTC:20250710T163000
DTSTAMP:20260421T083934
CREATED:20230418T194531Z
LAST-MODIFIED:20250523T182808Z
UID:10043301-1752156000-1752165000@schcontario.ca
SUMMARY:Food Bank
DESCRIPTION:Drop in program\, registration or appointment is not required. \n\n\n\nDescription:  \n\n\n\nIndividuals and families experiencing food insecurity can access food support from our food bank on a weekly basis. Individuals can expect to receive 1-2 days of food and can select items based on their preference.  \n\n\n\nPlease arrive no later than 4:15 pm.  \n\n\n\nEligibility: \n\n\n\nAll are welcome \n\n\n\nContact Info:  \n\n\n\nEmail Foodbank@schcontario.ca  or call (416) 847-4147 for further information
URL:https://schcontario.ca/event/food-bank-2/2025-07-10/
LOCATION:4100 Lawrence Avenue East\, 4100 Lawrence Avenue East\, Scarborough\, Ontario\, M1E 2R9\, Canada
CATEGORIES:Food Bank and Meals
END:VEVENT
BEGIN:VEVENT
DTSTART;TZID=UTC:20250710T140000
DTEND;TZID=UTC:20250710T163000
DTSTAMP:20260421T083934
CREATED:20230418T194531Z
LAST-MODIFIED:20250523T182843Z
UID:10050201-1752156000-1752165000@schcontario.ca
SUMMARY:Food Bank
DESCRIPTION:Drop in program\, registration or appointment is not required. \n\n\n\nDescription:  \n\n\n\nIndividuals and families experiencing food insecurity can access food support from our food bank on a weekly basis. Individuals can expect to receive 1-2 days of food and can select items based on their preference.  \n\n\n\nPlease arrive no later than 4:15 pm.  \n\n\n\nEligibility: \n\n\n\nAll are welcome \n\n\n\nContact Info:  \n\n\n\nEmail Foodbank@schcontario.ca  or call (416) 847-4147 for further information
URL:https://schcontario.ca/event/food-bank-2/2025-07-10/
LOCATION:4100 Lawrence Avenue East\, 4100 Lawrence Avenue East\, Scarborough\, Ontario\, M1E 2R9\, Canada
CATEGORIES:Food Bank and Meals
END:VEVENT
BEGIN:VEVENT
DTSTART;TZID=UTC:20250710T140000
DTEND;TZID=UTC:20250710T163000
DTSTAMP:20260421T083934
CREATED:20230418T194531Z
LAST-MODIFIED:20250523T182904Z
UID:10052373-1752156000-1752165000@schcontario.ca
SUMMARY:Food Bank
DESCRIPTION:Drop in program\, registration or appointment is not required. \n\n\n\nDescription:  \n\n\n\nIndividuals and families experiencing food insecurity can access food support from our food bank on a weekly basis. Individuals can expect to receive 1-2 days of food and can select items based on their preference.  \n\n\n\nPlease arrive no later than 4:15 pm.  \n\n\n\nEligibility: \n\n\n\nAll are welcome \n\n\n\nContact Info:  \n\n\n\nEmail Foodbank@schcontario.ca  or call (416) 847-4147 for further information
URL:https://schcontario.ca/event/food-bank-2/2025-07-10/
LOCATION:4100 Lawrence Avenue East\, 4100 Lawrence Avenue East\, Scarborough\, Ontario\, M1E 2R9\, Canada
CATEGORIES:Food Bank and Meals
END:VEVENT
BEGIN:VEVENT
DTSTART;TZID=UTC:20250710T140000
DTEND;TZID=UTC:20250710T163000
DTSTAMP:20260421T083934
CREATED:20230418T194531Z
LAST-MODIFIED:20250523T182759Z
UID:10040873-1752156000-1752165000@schcontario.ca
SUMMARY:Food Bank
DESCRIPTION:Drop in program\, registration or appointment is not required. \n\n\n\nDescription:  \n\n\n\nIndividuals and families experiencing food insecurity can access food support from our food bank on a weekly basis. Individuals can expect to receive 1-2 days of food and can select items based on their preference.  \n\n\n\nPlease arrive no later than 4:15 pm.  \n\n\n\nEligibility: \n\n\n\nAll are welcome \n\n\n\nContact Info:  \n\n\n\nEmail Foodbank@schcontario.ca  or call (416) 847-4147 for further information
URL:https://schcontario.ca/event/food-bank-2/2025-07-10/
LOCATION:4100 Lawrence Avenue East\, 4100 Lawrence Avenue East\, Scarborough\, Ontario\, M1E 2R9\, Canada
CATEGORIES:Food Bank and Meals
END:VEVENT
BEGIN:VEVENT
DTSTART;TZID=UTC:20250710T140000
DTEND;TZID=UTC:20250710T163000
DTSTAMP:20260421T083934
CREATED:20230418T194531Z
LAST-MODIFIED:20250523T182808Z
UID:10043600-1752156000-1752165000@schcontario.ca
SUMMARY:Food Bank
DESCRIPTION:Drop in program\, registration or appointment is not required. \n\n\n\nDescription:  \n\n\n\nIndividuals and families experiencing food insecurity can access food support from our food bank on a weekly basis. Individuals can expect to receive 1-2 days of food and can select items based on their preference.  \n\n\n\nPlease arrive no later than 4:15 pm.  \n\n\n\nEligibility: \n\n\n\nAll are welcome \n\n\n\nContact Info:  \n\n\n\nEmail Foodbank@schcontario.ca  or call (416) 847-4147 for further information
URL:https://schcontario.ca/event/food-bank-2/2025-07-10/
LOCATION:4100 Lawrence Avenue East\, 4100 Lawrence Avenue East\, Scarborough\, Ontario\, M1E 2R9\, Canada
CATEGORIES:Food Bank and Meals
END:VEVENT
BEGIN:VEVENT
DTSTART;TZID=UTC:20250710T140000
DTEND;TZID=UTC:20250710T163000
DTSTAMP:20260421T083934
CREATED:20230418T194531Z
LAST-MODIFIED:20250523T182847Z
UID:10050476-1752156000-1752165000@schcontario.ca
SUMMARY:Food Bank
DESCRIPTION:Drop in program\, registration or appointment is not required. \n\n\n\nDescription:  \n\n\n\nIndividuals and families experiencing food insecurity can access food support from our food bank on a weekly basis. Individuals can expect to receive 1-2 days of food and can select items based on their preference.  \n\n\n\nPlease arrive no later than 4:15 pm.  \n\n\n\nEligibility: \n\n\n\nAll are welcome \n\n\n\nContact Info:  \n\n\n\nEmail Foodbank@schcontario.ca  or call (416) 847-4147 for further information
URL:https://schcontario.ca/event/food-bank-2/2025-07-10/
LOCATION:4100 Lawrence Avenue East\, 4100 Lawrence Avenue East\, Scarborough\, Ontario\, M1E 2R9\, Canada
CATEGORIES:Food Bank and Meals
END:VEVENT
BEGIN:VEVENT
DTSTART;TZID=UTC:20250710T140000
DTEND;TZID=UTC:20250710T163000
DTSTAMP:20260421T083934
CREATED:20230418T194531Z
LAST-MODIFIED:20250623T202754Z
UID:10052640-1752156000-1752165000@schcontario.ca
SUMMARY:Food Bank
DESCRIPTION:Drop in program\, registration or appointment is not required. \n\n\n\nDescription:  \n\n\n\nIndividuals and families experiencing food insecurity can access food support from our food bank on a weekly basis. Individuals can expect to receive 1-2 days of food and can select items based on their preference.  \n\n\n\nPlease arrive no later than 4:15 pm.  \n\n\n\nEligibility: \n\n\n\nAll are welcome \n\n\n\nContact Info:  \n\n\n\nEmail Foodbank@schcontario.ca  or call (416) 847-4147 for further information
URL:https://schcontario.ca/event/food-bank-2/2025-07-10/
LOCATION:4100 Lawrence Avenue East\, 4100 Lawrence Avenue East\, Scarborough\, Ontario\, M1E 2R9\, Canada
CATEGORIES:Food Bank and Meals
END:VEVENT
BEGIN:VEVENT
DTSTART;TZID=UTC:20250710T140000
DTEND;TZID=UTC:20250710T163000
DTSTAMP:20260421T083934
CREATED:20230418T194531Z
LAST-MODIFIED:20250523T182802Z
UID:10041180-1752156000-1752165000@schcontario.ca
SUMMARY:Food Bank
DESCRIPTION:Drop in program\, registration or appointment is not required. \n\n\n\nDescription:  \n\n\n\nIndividuals and families experiencing food insecurity can access food support from our food bank on a weekly basis. Individuals can expect to receive 1-2 days of food and can select items based on their preference.  \n\n\n\nPlease arrive no later than 4:15 pm.  \n\n\n\nEligibility: \n\n\n\nAll are welcome \n\n\n\nContact Info:  \n\n\n\nEmail Foodbank@schcontario.ca  or call (416) 847-4147 for further information
URL:https://schcontario.ca/event/food-bank-2/2025-07-10/
LOCATION:4100 Lawrence Avenue East\, 4100 Lawrence Avenue East\, Scarborough\, Ontario\, M1E 2R9\, Canada
CATEGORIES:Food Bank and Meals
END:VEVENT
BEGIN:VEVENT
DTSTART;TZID=UTC:20250710T140000
DTEND;TZID=UTC:20250710T163000
DTSTAMP:20260421T083934
CREATED:20230418T194531Z
LAST-MODIFIED:20250523T182809Z
UID:10043898-1752156000-1752165000@schcontario.ca
SUMMARY:Food Bank
DESCRIPTION:Drop in program\, registration or appointment is not required. \n\n\n\nDescription:  \n\n\n\nIndividuals and families experiencing food insecurity can access food support from our food bank on a weekly basis. Individuals can expect to receive 1-2 days of food and can select items based on their preference.  \n\n\n\nPlease arrive no later than 4:15 pm.  \n\n\n\nEligibility: \n\n\n\nAll are welcome \n\n\n\nContact Info:  \n\n\n\nEmail Foodbank@schcontario.ca  or call (416) 847-4147 for further information
URL:https://schcontario.ca/event/food-bank-2/2025-07-10/
LOCATION:4100 Lawrence Avenue East\, 4100 Lawrence Avenue East\, Scarborough\, Ontario\, M1E 2R9\, Canada
CATEGORIES:Food Bank and Meals
END:VEVENT
BEGIN:VEVENT
DTSTART;TZID=UTC:20250710T140000
DTEND;TZID=UTC:20250710T163000
DTSTAMP:20260421T083934
CREATED:20230418T194531Z
LAST-MODIFIED:20250523T182849Z
UID:10050750-1752156000-1752165000@schcontario.ca
SUMMARY:Food Bank
DESCRIPTION:Drop in program\, registration or appointment is not required. \n\n\n\nDescription:  \n\n\n\nIndividuals and families experiencing food insecurity can access food support from our food bank on a weekly basis. Individuals can expect to receive 1-2 days of food and can select items based on their preference.  \n\n\n\nPlease arrive no later than 4:15 pm.  \n\n\n\nEligibility: \n\n\n\nAll are welcome \n\n\n\nContact Info:  \n\n\n\nEmail Foodbank@schcontario.ca  or call (416) 847-4147 for further information
URL:https://schcontario.ca/event/food-bank-2/2025-07-10/
LOCATION:4100 Lawrence Avenue East\, 4100 Lawrence Avenue East\, Scarborough\, Ontario\, M1E 2R9\, Canada
CATEGORIES:Food Bank and Meals
END:VEVENT
BEGIN:VEVENT
DTSTART;TZID=UTC:20250710T140000
DTEND;TZID=UTC:20250710T163000
DTSTAMP:20260421T083934
CREATED:20230418T194531Z
LAST-MODIFIED:20250623T202755Z
UID:10052906-1752156000-1752165000@schcontario.ca
SUMMARY:Food Bank
DESCRIPTION:Drop in program\, registration or appointment is not required. \n\n\n\nDescription:  \n\n\n\nIndividuals and families experiencing food insecurity can access food support from our food bank on a weekly basis. Individuals can expect to receive 1-2 days of food and can select items based on their preference.  \n\n\n\nPlease arrive no later than 4:15 pm.  \n\n\n\nEligibility: \n\n\n\nAll are welcome \n\n\n\nContact Info:  \n\n\n\nEmail Foodbank@schcontario.ca  or call (416) 847-4147 for further information
URL:https://schcontario.ca/event/food-bank-2/2025-07-10/
LOCATION:4100 Lawrence Avenue East\, 4100 Lawrence Avenue East\, Scarborough\, Ontario\, M1E 2R9\, Canada
CATEGORIES:Food Bank and Meals
END:VEVENT
BEGIN:VEVENT
DTSTART;TZID=UTC:20250710T140000
DTEND;TZID=UTC:20250710T163000
DTSTAMP:20260421T083934
CREATED:20230418T194531Z
LAST-MODIFIED:20250523T182804Z
UID:10041486-1752156000-1752165000@schcontario.ca
SUMMARY:Food Bank
DESCRIPTION:Drop in program\, registration or appointment is not required. \n\n\n\nDescription:  \n\n\n\nIndividuals and families experiencing food insecurity can access food support from our food bank on a weekly basis. Individuals can expect to receive 1-2 days of food and can select items based on their preference.  \n\n\n\nPlease arrive no later than 4:15 pm.  \n\n\n\nEligibility: \n\n\n\nAll are welcome \n\n\n\nContact Info:  \n\n\n\nEmail Foodbank@schcontario.ca  or call (416) 847-4147 for further information
URL:https://schcontario.ca/event/food-bank-2/2025-07-10/
LOCATION:4100 Lawrence Avenue East\, 4100 Lawrence Avenue East\, Scarborough\, Ontario\, M1E 2R9\, Canada
CATEGORIES:Food Bank and Meals
END:VEVENT
BEGIN:VEVENT
DTSTART;TZID=UTC:20250710T140000
DTEND;TZID=UTC:20250710T163000
DTSTAMP:20260421T083934
CREATED:20230418T194531Z
LAST-MODIFIED:20250523T182810Z
UID:10044195-1752156000-1752165000@schcontario.ca
SUMMARY:Food Bank
DESCRIPTION:Drop in program\, registration or appointment is not required. \n\n\n\nDescription:  \n\n\n\nIndividuals and families experiencing food insecurity can access food support from our food bank on a weekly basis. Individuals can expect to receive 1-2 days of food and can select items based on their preference.  \n\n\n\nPlease arrive no later than 4:15 pm.  \n\n\n\nEligibility: \n\n\n\nAll are welcome \n\n\n\nContact Info:  \n\n\n\nEmail Foodbank@schcontario.ca  or call (416) 847-4147 for further information
URL:https://schcontario.ca/event/food-bank-2/2025-07-10/
LOCATION:4100 Lawrence Avenue East\, 4100 Lawrence Avenue East\, Scarborough\, Ontario\, M1E 2R9\, Canada
CATEGORIES:Food Bank and Meals
END:VEVENT
BEGIN:VEVENT
DTSTART;TZID=UTC:20250710T140000
DTEND;TZID=UTC:20250710T163000
DTSTAMP:20260421T083934
CREATED:20230418T194531Z
LAST-MODIFIED:20250523T175908Z
UID:10036148-1752156000-1752165000@schcontario.ca
SUMMARY:Food Bank
DESCRIPTION:Drop in program\, registration or appointment is not required. \n\n\n\nDescription:  \n\n\n\nIndividuals and families experiencing food insecurity can access food support from our food bank on a weekly basis. Individuals can expect to receive 1-2 days of food and can select items based on their preference.  \n\n\n\nPlease arrive no later than 4:15 pm.  \n\n\n\nEligibility: \n\n\n\nAll are welcome \n\n\n\nContact Info:  \n\n\n\nEmail Foodbank@schcontario.ca  or call (416) 847-4147 for further information
URL:https://schcontario.ca/event/food-bank-2/2025-07-10/
LOCATION:4100 Lawrence Avenue East\, 4100 Lawrence Avenue East\, Scarborough\, Ontario\, M1E 2R9\, Canada
CATEGORIES:Food Bank and Meals
END:VEVENT
BEGIN:VEVENT
DTSTART;TZID=UTC:20250710T140000
DTEND;TZID=UTC:20250710T163000
DTSTAMP:20260421T083934
CREATED:20230418T194531Z
LAST-MODIFIED:20250523T182752Z
UID:10038696-1752156000-1752165000@schcontario.ca
SUMMARY:Food Bank
DESCRIPTION:Drop in program\, registration or appointment is not required. \n\n\n\nDescription:  \n\n\n\nIndividuals and families experiencing food insecurity can access food support from our food bank on a weekly basis. Individuals can expect to receive 1-2 days of food and can select items based on their preference.  \n\n\n\nPlease arrive no later than 4:15 pm.  \n\n\n\nEligibility: \n\n\n\nAll are welcome \n\n\n\nContact Info:  \n\n\n\nEmail Foodbank@schcontario.ca  or call (416) 847-4147 for further information
URL:https://schcontario.ca/event/food-bank-2/2025-07-10/
LOCATION:4100 Lawrence Avenue East\, 4100 Lawrence Avenue East\, Scarborough\, Ontario\, M1E 2R9\, Canada
CATEGORIES:Food Bank and Meals
END:VEVENT
BEGIN:VEVENT
DTSTART;TZID=UTC:20250710T140000
DTEND;TZID=UTC:20250710T163000
DTSTAMP:20260421T083934
CREATED:20230418T194531Z
LAST-MODIFIED:20250523T175910Z
UID:10036470-1752156000-1752165000@schcontario.ca
SUMMARY:Food Bank
DESCRIPTION:Drop in program\, registration or appointment is not required. \n\n\n\nDescription:  \n\n\n\nIndividuals and families experiencing food insecurity can access food support from our food bank on a weekly basis. Individuals can expect to receive 1-2 days of food and can select items based on their preference.  \n\n\n\nPlease arrive no later than 4:15 pm.  \n\n\n\nEligibility: \n\n\n\nAll are welcome \n\n\n\nContact Info:  \n\n\n\nEmail Foodbank@schcontario.ca  or call (416) 847-4147 for further information
URL:https://schcontario.ca/event/food-bank-2/2025-07-10/
LOCATION:4100 Lawrence Avenue East\, 4100 Lawrence Avenue East\, Scarborough\, Ontario\, M1E 2R9\, Canada
CATEGORIES:Food Bank and Meals
END:VEVENT
BEGIN:VEVENT
DTSTART;TZID=UTC:20250710T140000
DTEND;TZID=UTC:20250710T163000
DTSTAMP:20260421T083934
CREATED:20230418T194531Z
LAST-MODIFIED:20250523T182753Z
UID:10039010-1752156000-1752165000@schcontario.ca
SUMMARY:Food Bank
DESCRIPTION:Drop in program\, registration or appointment is not required. \n\n\n\nDescription:  \n\n\n\nIndividuals and families experiencing food insecurity can access food support from our food bank on a weekly basis. Individuals can expect to receive 1-2 days of food and can select items based on their preference.  \n\n\n\nPlease arrive no later than 4:15 pm.  \n\n\n\nEligibility: \n\n\n\nAll are welcome \n\n\n\nContact Info:  \n\n\n\nEmail Foodbank@schcontario.ca  or call (416) 847-4147 for further information
URL:https://schcontario.ca/event/food-bank-2/2025-07-10/
LOCATION:4100 Lawrence Avenue East\, 4100 Lawrence Avenue East\, Scarborough\, Ontario\, M1E 2R9\, Canada
CATEGORIES:Food Bank and Meals
END:VEVENT
BEGIN:VEVENT
DTSTART;TZID=UTC:20250710T140000
DTEND;TZID=UTC:20250710T163000
DTSTAMP:20260421T083934
CREATED:20230418T194531Z
LAST-MODIFIED:20250523T175912Z
UID:10036791-1752156000-1752165000@schcontario.ca
SUMMARY:Food Bank
DESCRIPTION:Drop in program\, registration or appointment is not required. \n\n\n\nDescription:  \n\n\n\nIndividuals and families experiencing food insecurity can access food support from our food bank on a weekly basis. Individuals can expect to receive 1-2 days of food and can select items based on their preference.  \n\n\n\nPlease arrive no later than 4:15 pm.  \n\n\n\nEligibility: \n\n\n\nAll are welcome \n\n\n\nContact Info:  \n\n\n\nEmail Foodbank@schcontario.ca  or call (416) 847-4147 for further information
URL:https://schcontario.ca/event/food-bank-2/2025-07-10/
LOCATION:4100 Lawrence Avenue East\, 4100 Lawrence Avenue East\, Scarborough\, Ontario\, M1E 2R9\, Canada
CATEGORIES:Food Bank and Meals
END:VEVENT
BEGIN:VEVENT
DTSTART;TZID=UTC:20250710T140000
DTEND;TZID=UTC:20250710T163000
DTSTAMP:20260421T083934
CREATED:20230418T194531Z
LAST-MODIFIED:20250523T182753Z
UID:10039323-1752156000-1752165000@schcontario.ca
SUMMARY:Food Bank
DESCRIPTION:Drop in program\, registration or appointment is not required. \n\n\n\nDescription:  \n\n\n\nIndividuals and families experiencing food insecurity can access food support from our food bank on a weekly basis. Individuals can expect to receive 1-2 days of food and can select items based on their preference.  \n\n\n\nPlease arrive no later than 4:15 pm.  \n\n\n\nEligibility: \n\n\n\nAll are welcome \n\n\n\nContact Info:  \n\n\n\nEmail Foodbank@schcontario.ca  or call (416) 847-4147 for further information
URL:https://schcontario.ca/event/food-bank-2/2025-07-10/
LOCATION:4100 Lawrence Avenue East\, 4100 Lawrence Avenue East\, Scarborough\, Ontario\, M1E 2R9\, Canada
CATEGORIES:Food Bank and Meals
END:VEVENT
BEGIN:VEVENT
DTSTART;TZID=UTC:20250710T140000
DTEND;TZID=UTC:20250710T163000
DTSTAMP:20260421T083934
CREATED:20230418T194531Z
LAST-MODIFIED:20250523T175914Z
UID:10037111-1752156000-1752165000@schcontario.ca
SUMMARY:Food Bank
DESCRIPTION:Drop in program\, registration or appointment is not required. \n\n\n\nDescription:  \n\n\n\nIndividuals and families experiencing food insecurity can access food support from our food bank on a weekly basis. Individuals can expect to receive 1-2 days of food and can select items based on their preference.  \n\n\n\nPlease arrive no later than 4:15 pm.  \n\n\n\nEligibility: \n\n\n\nAll are welcome \n\n\n\nContact Info:  \n\n\n\nEmail Foodbank@schcontario.ca  or call (416) 847-4147 for further information
URL:https://schcontario.ca/event/food-bank-2/2025-07-10/
LOCATION:4100 Lawrence Avenue East\, 4100 Lawrence Avenue East\, Scarborough\, Ontario\, M1E 2R9\, Canada
CATEGORIES:Food Bank and Meals
END:VEVENT
BEGIN:VEVENT
DTSTART;TZID=UTC:20250710T140000
DTEND;TZID=UTC:20250710T163000
DTSTAMP:20260421T083934
CREATED:20230418T194531Z
LAST-MODIFIED:20250523T182754Z
UID:10039635-1752156000-1752165000@schcontario.ca
SUMMARY:Food Bank
DESCRIPTION:Drop in program\, registration or appointment is not required. \n\n\n\nDescription:  \n\n\n\nIndividuals and families experiencing food insecurity can access food support from our food bank on a weekly basis. Individuals can expect to receive 1-2 days of food and can select items based on their preference.  \n\n\n\nPlease arrive no later than 4:15 pm.  \n\n\n\nEligibility: \n\n\n\nAll are welcome \n\n\n\nContact Info:  \n\n\n\nEmail Foodbank@schcontario.ca  or call (416) 847-4147 for further information
URL:https://schcontario.ca/event/food-bank-2/2025-07-10/
LOCATION:4100 Lawrence Avenue East\, 4100 Lawrence Avenue East\, Scarborough\, Ontario\, M1E 2R9\, Canada
CATEGORIES:Food Bank and Meals
END:VEVENT
END:VCALENDAR