BEGIN:VCALENDAR
VERSION:2.0
PRODID:-//Scarborough Centre for Healthy Communities - ECPv6.15.20//NONSGML v1.0//EN
CALSCALE:GREGORIAN
METHOD:PUBLISH
X-WR-CALNAME:Scarborough Centre for Healthy Communities
X-ORIGINAL-URL:https://schcontario.ca
X-WR-CALDESC:Events for Scarborough Centre for Healthy Communities
REFRESH-INTERVAL;VALUE=DURATION:PT1H
X-Robots-Tag:noindex
X-PUBLISHED-TTL:PT1H
BEGIN:VTIMEZONE
TZID:America/Toronto
BEGIN:DAYLIGHT
TZOFFSETFROM:-0500
TZOFFSETTO:-0400
TZNAME:EDT
DTSTART:20240310T070000
END:DAYLIGHT
BEGIN:STANDARD
TZOFFSETFROM:-0400
TZOFFSETTO:-0500
TZNAME:EST
DTSTART:20241103T060000
END:STANDARD
BEGIN:DAYLIGHT
TZOFFSETFROM:-0500
TZOFFSETTO:-0400
TZNAME:EDT
DTSTART:20250309T070000
END:DAYLIGHT
BEGIN:STANDARD
TZOFFSETFROM:-0400
TZOFFSETTO:-0500
TZNAME:EST
DTSTART:20251102T060000
END:STANDARD
BEGIN:DAYLIGHT
TZOFFSETFROM:-0500
TZOFFSETTO:-0400
TZNAME:EDT
DTSTART:20260308T070000
END:DAYLIGHT
BEGIN:STANDARD
TZOFFSETFROM:-0400
TZOFFSETTO:-0500
TZNAME:EST
DTSTART:20261101T060000
END:STANDARD
END:VTIMEZONE
BEGIN:VEVENT
DTSTART;TZID=America/Toronto:20251107T093000
DTEND;TZID=America/Toronto:20251107T120000
DTSTAMP:20260420T080352
CREATED:20250912T201234Z
LAST-MODIFIED:20250912T201239Z
UID:10054490-1762507800-1762516800@schcontario.ca
SUMMARY:DROP-IN
DESCRIPTION:Drop-In is a Play-based program providing learning experiences such as early literacy skills in storytelling\, circles with songs\, rhythm & movement\, expressive arts\, science & tech\, engineering\, math\, nature & outdoor explore opportunities
URL:https://schcontario.ca/event/drop-in-5/2025-11-07/
LOCATION:EarlyON Child and Family Centre\, 4110 Lawrence Avenue East\, Scarborough\, Ontario\, M1E 2S2\, Canada
CATEGORIES:EarlyON Child and Family Centre
ORGANIZER;CN="SCHC EarlyON":MAILTO:earlyon@schcontario.ca 
END:VEVENT
BEGIN:VEVENT
DTSTART;TZID=America/Toronto:20251107T160000
DTEND;TZID=America/Toronto:20251107T180000
DTSTAMP:20260420T080352
CREATED:20250912T202529Z
LAST-MODIFIED:20250912T202533Z
UID:10054502-1762531200-1762538400@schcontario.ca
SUMMARY:FAMILY FUN NIGHT - STORYTELLING
DESCRIPTION:A popular drop-in offering themes such as Bingo\, Lego Challenges and Board Game Night.  Light dinner provided.  Siblings welcome.
URL:https://schcontario.ca/event/family-fun-night-storytelling/
LOCATION:EarlyON Child and Family Centre\, 4110 Lawrence Avenue East\, Scarborough\, Ontario\, M1E 2S2\, Canada
CATEGORIES:EarlyON Child and Family Centre
ORGANIZER;CN="SCHC EarlyON":MAILTO:earlyon@schcontario.ca 
END:VEVENT
END:VCALENDAR