BEGIN:VCALENDAR
VERSION:2.0
PRODID:-//Scarborough Centre for Healthy Communities - ECPv6.15.20//NONSGML v1.0//EN
CALSCALE:GREGORIAN
METHOD:PUBLISH
X-ORIGINAL-URL:https://schcontario.ca
X-WR-CALDESC:Events for Scarborough Centre for Healthy Communities
REFRESH-INTERVAL;VALUE=DURATION:PT1H
X-Robots-Tag:noindex
X-PUBLISHED-TTL:PT1H
BEGIN:VTIMEZONE
TZID:UTC
BEGIN:STANDARD
TZOFFSETFROM:+0000
TZOFFSETTO:+0000
TZNAME:UTC
DTSTART:20220101T000000
END:STANDARD
END:VTIMEZONE
BEGIN:VTIMEZONE
TZID:America/Toronto
BEGIN:DAYLIGHT
TZOFFSETFROM:-0500
TZOFFSETTO:-0400
TZNAME:EDT
DTSTART:20230312T070000
END:DAYLIGHT
BEGIN:STANDARD
TZOFFSETFROM:-0400
TZOFFSETTO:-0500
TZNAME:EST
DTSTART:20231105T060000
END:STANDARD
BEGIN:DAYLIGHT
TZOFFSETFROM:-0500
TZOFFSETTO:-0400
TZNAME:EDT
DTSTART:20240310T070000
END:DAYLIGHT
BEGIN:STANDARD
TZOFFSETFROM:-0400
TZOFFSETTO:-0500
TZNAME:EST
DTSTART:20241103T060000
END:STANDARD
BEGIN:DAYLIGHT
TZOFFSETFROM:-0500
TZOFFSETTO:-0400
TZNAME:EDT
DTSTART:20250309T070000
END:DAYLIGHT
BEGIN:STANDARD
TZOFFSETFROM:-0400
TZOFFSETTO:-0500
TZNAME:EST
DTSTART:20251102T060000
END:STANDARD
BEGIN:DAYLIGHT
TZOFFSETFROM:-0500
TZOFFSETTO:-0400
TZNAME:EDT
DTSTART:20260308T070000
END:DAYLIGHT
BEGIN:STANDARD
TZOFFSETFROM:-0400
TZOFFSETTO:-0500
TZNAME:EST
DTSTART:20261101T060000
END:STANDARD
END:VTIMEZONE
BEGIN:VEVENT
DTSTART;TZID=UTC:20231213T130000
DTEND;TZID=UTC:20231213T140000
DTSTAMP:20260419T181539
CREATED:20230622T212543Z
LAST-MODIFIED:20240307T151000Z
UID:10013468-1702472400-1702476000@schcontario.ca
SUMMARY:Mindfulness Matters Workshop
DESCRIPTION:Educating caregivers through mindfulness videos and inspirational conversations. \n\n\n\nEligibility: 18-80 year olds \n\n\n\nRegistration Required \n\n\n\nContact Information: \n\n\n\nEmail: cjeyarajahschontario.ca \n\n\n\nPhone: (416) 454-5539
URL:https://schcontario.ca/event/mindfulness-matters-workshop-2/2023-12-13/
CATEGORIES:Caregiver Wellness
END:VEVENT
BEGIN:VEVENT
DTSTART;TZID=UTC:20231220T130000
DTEND;TZID=UTC:20231220T140000
DTSTAMP:20260419T181539
CREATED:20230622T212543Z
LAST-MODIFIED:20240307T151000Z
UID:10013469-1703077200-1703080800@schcontario.ca
SUMMARY:Mindfulness Matters Workshop
DESCRIPTION:Educating caregivers through mindfulness videos and inspirational conversations. \n\n\n\nEligibility: 18-80 year olds \n\n\n\nRegistration Required \n\n\n\nContact Information: \n\n\n\nEmail: cjeyarajahschontario.ca \n\n\n\nPhone: (416) 454-5539
URL:https://schcontario.ca/event/mindfulness-matters-workshop-2/2023-12-20/
CATEGORIES:Caregiver Wellness
END:VEVENT
BEGIN:VEVENT
DTSTART;TZID=UTC:20231227T130000
DTEND;TZID=UTC:20231227T140000
DTSTAMP:20260419T181539
CREATED:20230622T212543Z
LAST-MODIFIED:20240307T151000Z
UID:10013470-1703682000-1703685600@schcontario.ca
SUMMARY:Mindfulness Matters Workshop
DESCRIPTION:Educating caregivers through mindfulness videos and inspirational conversations. \n\n\n\nEligibility: 18-80 year olds \n\n\n\nRegistration Required \n\n\n\nContact Information: \n\n\n\nEmail: cjeyarajahschontario.ca \n\n\n\nPhone: (416) 454-5539
URL:https://schcontario.ca/event/mindfulness-matters-workshop-2/2023-12-27/
CATEGORIES:Caregiver Wellness
END:VEVENT
BEGIN:VEVENT
DTSTART;TZID=UTC:20240103T130000
DTEND;TZID=UTC:20240103T140000
DTSTAMP:20260419T181539
CREATED:20230622T212543Z
LAST-MODIFIED:20240307T151000Z
UID:10013471-1704286800-1704290400@schcontario.ca
SUMMARY:Mindfulness Matters Workshop
DESCRIPTION:Educating caregivers through mindfulness videos and inspirational conversations. \n\n\n\nEligibility: 18-80 year olds \n\n\n\nRegistration Required \n\n\n\nContact Information: \n\n\n\nEmail: cjeyarajahschontario.ca \n\n\n\nPhone: (416) 454-5539
URL:https://schcontario.ca/event/mindfulness-matters-workshop-2/2024-01-03/
CATEGORIES:Caregiver Wellness
END:VEVENT
BEGIN:VEVENT
DTSTART;TZID=UTC:20240110T130000
DTEND;TZID=UTC:20240110T140000
DTSTAMP:20260419T181539
CREATED:20230622T212543Z
LAST-MODIFIED:20240307T151000Z
UID:10013472-1704891600-1704895200@schcontario.ca
SUMMARY:Mindfulness Matters Workshop
DESCRIPTION:Educating caregivers through mindfulness videos and inspirational conversations. \n\n\n\nEligibility: 18-80 year olds \n\n\n\nRegistration Required \n\n\n\nContact Information: \n\n\n\nEmail: cjeyarajahschontario.ca \n\n\n\nPhone: (416) 454-5539
URL:https://schcontario.ca/event/mindfulness-matters-workshop-2/2024-01-10/
CATEGORIES:Caregiver Wellness
END:VEVENT
BEGIN:VEVENT
DTSTART;TZID=UTC:20240117T130000
DTEND;TZID=UTC:20240117T140000
DTSTAMP:20260419T181539
CREATED:20230622T212543Z
LAST-MODIFIED:20240307T151000Z
UID:10013473-1705496400-1705500000@schcontario.ca
SUMMARY:Mindfulness Matters Workshop
DESCRIPTION:Educating caregivers through mindfulness videos and inspirational conversations. \n\n\n\nEligibility: 18-80 year olds \n\n\n\nRegistration Required \n\n\n\nContact Information: \n\n\n\nEmail: cjeyarajahschontario.ca \n\n\n\nPhone: (416) 454-5539
URL:https://schcontario.ca/event/mindfulness-matters-workshop-2/2024-01-17/
CATEGORIES:Caregiver Wellness
END:VEVENT
BEGIN:VEVENT
DTSTART;TZID=UTC:20240124T130000
DTEND;TZID=UTC:20240124T140000
DTSTAMP:20260419T181539
CREATED:20230622T212543Z
LAST-MODIFIED:20240307T151000Z
UID:10013474-1706101200-1706104800@schcontario.ca
SUMMARY:Mindfulness Matters Workshop
DESCRIPTION:Educating caregivers through mindfulness videos and inspirational conversations. \n\n\n\nEligibility: 18-80 year olds \n\n\n\nRegistration Required \n\n\n\nContact Information: \n\n\n\nEmail: cjeyarajahschontario.ca \n\n\n\nPhone: (416) 454-5539
URL:https://schcontario.ca/event/mindfulness-matters-workshop-2/2024-01-24/
CATEGORIES:Caregiver Wellness
END:VEVENT
BEGIN:VEVENT
DTSTART;TZID=UTC:20240131T130000
DTEND;TZID=UTC:20240131T140000
DTSTAMP:20260419T181539
CREATED:20230622T212543Z
LAST-MODIFIED:20240307T151000Z
UID:10013475-1706706000-1706709600@schcontario.ca
SUMMARY:Mindfulness Matters Workshop
DESCRIPTION:Educating caregivers through mindfulness videos and inspirational conversations. \n\n\n\nEligibility: 18-80 year olds \n\n\n\nRegistration Required \n\n\n\nContact Information: \n\n\n\nEmail: cjeyarajahschontario.ca \n\n\n\nPhone: (416) 454-5539
URL:https://schcontario.ca/event/mindfulness-matters-workshop-2/2024-01-31/
CATEGORIES:Caregiver Wellness
END:VEVENT
BEGIN:VEVENT
DTSTART;TZID=UTC:20240207T130000
DTEND;TZID=UTC:20240207T140000
DTSTAMP:20260419T181539
CREATED:20230622T212543Z
LAST-MODIFIED:20240307T151000Z
UID:10013476-1707310800-1707314400@schcontario.ca
SUMMARY:Mindfulness Matters Workshop
DESCRIPTION:Educating caregivers through mindfulness videos and inspirational conversations. \n\n\n\nEligibility: 18-80 year olds \n\n\n\nRegistration Required \n\n\n\nContact Information: \n\n\n\nEmail: cjeyarajahschontario.ca \n\n\n\nPhone: (416) 454-5539
URL:https://schcontario.ca/event/mindfulness-matters-workshop-2/2024-02-07/
CATEGORIES:Caregiver Wellness
END:VEVENT
BEGIN:VEVENT
DTSTART;TZID=America/Toronto:20240313T130000
DTEND;TZID=America/Toronto:20240313T140000
DTSTAMP:20260419T181539
CREATED:20240307T144427Z
LAST-MODIFIED:20240307T144738Z
UID:10019260-1710334800-1710338400@schcontario.ca
SUMMARY:Mindfulness Matters ( Virtual - Zoom)
DESCRIPTION:Free 4 week series on mindfulness for caregivers. \n\n\n\nPlease contact (437) 780 0037 orHealthPromotion@schcontario.ca to register
URL:https://schcontario.ca/event/mindfulness-matters-virtual-zoom/2024-03-13/
CATEGORIES:Caregiver Wellness,Health and Well-Being
END:VEVENT
BEGIN:VEVENT
DTSTART;TZID=America/Toronto:20240320T130000
DTEND;TZID=America/Toronto:20240320T140000
DTSTAMP:20260419T181539
CREATED:20240307T144427Z
LAST-MODIFIED:20240307T144738Z
UID:10019261-1710939600-1710943200@schcontario.ca
SUMMARY:Mindfulness Matters ( Virtual - Zoom)
DESCRIPTION:Free 4 week series on mindfulness for caregivers. \n\n\n\nPlease contact (437) 780 0037 orHealthPromotion@schcontario.ca to register
URL:https://schcontario.ca/event/mindfulness-matters-virtual-zoom/2024-03-20/
CATEGORIES:Caregiver Wellness,Health and Well-Being
END:VEVENT
BEGIN:VEVENT
DTSTART;TZID=America/Toronto:20240327T130000
DTEND;TZID=America/Toronto:20240327T140000
DTSTAMP:20260419T181539
CREATED:20240307T144427Z
LAST-MODIFIED:20240307T144738Z
UID:10019262-1711544400-1711548000@schcontario.ca
SUMMARY:Mindfulness Matters ( Virtual - Zoom)
DESCRIPTION:Free 4 week series on mindfulness for caregivers. \n\n\n\nPlease contact (437) 780 0037 orHealthPromotion@schcontario.ca to register
URL:https://schcontario.ca/event/mindfulness-matters-virtual-zoom/2024-03-27/
CATEGORIES:Caregiver Wellness,Health and Well-Being
END:VEVENT
BEGIN:VEVENT
DTSTART;TZID=America/Toronto:20240403T130000
DTEND;TZID=America/Toronto:20240403T140000
DTSTAMP:20260419T181539
CREATED:20240307T144427Z
LAST-MODIFIED:20240307T144738Z
UID:10019263-1712149200-1712152800@schcontario.ca
SUMMARY:Mindfulness Matters ( Virtual - Zoom)
DESCRIPTION:Free 4 week series on mindfulness for caregivers. \n\n\n\nPlease contact (437) 780 0037 orHealthPromotion@schcontario.ca to register
URL:https://schcontario.ca/event/mindfulness-matters-virtual-zoom/2024-04-03/
CATEGORIES:Caregiver Wellness,Health and Well-Being
END:VEVENT
BEGIN:VEVENT
DTSTART;TZID=America/Toronto:20240716T140000
DTEND;TZID=America/Toronto:20240716T150000
DTSTAMP:20260419T181539
CREATED:20240614T195702Z
LAST-MODIFIED:20241113T210358Z
UID:10019716-1721138400-1721142000@schcontario.ca
SUMMARY:Understanding Mental Health and Well-Being in Later Life – TAMIL (Virtual)
DESCRIPTION:Caregiver Wellness program in collaboration with Health Promotion Specialist will be offering the Understanding Mental Health and Well-Being in Later Life workshop series\, developed by CAMH for seniors and caregivers in Tamil.Learn more about the Understanding Mental Health and Well-Being in Later Life project by CAMH here.Date: Once a month starting Tuesday\, January 30\, 2024Time: 2 – 3 pmPlease contact 416 847 4129 or djayapathy@schcontario.ca to register for the workshop series.
URL:https://schcontario.ca/event/understanding-mental-health-and-well-being-in-later-life-tamil-virtual-3/2024-07-16/
CATEGORIES:Caregiver Wellness
END:VEVENT
BEGIN:VEVENT
DTSTART;TZID=America/Toronto:20240820T140000
DTEND;TZID=America/Toronto:20240820T150000
DTSTAMP:20260419T181539
CREATED:20240614T195702Z
LAST-MODIFIED:20241113T210358Z
UID:10019970-1724162400-1724166000@schcontario.ca
SUMMARY:Understanding Mental Health and Well-Being in Later Life – TAMIL (Virtual)
DESCRIPTION:Caregiver Wellness program in collaboration with Health Promotion Specialist will be offering the Understanding Mental Health and Well-Being in Later Life workshop series\, developed by CAMH for seniors and caregivers in Tamil.Learn more about the Understanding Mental Health and Well-Being in Later Life project by CAMH here.Date: Once a month starting Tuesday\, January 30\, 2024Time: 2 – 3 pmPlease contact 416 847 4129 or djayapathy@schcontario.ca to register for the workshop series.
URL:https://schcontario.ca/event/understanding-mental-health-and-well-being-in-later-life-tamil-virtual-3/2024-08-20/
CATEGORIES:Caregiver Wellness
END:VEVENT
BEGIN:VEVENT
DTSTART;TZID=America/Toronto:20240917T140000
DTEND;TZID=America/Toronto:20240917T150000
DTSTAMP:20260419T181539
CREATED:20240614T195702Z
LAST-MODIFIED:20241113T210358Z
UID:10019971-1726581600-1726585200@schcontario.ca
SUMMARY:Understanding Mental Health and Well-Being in Later Life – TAMIL (Virtual)
DESCRIPTION:Caregiver Wellness program in collaboration with Health Promotion Specialist will be offering the Understanding Mental Health and Well-Being in Later Life workshop series\, developed by CAMH for seniors and caregivers in Tamil.Learn more about the Understanding Mental Health and Well-Being in Later Life project by CAMH here.Date: Once a month starting Tuesday\, January 30\, 2024Time: 2 – 3 pmPlease contact 416 847 4129 or djayapathy@schcontario.ca to register for the workshop series.
URL:https://schcontario.ca/event/understanding-mental-health-and-well-being-in-later-life-tamil-virtual-3/2024-09-17/
CATEGORIES:Caregiver Wellness
END:VEVENT
BEGIN:VEVENT
DTSTART;TZID=America/Toronto:20241015T140000
DTEND;TZID=America/Toronto:20241015T150000
DTSTAMP:20260419T181539
CREATED:20240614T195702Z
LAST-MODIFIED:20241113T210358Z
UID:10019972-1729000800-1729004400@schcontario.ca
SUMMARY:Understanding Mental Health and Well-Being in Later Life – TAMIL (Virtual)
DESCRIPTION:Caregiver Wellness program in collaboration with Health Promotion Specialist will be offering the Understanding Mental Health and Well-Being in Later Life workshop series\, developed by CAMH for seniors and caregivers in Tamil.Learn more about the Understanding Mental Health and Well-Being in Later Life project by CAMH here.Date: Once a month starting Tuesday\, January 30\, 2024Time: 2 – 3 pmPlease contact 416 847 4129 or djayapathy@schcontario.ca to register for the workshop series.
URL:https://schcontario.ca/event/understanding-mental-health-and-well-being-in-later-life-tamil-virtual-3/2024-10-15/
CATEGORIES:Caregiver Wellness
END:VEVENT
BEGIN:VEVENT
DTSTART;TZID=America/Toronto:20241107T180000
DTEND;TZID=America/Toronto:20241107T190000
DTSTAMP:20260419T181539
CREATED:20241018T160630Z
LAST-MODIFIED:20241018T160635Z
UID:10021250-1731002400-1731006000@schcontario.ca
SUMMARY:Drop-In/Meet & Greet
DESCRIPTION:Drop in for a Meet & Greet with the new community wellness caregiver educator and learn about upcoming workshops at the Hub (Room M05 – Upper Level).
URL:https://schcontario.ca/event/drop-in-meet-greet/2024-11-07/
LOCATION:The Hub – Mid Scarborough\, 2660 Eglinton Ave East\, Scarborough\, Ontario\, M1K 2S3\, Canada
CATEGORIES:Caregiver Wellness
ORGANIZER;CN="Caregiver Wellness":MAILTO:caregiverwellness@schcontario.ca 
END:VEVENT
BEGIN:VEVENT
DTSTART;TZID=America/Toronto:20241119T140000
DTEND;TZID=America/Toronto:20241119T150000
DTSTAMP:20260419T181539
CREATED:20240614T195702Z
LAST-MODIFIED:20241113T210358Z
UID:10019973-1732024800-1732028400@schcontario.ca
SUMMARY:Understanding Mental Health and Well-Being in Later Life – TAMIL (Virtual)
DESCRIPTION:Caregiver Wellness program in collaboration with Health Promotion Specialist will be offering the Understanding Mental Health and Well-Being in Later Life workshop series\, developed by CAMH for seniors and caregivers in Tamil.Learn more about the Understanding Mental Health and Well-Being in Later Life project by CAMH here.Date: Once a month starting Tuesday\, January 30\, 2024Time: 2 – 3 pmPlease contact 416 847 4129 or djayapathy@schcontario.ca to register for the workshop series.
URL:https://schcontario.ca/event/understanding-mental-health-and-well-being-in-later-life-tamil-virtual-3/2024-11-19/
CATEGORIES:Caregiver Wellness
END:VEVENT
BEGIN:VEVENT
DTSTART;TZID=America/Toronto:20241126T140000
DTEND;TZID=America/Toronto:20241126T153000
DTSTAMP:20260419T181539
CREATED:20241127T161300Z
LAST-MODIFIED:20241127T161305Z
UID:10021336-1732629600-1732635000@schcontario.ca
SUMMARY:Understanding Mental Health and Well-Being in Later Life - In Person
DESCRIPTION:Health Promotion and Hospice Palliative Care will be offering the Understanding Mental Health and Well-Being in Later Life workshop series\, developed by CAMH for seniors 55+ at the Active Living Centre.  \n\n\n\nLearn more about the Understanding Mental Health and Well-Being in Later Life project by CAMH here. \n\n\n\nDate: Once a month starting Tuesday\, November 26\, 2024Time: 2 – 3:30 pmLocation: Active Living Centre \n\n\n\nTo register by email\, please contact activelivingcentre@schcontario.ca. To register by phone\, please contact 416-847-4134 (for new clients) or 416-847-4136 (for existing clients).
URL:https://schcontario.ca/event/understanding-mental-health-and-well-being-in-later-life-in-person/2024-11-26/
CATEGORIES:Caregiver Wellness
END:VEVENT
BEGIN:VEVENT
DTSTART;TZID=America/Toronto:20241129T130000
DTEND;TZID=America/Toronto:20241129T143000
DTSTAMP:20260419T181539
CREATED:20241106T183600Z
LAST-MODIFIED:20241114T194800Z
UID:10021260-1732885200-1732890600@schcontario.ca
SUMMARY:Caregiver 101 Webinar
DESCRIPTION:Do you provide emotional and/or physical support to a family member\, partner\, friend\, or neighbour? If so\, you are a caregiver. Being a caregiver comes with unique responsibilities and it can be overwhelming at times. Come join this educational session with the community wellness caregiver educator to learn more. \n\n\n\nRegistration Contact: caregiverwellness@schcontario.ca \n\n\n\nLocation: Virtual
URL:https://schcontario.ca/event/caregiver-101-webinar/
CATEGORIES:Caregiver Wellness
ORGANIZER;CN="Caregiver Wellness":MAILTO:caregiverwellness@schcontario.ca 
END:VEVENT
BEGIN:VEVENT
DTSTART;TZID=America/Toronto:20241217T140000
DTEND;TZID=America/Toronto:20241217T150000
DTSTAMP:20260419T181539
CREATED:20240614T195702Z
LAST-MODIFIED:20241113T210358Z
UID:10019974-1734444000-1734447600@schcontario.ca
SUMMARY:Understanding Mental Health and Well-Being in Later Life – TAMIL (Virtual)
DESCRIPTION:Caregiver Wellness program in collaboration with Health Promotion Specialist will be offering the Understanding Mental Health and Well-Being in Later Life workshop series\, developed by CAMH for seniors and caregivers in Tamil.Learn more about the Understanding Mental Health and Well-Being in Later Life project by CAMH here.Date: Once a month starting Tuesday\, January 30\, 2024Time: 2 – 3 pmPlease contact 416 847 4129 or djayapathy@schcontario.ca to register for the workshop series.
URL:https://schcontario.ca/event/understanding-mental-health-and-well-being-in-later-life-tamil-virtual-3/2024-12-17/
CATEGORIES:Caregiver Wellness
END:VEVENT
BEGIN:VEVENT
DTSTART;TZID=America/Toronto:20241224T140000
DTEND;TZID=America/Toronto:20241224T153000
DTSTAMP:20260419T181539
CREATED:20241127T161300Z
LAST-MODIFIED:20241127T161305Z
UID:10021337-1735048800-1735054200@schcontario.ca
SUMMARY:Understanding Mental Health and Well-Being in Later Life - In Person
DESCRIPTION:Health Promotion and Hospice Palliative Care will be offering the Understanding Mental Health and Well-Being in Later Life workshop series\, developed by CAMH for seniors 55+ at the Active Living Centre.  \n\n\n\nLearn more about the Understanding Mental Health and Well-Being in Later Life project by CAMH here. \n\n\n\nDate: Once a month starting Tuesday\, November 26\, 2024Time: 2 – 3:30 pmLocation: Active Living Centre \n\n\n\nTo register by email\, please contact activelivingcentre@schcontario.ca. To register by phone\, please contact 416-847-4134 (for new clients) or 416-847-4136 (for existing clients).
URL:https://schcontario.ca/event/understanding-mental-health-and-well-being-in-later-life-in-person/2024-12-24/
CATEGORIES:Caregiver Wellness
END:VEVENT
BEGIN:VEVENT
DTSTART;TZID=America/Toronto:20250128T140000
DTEND;TZID=America/Toronto:20250128T153000
DTSTAMP:20260419T181539
CREATED:20241127T161300Z
LAST-MODIFIED:20241127T161305Z
UID:10021338-1738072800-1738078200@schcontario.ca
SUMMARY:Understanding Mental Health and Well-Being in Later Life - In Person
DESCRIPTION:Health Promotion and Hospice Palliative Care will be offering the Understanding Mental Health and Well-Being in Later Life workshop series\, developed by CAMH for seniors 55+ at the Active Living Centre.  \n\n\n\nLearn more about the Understanding Mental Health and Well-Being in Later Life project by CAMH here. \n\n\n\nDate: Once a month starting Tuesday\, November 26\, 2024Time: 2 – 3:30 pmLocation: Active Living Centre \n\n\n\nTo register by email\, please contact activelivingcentre@schcontario.ca. To register by phone\, please contact 416-847-4134 (for new clients) or 416-847-4136 (for existing clients).
URL:https://schcontario.ca/event/understanding-mental-health-and-well-being-in-later-life-in-person/2025-01-28/
CATEGORIES:Caregiver Wellness
END:VEVENT
BEGIN:VEVENT
DTSTART;TZID=America/Toronto:20250225T140000
DTEND;TZID=America/Toronto:20250225T153000
DTSTAMP:20260419T181539
CREATED:20241127T161300Z
LAST-MODIFIED:20241127T161305Z
UID:10021339-1740492000-1740497400@schcontario.ca
SUMMARY:Understanding Mental Health and Well-Being in Later Life - In Person
DESCRIPTION:Health Promotion and Hospice Palliative Care will be offering the Understanding Mental Health and Well-Being in Later Life workshop series\, developed by CAMH for seniors 55+ at the Active Living Centre.  \n\n\n\nLearn more about the Understanding Mental Health and Well-Being in Later Life project by CAMH here. \n\n\n\nDate: Once a month starting Tuesday\, November 26\, 2024Time: 2 – 3:30 pmLocation: Active Living Centre \n\n\n\nTo register by email\, please contact activelivingcentre@schcontario.ca. To register by phone\, please contact 416-847-4134 (for new clients) or 416-847-4136 (for existing clients).
URL:https://schcontario.ca/event/understanding-mental-health-and-well-being-in-later-life-in-person/2025-02-25/
CATEGORIES:Caregiver Wellness
END:VEVENT
BEGIN:VEVENT
DTSTART;TZID=America/Toronto:20250325T140000
DTEND;TZID=America/Toronto:20250325T153000
DTSTAMP:20260419T181539
CREATED:20241127T161300Z
LAST-MODIFIED:20241127T161305Z
UID:10021340-1742911200-1742916600@schcontario.ca
SUMMARY:Understanding Mental Health and Well-Being in Later Life - In Person
DESCRIPTION:Health Promotion and Hospice Palliative Care will be offering the Understanding Mental Health and Well-Being in Later Life workshop series\, developed by CAMH for seniors 55+ at the Active Living Centre.  \n\n\n\nLearn more about the Understanding Mental Health and Well-Being in Later Life project by CAMH here. \n\n\n\nDate: Once a month starting Tuesday\, November 26\, 2024Time: 2 – 3:30 pmLocation: Active Living Centre \n\n\n\nTo register by email\, please contact activelivingcentre@schcontario.ca. To register by phone\, please contact 416-847-4134 (for new clients) or 416-847-4136 (for existing clients).
URL:https://schcontario.ca/event/understanding-mental-health-and-well-being-in-later-life-in-person/2025-03-25/
CATEGORIES:Caregiver Wellness
END:VEVENT
BEGIN:VEVENT
DTSTART;TZID=America/Toronto:20250422T140000
DTEND;TZID=America/Toronto:20250422T153000
DTSTAMP:20260419T181539
CREATED:20241127T161300Z
LAST-MODIFIED:20241127T161305Z
UID:10021341-1745330400-1745335800@schcontario.ca
SUMMARY:Understanding Mental Health and Well-Being in Later Life - In Person
DESCRIPTION:Health Promotion and Hospice Palliative Care will be offering the Understanding Mental Health and Well-Being in Later Life workshop series\, developed by CAMH for seniors 55+ at the Active Living Centre.  \n\n\n\nLearn more about the Understanding Mental Health and Well-Being in Later Life project by CAMH here. \n\n\n\nDate: Once a month starting Tuesday\, November 26\, 2024Time: 2 – 3:30 pmLocation: Active Living Centre \n\n\n\nTo register by email\, please contact activelivingcentre@schcontario.ca. To register by phone\, please contact 416-847-4134 (for new clients) or 416-847-4136 (for existing clients).
URL:https://schcontario.ca/event/understanding-mental-health-and-well-being-in-later-life-in-person/2025-04-22/
CATEGORIES:Caregiver Wellness
END:VEVENT
BEGIN:VEVENT
DTSTART;TZID=America/Toronto:20250527T140000
DTEND;TZID=America/Toronto:20250527T153000
DTSTAMP:20260419T181539
CREATED:20241127T161300Z
LAST-MODIFIED:20241127T161305Z
UID:10021342-1748354400-1748359800@schcontario.ca
SUMMARY:Understanding Mental Health and Well-Being in Later Life - In Person
DESCRIPTION:Health Promotion and Hospice Palliative Care will be offering the Understanding Mental Health and Well-Being in Later Life workshop series\, developed by CAMH for seniors 55+ at the Active Living Centre.  \n\n\n\nLearn more about the Understanding Mental Health and Well-Being in Later Life project by CAMH here. \n\n\n\nDate: Once a month starting Tuesday\, November 26\, 2024Time: 2 – 3:30 pmLocation: Active Living Centre \n\n\n\nTo register by email\, please contact activelivingcentre@schcontario.ca. To register by phone\, please contact 416-847-4134 (for new clients) or 416-847-4136 (for existing clients).
URL:https://schcontario.ca/event/understanding-mental-health-and-well-being-in-later-life-in-person/2025-05-27/
CATEGORIES:Caregiver Wellness
END:VEVENT
BEGIN:VEVENT
DTSTART;TZID=America/Toronto:20250624T140000
DTEND;TZID=America/Toronto:20250624T153000
DTSTAMP:20260419T181539
CREATED:20241127T161300Z
LAST-MODIFIED:20241127T161305Z
UID:10021343-1750773600-1750779000@schcontario.ca
SUMMARY:Understanding Mental Health and Well-Being in Later Life - In Person
DESCRIPTION:Health Promotion and Hospice Palliative Care will be offering the Understanding Mental Health and Well-Being in Later Life workshop series\, developed by CAMH for seniors 55+ at the Active Living Centre.  \n\n\n\nLearn more about the Understanding Mental Health and Well-Being in Later Life project by CAMH here. \n\n\n\nDate: Once a month starting Tuesday\, November 26\, 2024Time: 2 – 3:30 pmLocation: Active Living Centre \n\n\n\nTo register by email\, please contact activelivingcentre@schcontario.ca. To register by phone\, please contact 416-847-4134 (for new clients) or 416-847-4136 (for existing clients).
URL:https://schcontario.ca/event/understanding-mental-health-and-well-being-in-later-life-in-person/2025-06-24/
CATEGORIES:Caregiver Wellness
END:VEVENT
BEGIN:VEVENT
DTSTART;TZID=America/Toronto:20250722T140000
DTEND;TZID=America/Toronto:20250722T153000
DTSTAMP:20260419T181539
CREATED:20241127T161300Z
LAST-MODIFIED:20241127T161305Z
UID:10021344-1753192800-1753198200@schcontario.ca
SUMMARY:Understanding Mental Health and Well-Being in Later Life - In Person
DESCRIPTION:Health Promotion and Hospice Palliative Care will be offering the Understanding Mental Health and Well-Being in Later Life workshop series\, developed by CAMH for seniors 55+ at the Active Living Centre.  \n\n\n\nLearn more about the Understanding Mental Health and Well-Being in Later Life project by CAMH here. \n\n\n\nDate: Once a month starting Tuesday\, November 26\, 2024Time: 2 – 3:30 pmLocation: Active Living Centre \n\n\n\nTo register by email\, please contact activelivingcentre@schcontario.ca. To register by phone\, please contact 416-847-4134 (for new clients) or 416-847-4136 (for existing clients).
URL:https://schcontario.ca/event/understanding-mental-health-and-well-being-in-later-life-in-person/2025-07-22/
CATEGORIES:Caregiver Wellness
END:VEVENT
END:VCALENDAR