BEGIN:VCALENDAR
VERSION:2.0
PRODID:-//Scarborough Centre for Healthy Communities - ECPv6.15.20//NONSGML v1.0//EN
CALSCALE:GREGORIAN
METHOD:PUBLISH
X-WR-CALNAME:Scarborough Centre for Healthy Communities
X-ORIGINAL-URL:https://schcontario.ca
X-WR-CALDESC:Events for Scarborough Centre for Healthy Communities
REFRESH-INTERVAL;VALUE=DURATION:PT1H
X-Robots-Tag:noindex
X-PUBLISHED-TTL:PT1H
BEGIN:VTIMEZONE
TZID:UTC
BEGIN:STANDARD
TZOFFSETFROM:+0000
TZOFFSETTO:+0000
TZNAME:UTC
DTSTART:20220101T000000
END:STANDARD
END:VTIMEZONE
BEGIN:VTIMEZONE
TZID:UTC
BEGIN:STANDARD
TZOFFSETFROM:+0000
TZOFFSETTO:+0000
TZNAME:UTC
DTSTART:20220101T000000
END:STANDARD
END:VTIMEZONE
BEGIN:VEVENT
DTSTART;TZID=UTC:20230503T130000
DTEND;TZID=UTC:20230503T140000
DTSTAMP:20260419T130640
CREATED:20230622T212543Z
LAST-MODIFIED:20240307T151000Z
UID:10019381-1683118800-1683122400@schcontario.ca
SUMMARY:Mindfulness Matters Workshop
DESCRIPTION:Educating caregivers through mindfulness videos and inspirational conversations. \n\n\n\nEligibility: 18-80 year olds \n\n\n\nRegistration Required \n\n\n\nContact Information: \n\n\n\nEmail: cjeyarajahschontario.ca \n\n\n\nPhone: (416) 454-5539
URL:https://schcontario.ca/event/mindfulness-matters-workshop-2/2023-05-03/
CATEGORIES:Caregiver Wellness
END:VEVENT
BEGIN:VEVENT
DTSTART;TZID=UTC:20230510T130000
DTEND;TZID=UTC:20230510T140000
DTSTAMP:20260419T130640
CREATED:20230622T212543Z
LAST-MODIFIED:20240307T151000Z
UID:10019382-1683723600-1683727200@schcontario.ca
SUMMARY:Mindfulness Matters Workshop
DESCRIPTION:Educating caregivers through mindfulness videos and inspirational conversations. \n\n\n\nEligibility: 18-80 year olds \n\n\n\nRegistration Required \n\n\n\nContact Information: \n\n\n\nEmail: cjeyarajahschontario.ca \n\n\n\nPhone: (416) 454-5539
URL:https://schcontario.ca/event/mindfulness-matters-workshop-2/2023-05-10/
CATEGORIES:Caregiver Wellness
END:VEVENT
BEGIN:VEVENT
DTSTART;TZID=UTC:20230517T130000
DTEND;TZID=UTC:20230517T140000
DTSTAMP:20260419T130640
CREATED:20230622T212543Z
LAST-MODIFIED:20240307T151000Z
UID:10019383-1684328400-1684332000@schcontario.ca
SUMMARY:Mindfulness Matters Workshop
DESCRIPTION:Educating caregivers through mindfulness videos and inspirational conversations. \n\n\n\nEligibility: 18-80 year olds \n\n\n\nRegistration Required \n\n\n\nContact Information: \n\n\n\nEmail: cjeyarajahschontario.ca \n\n\n\nPhone: (416) 454-5539
URL:https://schcontario.ca/event/mindfulness-matters-workshop-2/2023-05-17/
CATEGORIES:Caregiver Wellness
END:VEVENT
BEGIN:VEVENT
DTSTART;TZID=UTC:20230524T130000
DTEND;TZID=UTC:20230524T140000
DTSTAMP:20260419T130640
CREATED:20230622T212543Z
LAST-MODIFIED:20240307T151000Z
UID:10019384-1684933200-1684936800@schcontario.ca
SUMMARY:Mindfulness Matters Workshop
DESCRIPTION:Educating caregivers through mindfulness videos and inspirational conversations. \n\n\n\nEligibility: 18-80 year olds \n\n\n\nRegistration Required \n\n\n\nContact Information: \n\n\n\nEmail: cjeyarajahschontario.ca \n\n\n\nPhone: (416) 454-5539
URL:https://schcontario.ca/event/mindfulness-matters-workshop-2/2023-05-24/
CATEGORIES:Caregiver Wellness
END:VEVENT
BEGIN:VEVENT
DTSTART;TZID=UTC:20230531T130000
DTEND;TZID=UTC:20230531T140000
DTSTAMP:20260419T130640
CREATED:20230622T212543Z
LAST-MODIFIED:20240307T151000Z
UID:10019385-1685538000-1685541600@schcontario.ca
SUMMARY:Mindfulness Matters Workshop
DESCRIPTION:Educating caregivers through mindfulness videos and inspirational conversations. \n\n\n\nEligibility: 18-80 year olds \n\n\n\nRegistration Required \n\n\n\nContact Information: \n\n\n\nEmail: cjeyarajahschontario.ca \n\n\n\nPhone: (416) 454-5539
URL:https://schcontario.ca/event/mindfulness-matters-workshop-2/2023-05-31/
CATEGORIES:Caregiver Wellness
END:VEVENT
BEGIN:VEVENT
DTSTART;TZID=UTC:20230607T130000
DTEND;TZID=UTC:20230607T133000
DTSTAMP:20260419T130640
CREATED:20230619T214313Z
LAST-MODIFIED:20230619T214314Z
UID:10013324-1686142800-1686144600@schcontario.ca
SUMMARY:Mindfulness Matters Workshop
DESCRIPTION:Online – Zoom  \n\n\n\nEducating Caregivers through mindfulness videos and inspirational conversations  \n\n\n\nEligibility:  18 -80 years \n\n\n\nRegistration required  \n\n\n\nContact: cjeyarajah@schcontario.ca    \n\n\n\n              (416) 454-5539
URL:https://schcontario.ca/event/mindfulness-matters-workshop/
CATEGORIES:Caregiver Wellness
ORGANIZER;CN="Caregiver Wellness":MAILTO:caregiverwellness@schcontario.ca 
END:VEVENT
BEGIN:VEVENT
DTSTART;TZID=UTC:20230607T130000
DTEND;TZID=UTC:20230607T140000
DTSTAMP:20260419T130640
CREATED:20230622T212543Z
LAST-MODIFIED:20240307T151000Z
UID:10019386-1686142800-1686146400@schcontario.ca
SUMMARY:Mindfulness Matters Workshop
DESCRIPTION:Educating caregivers through mindfulness videos and inspirational conversations. \n\n\n\nEligibility: 18-80 year olds \n\n\n\nRegistration Required \n\n\n\nContact Information: \n\n\n\nEmail: cjeyarajahschontario.ca \n\n\n\nPhone: (416) 454-5539
URL:https://schcontario.ca/event/mindfulness-matters-workshop-2/2023-06-07/
CATEGORIES:Caregiver Wellness
END:VEVENT
BEGIN:VEVENT
DTSTART;TZID=UTC:20230614T130000
DTEND;TZID=UTC:20230614T140000
DTSTAMP:20260419T130640
CREATED:20230622T212543Z
LAST-MODIFIED:20240307T151000Z
UID:10019387-1686747600-1686751200@schcontario.ca
SUMMARY:Mindfulness Matters Workshop
DESCRIPTION:Educating caregivers through mindfulness videos and inspirational conversations. \n\n\n\nEligibility: 18-80 year olds \n\n\n\nRegistration Required \n\n\n\nContact Information: \n\n\n\nEmail: cjeyarajahschontario.ca \n\n\n\nPhone: (416) 454-5539
URL:https://schcontario.ca/event/mindfulness-matters-workshop-2/2023-06-14/
CATEGORIES:Caregiver Wellness
END:VEVENT
BEGIN:VEVENT
DTSTART;TZID=UTC:20230621T130000
DTEND;TZID=UTC:20230621T140000
DTSTAMP:20260419T130640
CREATED:20230622T212543Z
LAST-MODIFIED:20240307T151000Z
UID:10019388-1687352400-1687356000@schcontario.ca
SUMMARY:Mindfulness Matters Workshop
DESCRIPTION:Educating caregivers through mindfulness videos and inspirational conversations. \n\n\n\nEligibility: 18-80 year olds \n\n\n\nRegistration Required \n\n\n\nContact Information: \n\n\n\nEmail: cjeyarajahschontario.ca \n\n\n\nPhone: (416) 454-5539
URL:https://schcontario.ca/event/mindfulness-matters-workshop-2/2023-06-21/
CATEGORIES:Caregiver Wellness
END:VEVENT
BEGIN:VEVENT
DTSTART;TZID=UTC:20230628T130000
DTEND;TZID=UTC:20230628T140000
DTSTAMP:20260419T130640
CREATED:20230622T212543Z
LAST-MODIFIED:20240307T151000Z
UID:10013325-1687957200-1687960800@schcontario.ca
SUMMARY:Mindfulness Matters Workshop
DESCRIPTION:Educating caregivers through mindfulness videos and inspirational conversations. \n\n\n\nEligibility: 18-80 year olds \n\n\n\nRegistration Required \n\n\n\nContact Information: \n\n\n\nEmail: cjeyarajahschontario.ca \n\n\n\nPhone: (416) 454-5539
URL:https://schcontario.ca/event/mindfulness-matters-workshop-2/2023-06-28/
CATEGORIES:Caregiver Wellness
END:VEVENT
BEGIN:VEVENT
DTSTART;TZID=UTC:20230705T130000
DTEND;TZID=UTC:20230705T140000
DTSTAMP:20260419T130640
CREATED:20230622T212543Z
LAST-MODIFIED:20240307T151000Z
UID:10013445-1688562000-1688565600@schcontario.ca
SUMMARY:Mindfulness Matters Workshop
DESCRIPTION:Educating caregivers through mindfulness videos and inspirational conversations. \n\n\n\nEligibility: 18-80 year olds \n\n\n\nRegistration Required \n\n\n\nContact Information: \n\n\n\nEmail: cjeyarajahschontario.ca \n\n\n\nPhone: (416) 454-5539
URL:https://schcontario.ca/event/mindfulness-matters-workshop-2/2023-07-05/
CATEGORIES:Caregiver Wellness
END:VEVENT
BEGIN:VEVENT
DTSTART;TZID=UTC:20230711T153000
DTEND;TZID=UTC:20230711T170000
DTSTAMP:20260419T130640
CREATED:20230622T215359Z
LAST-MODIFIED:20230704T180755Z
UID:10013349-1689089400-1689094800@schcontario.ca
SUMMARY:Caregiver Stress and Burnout Workshop
DESCRIPTION:Educating caregivers through Wellbeing Workshops and inspirational conversations.  \n\n\n\nEligibility: 18-80 year olds \n\n\n\nRegistration Required! \n\n\n\nContact Information: \n\n\n\nEmail: cjeyarajahschontario.ca \n\n\n\nPhone: (416) 454-5539
URL:https://schcontario.ca/event/caregiver-stress-and-burnout-workshop/
LOCATION:Scarborough Village Community Centre\, 3600 Kingston Rd\, Scarborough\, Ontario\, M1M1R9\, Canada
CATEGORIES:Caregiver Wellness
END:VEVENT
BEGIN:VEVENT
DTSTART;TZID=UTC:20230712T130000
DTEND;TZID=UTC:20230712T140000
DTSTAMP:20260419T130640
CREATED:20230622T212543Z
LAST-MODIFIED:20240307T151000Z
UID:10013446-1689166800-1689170400@schcontario.ca
SUMMARY:Mindfulness Matters Workshop
DESCRIPTION:Educating caregivers through mindfulness videos and inspirational conversations. \n\n\n\nEligibility: 18-80 year olds \n\n\n\nRegistration Required \n\n\n\nContact Information: \n\n\n\nEmail: cjeyarajahschontario.ca \n\n\n\nPhone: (416) 454-5539
URL:https://schcontario.ca/event/mindfulness-matters-workshop-2/2023-07-12/
CATEGORIES:Caregiver Wellness
END:VEVENT
BEGIN:VEVENT
DTSTART;TZID=UTC:20230719T130000
DTEND;TZID=UTC:20230719T140000
DTSTAMP:20260419T130640
CREATED:20230622T212543Z
LAST-MODIFIED:20240307T151000Z
UID:10013447-1689771600-1689775200@schcontario.ca
SUMMARY:Mindfulness Matters Workshop
DESCRIPTION:Educating caregivers through mindfulness videos and inspirational conversations. \n\n\n\nEligibility: 18-80 year olds \n\n\n\nRegistration Required \n\n\n\nContact Information: \n\n\n\nEmail: cjeyarajahschontario.ca \n\n\n\nPhone: (416) 454-5539
URL:https://schcontario.ca/event/mindfulness-matters-workshop-2/2023-07-19/
CATEGORIES:Caregiver Wellness
END:VEVENT
BEGIN:VEVENT
DTSTART;TZID=UTC:20230726T130000
DTEND;TZID=UTC:20230726T140000
DTSTAMP:20260419T130640
CREATED:20230622T212543Z
LAST-MODIFIED:20240307T151000Z
UID:10013448-1690376400-1690380000@schcontario.ca
SUMMARY:Mindfulness Matters Workshop
DESCRIPTION:Educating caregivers through mindfulness videos and inspirational conversations. \n\n\n\nEligibility: 18-80 year olds \n\n\n\nRegistration Required \n\n\n\nContact Information: \n\n\n\nEmail: cjeyarajahschontario.ca \n\n\n\nPhone: (416) 454-5539
URL:https://schcontario.ca/event/mindfulness-matters-workshop-2/2023-07-26/
CATEGORIES:Caregiver Wellness
END:VEVENT
BEGIN:VEVENT
DTSTART;TZID=UTC:20230802T130000
DTEND;TZID=UTC:20230802T140000
DTSTAMP:20260419T130640
CREATED:20230622T212543Z
LAST-MODIFIED:20240307T151000Z
UID:10013449-1690981200-1690984800@schcontario.ca
SUMMARY:Mindfulness Matters Workshop
DESCRIPTION:Educating caregivers through mindfulness videos and inspirational conversations. \n\n\n\nEligibility: 18-80 year olds \n\n\n\nRegistration Required \n\n\n\nContact Information: \n\n\n\nEmail: cjeyarajahschontario.ca \n\n\n\nPhone: (416) 454-5539
URL:https://schcontario.ca/event/mindfulness-matters-workshop-2/2023-08-02/
CATEGORIES:Caregiver Wellness
END:VEVENT
BEGIN:VEVENT
DTSTART;TZID=UTC:20230808T153000
DTEND;TZID=UTC:20230808T170000
DTSTAMP:20260419T130640
CREATED:20230712T001129Z
LAST-MODIFIED:20230712T001144Z
UID:10013706-1691508600-1691514000@schcontario.ca
SUMMARY:Caregiver Wellness Educational Workshop
DESCRIPTION:Educating caregivers through Wellbeing Workshops and inspirational conversations.  \n\n\n\nEligibility: 18-80 year olds \n\n\n\nRegistration Required! \n\n\n\nContact Information: \n\n\n\nEmail: cjeyarajahschontario.ca \n\n\n\nPhone: (416) 454-5539
URL:https://schcontario.ca/event/caregiver-stress-and-burnout-workshop-2/
LOCATION:Scarborough Village Community Centre\, 3600 Kingston Rd\, Scarborough\, Ontario\, M1M1R9\, Canada
CATEGORIES:Caregiver Wellness
END:VEVENT
BEGIN:VEVENT
DTSTART;TZID=UTC:20230809T130000
DTEND;TZID=UTC:20230809T140000
DTSTAMP:20260419T130640
CREATED:20230622T212543Z
LAST-MODIFIED:20240307T151000Z
UID:10013450-1691586000-1691589600@schcontario.ca
SUMMARY:Mindfulness Matters Workshop
DESCRIPTION:Educating caregivers through mindfulness videos and inspirational conversations. \n\n\n\nEligibility: 18-80 year olds \n\n\n\nRegistration Required \n\n\n\nContact Information: \n\n\n\nEmail: cjeyarajahschontario.ca \n\n\n\nPhone: (416) 454-5539
URL:https://schcontario.ca/event/mindfulness-matters-workshop-2/2023-08-09/
CATEGORIES:Caregiver Wellness
END:VEVENT
BEGIN:VEVENT
DTSTART;TZID=UTC:20230816T130000
DTEND;TZID=UTC:20230816T140000
DTSTAMP:20260419T130640
CREATED:20230622T212543Z
LAST-MODIFIED:20240307T151000Z
UID:10013451-1692190800-1692194400@schcontario.ca
SUMMARY:Mindfulness Matters Workshop
DESCRIPTION:Educating caregivers through mindfulness videos and inspirational conversations. \n\n\n\nEligibility: 18-80 year olds \n\n\n\nRegistration Required \n\n\n\nContact Information: \n\n\n\nEmail: cjeyarajahschontario.ca \n\n\n\nPhone: (416) 454-5539
URL:https://schcontario.ca/event/mindfulness-matters-workshop-2/2023-08-16/
CATEGORIES:Caregiver Wellness
END:VEVENT
BEGIN:VEVENT
DTSTART;TZID=UTC:20230823T130000
DTEND;TZID=UTC:20230823T140000
DTSTAMP:20260419T130640
CREATED:20230622T212543Z
LAST-MODIFIED:20240307T151000Z
UID:10013452-1692795600-1692799200@schcontario.ca
SUMMARY:Mindfulness Matters Workshop
DESCRIPTION:Educating caregivers through mindfulness videos and inspirational conversations. \n\n\n\nEligibility: 18-80 year olds \n\n\n\nRegistration Required \n\n\n\nContact Information: \n\n\n\nEmail: cjeyarajahschontario.ca \n\n\n\nPhone: (416) 454-5539
URL:https://schcontario.ca/event/mindfulness-matters-workshop-2/2023-08-23/
CATEGORIES:Caregiver Wellness
END:VEVENT
BEGIN:VEVENT
DTSTART;TZID=UTC:20230830T130000
DTEND;TZID=UTC:20230830T140000
DTSTAMP:20260419T130640
CREATED:20230622T212543Z
LAST-MODIFIED:20240307T151000Z
UID:10013453-1693400400-1693404000@schcontario.ca
SUMMARY:Mindfulness Matters Workshop
DESCRIPTION:Educating caregivers through mindfulness videos and inspirational conversations. \n\n\n\nEligibility: 18-80 year olds \n\n\n\nRegistration Required \n\n\n\nContact Information: \n\n\n\nEmail: cjeyarajahschontario.ca \n\n\n\nPhone: (416) 454-5539
URL:https://schcontario.ca/event/mindfulness-matters-workshop-2/2023-08-30/
CATEGORIES:Caregiver Wellness
END:VEVENT
BEGIN:VEVENT
DTSTART;TZID=UTC:20230906T130000
DTEND;TZID=UTC:20230906T140000
DTSTAMP:20260419T130640
CREATED:20230622T212543Z
LAST-MODIFIED:20240307T151000Z
UID:10013454-1694005200-1694008800@schcontario.ca
SUMMARY:Mindfulness Matters Workshop
DESCRIPTION:Educating caregivers through mindfulness videos and inspirational conversations. \n\n\n\nEligibility: 18-80 year olds \n\n\n\nRegistration Required \n\n\n\nContact Information: \n\n\n\nEmail: cjeyarajahschontario.ca \n\n\n\nPhone: (416) 454-5539
URL:https://schcontario.ca/event/mindfulness-matters-workshop-2/2023-09-06/
CATEGORIES:Caregiver Wellness
END:VEVENT
BEGIN:VEVENT
DTSTART;TZID=UTC:20230913T130000
DTEND;TZID=UTC:20230913T140000
DTSTAMP:20260419T130640
CREATED:20230622T212543Z
LAST-MODIFIED:20240307T151000Z
UID:10013455-1694610000-1694613600@schcontario.ca
SUMMARY:Mindfulness Matters Workshop
DESCRIPTION:Educating caregivers through mindfulness videos and inspirational conversations. \n\n\n\nEligibility: 18-80 year olds \n\n\n\nRegistration Required \n\n\n\nContact Information: \n\n\n\nEmail: cjeyarajahschontario.ca \n\n\n\nPhone: (416) 454-5539
URL:https://schcontario.ca/event/mindfulness-matters-workshop-2/2023-09-13/
CATEGORIES:Caregiver Wellness
END:VEVENT
BEGIN:VEVENT
DTSTART;TZID=UTC:20230919T153000
DTEND;TZID=UTC:20230919T170000
DTSTAMP:20260419T130640
CREATED:20230906T195506Z
LAST-MODIFIED:20230906T210933Z
UID:10013707-1695137400-1695142800@schcontario.ca
SUMMARY:Caregiver Wellness Educational Workshop
DESCRIPTION:Educating caregivers through Wellbeing Workshops and inspirational conversations.  \n\n\n\nEligibility: 18-80 year olds \n\n\n\nRegistration Required! \n\n\n\nContact Information: \n\n\n\nEmail: cjeyarajahschontario.ca \n\n\n\nPhone: (416) 454-5539
URL:https://schcontario.ca/event/caregiver-wellness-educational-workshop-2/
LOCATION:SCHC Active Living Centre\, 3600 Kingston Rd\, Scarborough\, M1M 1R9\, Canada
CATEGORIES:Caregiver Wellness
END:VEVENT
BEGIN:VEVENT
DTSTART;TZID=UTC:20230920T130000
DTEND;TZID=UTC:20230920T140000
DTSTAMP:20260419T130640
CREATED:20230622T212543Z
LAST-MODIFIED:20240307T151000Z
UID:10013456-1695214800-1695218400@schcontario.ca
SUMMARY:Mindfulness Matters Workshop
DESCRIPTION:Educating caregivers through mindfulness videos and inspirational conversations. \n\n\n\nEligibility: 18-80 year olds \n\n\n\nRegistration Required \n\n\n\nContact Information: \n\n\n\nEmail: cjeyarajahschontario.ca \n\n\n\nPhone: (416) 454-5539
URL:https://schcontario.ca/event/mindfulness-matters-workshop-2/2023-09-20/
CATEGORIES:Caregiver Wellness
END:VEVENT
BEGIN:VEVENT
DTSTART;TZID=UTC:20230927T130000
DTEND;TZID=UTC:20230927T140000
DTSTAMP:20260419T130640
CREATED:20230622T212543Z
LAST-MODIFIED:20240307T151000Z
UID:10013457-1695819600-1695823200@schcontario.ca
SUMMARY:Mindfulness Matters Workshop
DESCRIPTION:Educating caregivers through mindfulness videos and inspirational conversations. \n\n\n\nEligibility: 18-80 year olds \n\n\n\nRegistration Required \n\n\n\nContact Information: \n\n\n\nEmail: cjeyarajahschontario.ca \n\n\n\nPhone: (416) 454-5539
URL:https://schcontario.ca/event/mindfulness-matters-workshop-2/2023-09-27/
CATEGORIES:Caregiver Wellness
END:VEVENT
BEGIN:VEVENT
DTSTART;TZID=UTC:20231004T130000
DTEND;TZID=UTC:20231004T140000
DTSTAMP:20260419T130640
CREATED:20230622T212543Z
LAST-MODIFIED:20240307T151000Z
UID:10013458-1696424400-1696428000@schcontario.ca
SUMMARY:Mindfulness Matters Workshop
DESCRIPTION:Educating caregivers through mindfulness videos and inspirational conversations. \n\n\n\nEligibility: 18-80 year olds \n\n\n\nRegistration Required \n\n\n\nContact Information: \n\n\n\nEmail: cjeyarajahschontario.ca \n\n\n\nPhone: (416) 454-5539
URL:https://schcontario.ca/event/mindfulness-matters-workshop-2/2023-10-04/
CATEGORIES:Caregiver Wellness
END:VEVENT
BEGIN:VEVENT
DTSTART;TZID=UTC:20231011T130000
DTEND;TZID=UTC:20231011T140000
DTSTAMP:20260419T130640
CREATED:20230622T212543Z
LAST-MODIFIED:20240307T151000Z
UID:10013459-1697029200-1697032800@schcontario.ca
SUMMARY:Mindfulness Matters Workshop
DESCRIPTION:Educating caregivers through mindfulness videos and inspirational conversations. \n\n\n\nEligibility: 18-80 year olds \n\n\n\nRegistration Required \n\n\n\nContact Information: \n\n\n\nEmail: cjeyarajahschontario.ca \n\n\n\nPhone: (416) 454-5539
URL:https://schcontario.ca/event/mindfulness-matters-workshop-2/2023-10-11/
CATEGORIES:Caregiver Wellness
END:VEVENT
BEGIN:VEVENT
DTSTART;TZID=UTC:20231018T130000
DTEND;TZID=UTC:20231018T140000
DTSTAMP:20260419T130640
CREATED:20230622T212543Z
LAST-MODIFIED:20240307T151000Z
UID:10013460-1697634000-1697637600@schcontario.ca
SUMMARY:Mindfulness Matters Workshop
DESCRIPTION:Educating caregivers through mindfulness videos and inspirational conversations. \n\n\n\nEligibility: 18-80 year olds \n\n\n\nRegistration Required \n\n\n\nContact Information: \n\n\n\nEmail: cjeyarajahschontario.ca \n\n\n\nPhone: (416) 454-5539
URL:https://schcontario.ca/event/mindfulness-matters-workshop-2/2023-10-18/
CATEGORIES:Caregiver Wellness
END:VEVENT
BEGIN:VEVENT
DTSTART;TZID=UTC:20231025T130000
DTEND;TZID=UTC:20231025T140000
DTSTAMP:20260419T130640
CREATED:20230622T212543Z
LAST-MODIFIED:20240307T151000Z
UID:10013461-1698238800-1698242400@schcontario.ca
SUMMARY:Mindfulness Matters Workshop
DESCRIPTION:Educating caregivers through mindfulness videos and inspirational conversations. \n\n\n\nEligibility: 18-80 year olds \n\n\n\nRegistration Required \n\n\n\nContact Information: \n\n\n\nEmail: cjeyarajahschontario.ca \n\n\n\nPhone: (416) 454-5539
URL:https://schcontario.ca/event/mindfulness-matters-workshop-2/2023-10-25/
CATEGORIES:Caregiver Wellness
END:VEVENT
END:VCALENDAR