BEGIN:VCALENDAR
VERSION:2.0
PRODID:-//Scarborough Centre for Healthy Communities - ECPv6.15.20//NONSGML v1.0//EN
CALSCALE:GREGORIAN
METHOD:PUBLISH
X-ORIGINAL-URL:https://schcontario.ca
X-WR-CALDESC:Events for Scarborough Centre for Healthy Communities
REFRESH-INTERVAL;VALUE=DURATION:PT1H
X-Robots-Tag:noindex
X-PUBLISHED-TTL:PT1H
BEGIN:VTIMEZONE
TZID:UTC
BEGIN:STANDARD
TZOFFSETFROM:+0000
TZOFFSETTO:+0000
TZNAME:UTC
DTSTART:20210101T000000
END:STANDARD
END:VTIMEZONE
BEGIN:VTIMEZONE
TZID:UTC
BEGIN:STANDARD
TZOFFSETFROM:+0000
TZOFFSETTO:+0000
TZNAME:UTC
DTSTART:20220101T000000
END:STANDARD
END:VTIMEZONE
BEGIN:VEVENT
DTSTART;TZID=UTC:20221116T130000
DTEND;TZID=UTC:20221116T140000
DTSTAMP:20260419T093701
CREATED:20230622T212543Z
LAST-MODIFIED:20240307T151000Z
UID:10019357-1668603600-1668607200@schcontario.ca
SUMMARY:Mindfulness Matters Workshop
DESCRIPTION:Educating caregivers through mindfulness videos and inspirational conversations. \n\n\n\nEligibility: 18-80 year olds \n\n\n\nRegistration Required \n\n\n\nContact Information: \n\n\n\nEmail: cjeyarajahschontario.ca \n\n\n\nPhone: (416) 454-5539
URL:https://schcontario.ca/event/mindfulness-matters-workshop-2/2022-11-16/
CATEGORIES:Caregiver Wellness
END:VEVENT
BEGIN:VEVENT
DTSTART;TZID=UTC:20221123T130000
DTEND;TZID=UTC:20221123T140000
DTSTAMP:20260419T093701
CREATED:20230622T212543Z
LAST-MODIFIED:20240307T151000Z
UID:10019358-1669208400-1669212000@schcontario.ca
SUMMARY:Mindfulness Matters Workshop
DESCRIPTION:Educating caregivers through mindfulness videos and inspirational conversations. \n\n\n\nEligibility: 18-80 year olds \n\n\n\nRegistration Required \n\n\n\nContact Information: \n\n\n\nEmail: cjeyarajahschontario.ca \n\n\n\nPhone: (416) 454-5539
URL:https://schcontario.ca/event/mindfulness-matters-workshop-2/2022-11-23/
CATEGORIES:Caregiver Wellness
END:VEVENT
BEGIN:VEVENT
DTSTART;TZID=UTC:20221130T130000
DTEND;TZID=UTC:20221130T140000
DTSTAMP:20260419T093701
CREATED:20230622T212543Z
LAST-MODIFIED:20240307T151000Z
UID:10019359-1669813200-1669816800@schcontario.ca
SUMMARY:Mindfulness Matters Workshop
DESCRIPTION:Educating caregivers through mindfulness videos and inspirational conversations. \n\n\n\nEligibility: 18-80 year olds \n\n\n\nRegistration Required \n\n\n\nContact Information: \n\n\n\nEmail: cjeyarajahschontario.ca \n\n\n\nPhone: (416) 454-5539
URL:https://schcontario.ca/event/mindfulness-matters-workshop-2/2022-11-30/
CATEGORIES:Caregiver Wellness
END:VEVENT
BEGIN:VEVENT
DTSTART;TZID=UTC:20221207T130000
DTEND;TZID=UTC:20221207T140000
DTSTAMP:20260419T093701
CREATED:20230622T212543Z
LAST-MODIFIED:20240307T151000Z
UID:10019360-1670418000-1670421600@schcontario.ca
SUMMARY:Mindfulness Matters Workshop
DESCRIPTION:Educating caregivers through mindfulness videos and inspirational conversations. \n\n\n\nEligibility: 18-80 year olds \n\n\n\nRegistration Required \n\n\n\nContact Information: \n\n\n\nEmail: cjeyarajahschontario.ca \n\n\n\nPhone: (416) 454-5539
URL:https://schcontario.ca/event/mindfulness-matters-workshop-2/2022-12-07/
CATEGORIES:Caregiver Wellness
END:VEVENT
BEGIN:VEVENT
DTSTART;TZID=UTC:20221214T130000
DTEND;TZID=UTC:20221214T140000
DTSTAMP:20260419T093701
CREATED:20230622T212543Z
LAST-MODIFIED:20240307T151000Z
UID:10019361-1671022800-1671026400@schcontario.ca
SUMMARY:Mindfulness Matters Workshop
DESCRIPTION:Educating caregivers through mindfulness videos and inspirational conversations. \n\n\n\nEligibility: 18-80 year olds \n\n\n\nRegistration Required \n\n\n\nContact Information: \n\n\n\nEmail: cjeyarajahschontario.ca \n\n\n\nPhone: (416) 454-5539
URL:https://schcontario.ca/event/mindfulness-matters-workshop-2/2022-12-14/
CATEGORIES:Caregiver Wellness
END:VEVENT
BEGIN:VEVENT
DTSTART;TZID=UTC:20221221T130000
DTEND;TZID=UTC:20221221T140000
DTSTAMP:20260419T093701
CREATED:20230622T212543Z
LAST-MODIFIED:20240307T151000Z
UID:10019362-1671627600-1671631200@schcontario.ca
SUMMARY:Mindfulness Matters Workshop
DESCRIPTION:Educating caregivers through mindfulness videos and inspirational conversations. \n\n\n\nEligibility: 18-80 year olds \n\n\n\nRegistration Required \n\n\n\nContact Information: \n\n\n\nEmail: cjeyarajahschontario.ca \n\n\n\nPhone: (416) 454-5539
URL:https://schcontario.ca/event/mindfulness-matters-workshop-2/2022-12-21/
CATEGORIES:Caregiver Wellness
END:VEVENT
BEGIN:VEVENT
DTSTART;TZID=UTC:20221228T130000
DTEND;TZID=UTC:20221228T140000
DTSTAMP:20260419T093701
CREATED:20230622T212543Z
LAST-MODIFIED:20240307T151000Z
UID:10019363-1672232400-1672236000@schcontario.ca
SUMMARY:Mindfulness Matters Workshop
DESCRIPTION:Educating caregivers through mindfulness videos and inspirational conversations. \n\n\n\nEligibility: 18-80 year olds \n\n\n\nRegistration Required \n\n\n\nContact Information: \n\n\n\nEmail: cjeyarajahschontario.ca \n\n\n\nPhone: (416) 454-5539
URL:https://schcontario.ca/event/mindfulness-matters-workshop-2/2022-12-28/
CATEGORIES:Caregiver Wellness
END:VEVENT
BEGIN:VEVENT
DTSTART;TZID=UTC:20230104T130000
DTEND;TZID=UTC:20230104T140000
DTSTAMP:20260419T093701
CREATED:20230622T212543Z
LAST-MODIFIED:20240307T151000Z
UID:10019364-1672837200-1672840800@schcontario.ca
SUMMARY:Mindfulness Matters Workshop
DESCRIPTION:Educating caregivers through mindfulness videos and inspirational conversations. \n\n\n\nEligibility: 18-80 year olds \n\n\n\nRegistration Required \n\n\n\nContact Information: \n\n\n\nEmail: cjeyarajahschontario.ca \n\n\n\nPhone: (416) 454-5539
URL:https://schcontario.ca/event/mindfulness-matters-workshop-2/2023-01-04/
CATEGORIES:Caregiver Wellness
END:VEVENT
BEGIN:VEVENT
DTSTART;TZID=UTC:20230111T130000
DTEND;TZID=UTC:20230111T140000
DTSTAMP:20260419T093701
CREATED:20230622T212543Z
LAST-MODIFIED:20240307T151000Z
UID:10019365-1673442000-1673445600@schcontario.ca
SUMMARY:Mindfulness Matters Workshop
DESCRIPTION:Educating caregivers through mindfulness videos and inspirational conversations. \n\n\n\nEligibility: 18-80 year olds \n\n\n\nRegistration Required \n\n\n\nContact Information: \n\n\n\nEmail: cjeyarajahschontario.ca \n\n\n\nPhone: (416) 454-5539
URL:https://schcontario.ca/event/mindfulness-matters-workshop-2/2023-01-11/
CATEGORIES:Caregiver Wellness
END:VEVENT
BEGIN:VEVENT
DTSTART;TZID=UTC:20230118T130000
DTEND;TZID=UTC:20230118T140000
DTSTAMP:20260419T093701
CREATED:20230622T212543Z
LAST-MODIFIED:20240307T151000Z
UID:10019366-1674046800-1674050400@schcontario.ca
SUMMARY:Mindfulness Matters Workshop
DESCRIPTION:Educating caregivers through mindfulness videos and inspirational conversations. \n\n\n\nEligibility: 18-80 year olds \n\n\n\nRegistration Required \n\n\n\nContact Information: \n\n\n\nEmail: cjeyarajahschontario.ca \n\n\n\nPhone: (416) 454-5539
URL:https://schcontario.ca/event/mindfulness-matters-workshop-2/2023-01-18/
CATEGORIES:Caregiver Wellness
END:VEVENT
BEGIN:VEVENT
DTSTART;TZID=UTC:20230125T130000
DTEND;TZID=UTC:20230125T140000
DTSTAMP:20260419T093701
CREATED:20230622T212543Z
LAST-MODIFIED:20240307T151000Z
UID:10019367-1674651600-1674655200@schcontario.ca
SUMMARY:Mindfulness Matters Workshop
DESCRIPTION:Educating caregivers through mindfulness videos and inspirational conversations. \n\n\n\nEligibility: 18-80 year olds \n\n\n\nRegistration Required \n\n\n\nContact Information: \n\n\n\nEmail: cjeyarajahschontario.ca \n\n\n\nPhone: (416) 454-5539
URL:https://schcontario.ca/event/mindfulness-matters-workshop-2/2023-01-25/
CATEGORIES:Caregiver Wellness
END:VEVENT
BEGIN:VEVENT
DTSTART;TZID=UTC:20230201T130000
DTEND;TZID=UTC:20230201T140000
DTSTAMP:20260419T093701
CREATED:20230622T212543Z
LAST-MODIFIED:20240307T151000Z
UID:10019368-1675256400-1675260000@schcontario.ca
SUMMARY:Mindfulness Matters Workshop
DESCRIPTION:Educating caregivers through mindfulness videos and inspirational conversations. \n\n\n\nEligibility: 18-80 year olds \n\n\n\nRegistration Required \n\n\n\nContact Information: \n\n\n\nEmail: cjeyarajahschontario.ca \n\n\n\nPhone: (416) 454-5539
URL:https://schcontario.ca/event/mindfulness-matters-workshop-2/2023-02-01/
CATEGORIES:Caregiver Wellness
END:VEVENT
BEGIN:VEVENT
DTSTART;TZID=UTC:20230208T130000
DTEND;TZID=UTC:20230208T140000
DTSTAMP:20260419T093701
CREATED:20230622T212543Z
LAST-MODIFIED:20240307T151000Z
UID:10019369-1675861200-1675864800@schcontario.ca
SUMMARY:Mindfulness Matters Workshop
DESCRIPTION:Educating caregivers through mindfulness videos and inspirational conversations. \n\n\n\nEligibility: 18-80 year olds \n\n\n\nRegistration Required \n\n\n\nContact Information: \n\n\n\nEmail: cjeyarajahschontario.ca \n\n\n\nPhone: (416) 454-5539
URL:https://schcontario.ca/event/mindfulness-matters-workshop-2/2023-02-08/
CATEGORIES:Caregiver Wellness
END:VEVENT
BEGIN:VEVENT
DTSTART;TZID=UTC:20230215T130000
DTEND;TZID=UTC:20230215T140000
DTSTAMP:20260419T093701
CREATED:20230622T212543Z
LAST-MODIFIED:20240307T151000Z
UID:10019370-1676466000-1676469600@schcontario.ca
SUMMARY:Mindfulness Matters Workshop
DESCRIPTION:Educating caregivers through mindfulness videos and inspirational conversations. \n\n\n\nEligibility: 18-80 year olds \n\n\n\nRegistration Required \n\n\n\nContact Information: \n\n\n\nEmail: cjeyarajahschontario.ca \n\n\n\nPhone: (416) 454-5539
URL:https://schcontario.ca/event/mindfulness-matters-workshop-2/2023-02-15/
CATEGORIES:Caregiver Wellness
END:VEVENT
BEGIN:VEVENT
DTSTART;TZID=UTC:20230222T130000
DTEND;TZID=UTC:20230222T140000
DTSTAMP:20260419T093701
CREATED:20230622T212543Z
LAST-MODIFIED:20240307T151000Z
UID:10019371-1677070800-1677074400@schcontario.ca
SUMMARY:Mindfulness Matters Workshop
DESCRIPTION:Educating caregivers through mindfulness videos and inspirational conversations. \n\n\n\nEligibility: 18-80 year olds \n\n\n\nRegistration Required \n\n\n\nContact Information: \n\n\n\nEmail: cjeyarajahschontario.ca \n\n\n\nPhone: (416) 454-5539
URL:https://schcontario.ca/event/mindfulness-matters-workshop-2/2023-02-22/
CATEGORIES:Caregiver Wellness
END:VEVENT
BEGIN:VEVENT
DTSTART;TZID=UTC:20230301T130000
DTEND;TZID=UTC:20230301T140000
DTSTAMP:20260419T093701
CREATED:20230622T212543Z
LAST-MODIFIED:20240307T151000Z
UID:10019372-1677675600-1677679200@schcontario.ca
SUMMARY:Mindfulness Matters Workshop
DESCRIPTION:Educating caregivers through mindfulness videos and inspirational conversations. \n\n\n\nEligibility: 18-80 year olds \n\n\n\nRegistration Required \n\n\n\nContact Information: \n\n\n\nEmail: cjeyarajahschontario.ca \n\n\n\nPhone: (416) 454-5539
URL:https://schcontario.ca/event/mindfulness-matters-workshop-2/2023-03-01/
CATEGORIES:Caregiver Wellness
END:VEVENT
BEGIN:VEVENT
DTSTART;TZID=UTC:20230308T130000
DTEND;TZID=UTC:20230308T140000
DTSTAMP:20260419T093701
CREATED:20230622T212543Z
LAST-MODIFIED:20240307T151000Z
UID:10019373-1678280400-1678284000@schcontario.ca
SUMMARY:Mindfulness Matters Workshop
DESCRIPTION:Educating caregivers through mindfulness videos and inspirational conversations. \n\n\n\nEligibility: 18-80 year olds \n\n\n\nRegistration Required \n\n\n\nContact Information: \n\n\n\nEmail: cjeyarajahschontario.ca \n\n\n\nPhone: (416) 454-5539
URL:https://schcontario.ca/event/mindfulness-matters-workshop-2/2023-03-08/
CATEGORIES:Caregiver Wellness
END:VEVENT
BEGIN:VEVENT
DTSTART;TZID=UTC:20230315T130000
DTEND;TZID=UTC:20230315T140000
DTSTAMP:20260419T093701
CREATED:20230622T212543Z
LAST-MODIFIED:20240307T151000Z
UID:10019374-1678885200-1678888800@schcontario.ca
SUMMARY:Mindfulness Matters Workshop
DESCRIPTION:Educating caregivers through mindfulness videos and inspirational conversations. \n\n\n\nEligibility: 18-80 year olds \n\n\n\nRegistration Required \n\n\n\nContact Information: \n\n\n\nEmail: cjeyarajahschontario.ca \n\n\n\nPhone: (416) 454-5539
URL:https://schcontario.ca/event/mindfulness-matters-workshop-2/2023-03-15/
CATEGORIES:Caregiver Wellness
END:VEVENT
BEGIN:VEVENT
DTSTART;TZID=UTC:20230322T130000
DTEND;TZID=UTC:20230322T140000
DTSTAMP:20260419T093701
CREATED:20230622T212543Z
LAST-MODIFIED:20240307T151000Z
UID:10019375-1679490000-1679493600@schcontario.ca
SUMMARY:Mindfulness Matters Workshop
DESCRIPTION:Educating caregivers through mindfulness videos and inspirational conversations. \n\n\n\nEligibility: 18-80 year olds \n\n\n\nRegistration Required \n\n\n\nContact Information: \n\n\n\nEmail: cjeyarajahschontario.ca \n\n\n\nPhone: (416) 454-5539
URL:https://schcontario.ca/event/mindfulness-matters-workshop-2/2023-03-22/
CATEGORIES:Caregiver Wellness
END:VEVENT
BEGIN:VEVENT
DTSTART;TZID=UTC:20230329T130000
DTEND;TZID=UTC:20230329T140000
DTSTAMP:20260419T093701
CREATED:20230622T212543Z
LAST-MODIFIED:20240307T151000Z
UID:10019376-1680094800-1680098400@schcontario.ca
SUMMARY:Mindfulness Matters Workshop
DESCRIPTION:Educating caregivers through mindfulness videos and inspirational conversations. \n\n\n\nEligibility: 18-80 year olds \n\n\n\nRegistration Required \n\n\n\nContact Information: \n\n\n\nEmail: cjeyarajahschontario.ca \n\n\n\nPhone: (416) 454-5539
URL:https://schcontario.ca/event/mindfulness-matters-workshop-2/2023-03-29/
CATEGORIES:Caregiver Wellness
END:VEVENT
BEGIN:VEVENT
DTSTART;TZID=UTC:20230405T130000
DTEND;TZID=UTC:20230405T140000
DTSTAMP:20260419T093701
CREATED:20230622T212543Z
LAST-MODIFIED:20240307T151000Z
UID:10019377-1680699600-1680703200@schcontario.ca
SUMMARY:Mindfulness Matters Workshop
DESCRIPTION:Educating caregivers through mindfulness videos and inspirational conversations. \n\n\n\nEligibility: 18-80 year olds \n\n\n\nRegistration Required \n\n\n\nContact Information: \n\n\n\nEmail: cjeyarajahschontario.ca \n\n\n\nPhone: (416) 454-5539
URL:https://schcontario.ca/event/mindfulness-matters-workshop-2/2023-04-05/
CATEGORIES:Caregiver Wellness
END:VEVENT
BEGIN:VEVENT
DTSTART;TZID=UTC:20230412T130000
DTEND;TZID=UTC:20230412T140000
DTSTAMP:20260419T093701
CREATED:20230622T212543Z
LAST-MODIFIED:20240307T151000Z
UID:10019378-1681304400-1681308000@schcontario.ca
SUMMARY:Mindfulness Matters Workshop
DESCRIPTION:Educating caregivers through mindfulness videos and inspirational conversations. \n\n\n\nEligibility: 18-80 year olds \n\n\n\nRegistration Required \n\n\n\nContact Information: \n\n\n\nEmail: cjeyarajahschontario.ca \n\n\n\nPhone: (416) 454-5539
URL:https://schcontario.ca/event/mindfulness-matters-workshop-2/2023-04-12/
CATEGORIES:Caregiver Wellness
END:VEVENT
BEGIN:VEVENT
DTSTART;TZID=UTC:20230419T130000
DTEND;TZID=UTC:20230419T140000
DTSTAMP:20260419T093701
CREATED:20230622T212543Z
LAST-MODIFIED:20240307T151000Z
UID:10019379-1681909200-1681912800@schcontario.ca
SUMMARY:Mindfulness Matters Workshop
DESCRIPTION:Educating caregivers through mindfulness videos and inspirational conversations. \n\n\n\nEligibility: 18-80 year olds \n\n\n\nRegistration Required \n\n\n\nContact Information: \n\n\n\nEmail: cjeyarajahschontario.ca \n\n\n\nPhone: (416) 454-5539
URL:https://schcontario.ca/event/mindfulness-matters-workshop-2/2023-04-19/
CATEGORIES:Caregiver Wellness
END:VEVENT
BEGIN:VEVENT
DTSTART;TZID=UTC:20230426T130000
DTEND;TZID=UTC:20230426T140000
DTSTAMP:20260419T093701
CREATED:20230622T212543Z
LAST-MODIFIED:20240307T151000Z
UID:10019380-1682514000-1682517600@schcontario.ca
SUMMARY:Mindfulness Matters Workshop
DESCRIPTION:Educating caregivers through mindfulness videos and inspirational conversations. \n\n\n\nEligibility: 18-80 year olds \n\n\n\nRegistration Required \n\n\n\nContact Information: \n\n\n\nEmail: cjeyarajahschontario.ca \n\n\n\nPhone: (416) 454-5539
URL:https://schcontario.ca/event/mindfulness-matters-workshop-2/2023-04-26/
CATEGORIES:Caregiver Wellness
END:VEVENT
BEGIN:VEVENT
DTSTART;TZID=UTC:20230503T130000
DTEND;TZID=UTC:20230503T140000
DTSTAMP:20260419T093701
CREATED:20230622T212543Z
LAST-MODIFIED:20240307T151000Z
UID:10019381-1683118800-1683122400@schcontario.ca
SUMMARY:Mindfulness Matters Workshop
DESCRIPTION:Educating caregivers through mindfulness videos and inspirational conversations. \n\n\n\nEligibility: 18-80 year olds \n\n\n\nRegistration Required \n\n\n\nContact Information: \n\n\n\nEmail: cjeyarajahschontario.ca \n\n\n\nPhone: (416) 454-5539
URL:https://schcontario.ca/event/mindfulness-matters-workshop-2/2023-05-03/
CATEGORIES:Caregiver Wellness
END:VEVENT
BEGIN:VEVENT
DTSTART;TZID=UTC:20230510T130000
DTEND;TZID=UTC:20230510T140000
DTSTAMP:20260419T093701
CREATED:20230622T212543Z
LAST-MODIFIED:20240307T151000Z
UID:10019382-1683723600-1683727200@schcontario.ca
SUMMARY:Mindfulness Matters Workshop
DESCRIPTION:Educating caregivers through mindfulness videos and inspirational conversations. \n\n\n\nEligibility: 18-80 year olds \n\n\n\nRegistration Required \n\n\n\nContact Information: \n\n\n\nEmail: cjeyarajahschontario.ca \n\n\n\nPhone: (416) 454-5539
URL:https://schcontario.ca/event/mindfulness-matters-workshop-2/2023-05-10/
CATEGORIES:Caregiver Wellness
END:VEVENT
BEGIN:VEVENT
DTSTART;TZID=UTC:20230517T130000
DTEND;TZID=UTC:20230517T140000
DTSTAMP:20260419T093701
CREATED:20230622T212543Z
LAST-MODIFIED:20240307T151000Z
UID:10019383-1684328400-1684332000@schcontario.ca
SUMMARY:Mindfulness Matters Workshop
DESCRIPTION:Educating caregivers through mindfulness videos and inspirational conversations. \n\n\n\nEligibility: 18-80 year olds \n\n\n\nRegistration Required \n\n\n\nContact Information: \n\n\n\nEmail: cjeyarajahschontario.ca \n\n\n\nPhone: (416) 454-5539
URL:https://schcontario.ca/event/mindfulness-matters-workshop-2/2023-05-17/
CATEGORIES:Caregiver Wellness
END:VEVENT
BEGIN:VEVENT
DTSTART;TZID=UTC:20230524T130000
DTEND;TZID=UTC:20230524T140000
DTSTAMP:20260419T093701
CREATED:20230622T212543Z
LAST-MODIFIED:20240307T151000Z
UID:10019384-1684933200-1684936800@schcontario.ca
SUMMARY:Mindfulness Matters Workshop
DESCRIPTION:Educating caregivers through mindfulness videos and inspirational conversations. \n\n\n\nEligibility: 18-80 year olds \n\n\n\nRegistration Required \n\n\n\nContact Information: \n\n\n\nEmail: cjeyarajahschontario.ca \n\n\n\nPhone: (416) 454-5539
URL:https://schcontario.ca/event/mindfulness-matters-workshop-2/2023-05-24/
CATEGORIES:Caregiver Wellness
END:VEVENT
BEGIN:VEVENT
DTSTART;TZID=UTC:20230531T130000
DTEND;TZID=UTC:20230531T140000
DTSTAMP:20260419T093701
CREATED:20230622T212543Z
LAST-MODIFIED:20240307T151000Z
UID:10019385-1685538000-1685541600@schcontario.ca
SUMMARY:Mindfulness Matters Workshop
DESCRIPTION:Educating caregivers through mindfulness videos and inspirational conversations. \n\n\n\nEligibility: 18-80 year olds \n\n\n\nRegistration Required \n\n\n\nContact Information: \n\n\n\nEmail: cjeyarajahschontario.ca \n\n\n\nPhone: (416) 454-5539
URL:https://schcontario.ca/event/mindfulness-matters-workshop-2/2023-05-31/
CATEGORIES:Caregiver Wellness
END:VEVENT
BEGIN:VEVENT
DTSTART;TZID=UTC:20230607T130000
DTEND;TZID=UTC:20230607T133000
DTSTAMP:20260419T093701
CREATED:20230619T214313Z
LAST-MODIFIED:20230619T214314Z
UID:10013324-1686142800-1686144600@schcontario.ca
SUMMARY:Mindfulness Matters Workshop
DESCRIPTION:Online – Zoom  \n\n\n\nEducating Caregivers through mindfulness videos and inspirational conversations  \n\n\n\nEligibility:  18 -80 years \n\n\n\nRegistration required  \n\n\n\nContact: cjeyarajah@schcontario.ca    \n\n\n\n              (416) 454-5539
URL:https://schcontario.ca/event/mindfulness-matters-workshop/
CATEGORIES:Caregiver Wellness
ORGANIZER;CN="Caregiver Wellness":MAILTO:caregiverwellness@schcontario.ca 
END:VEVENT
END:VCALENDAR